Workbook

Sheet Creditors (Taj)
K1: Замимаи 2 ба Барномаи қарзгирии давлатии Ҷумҳурии Тоҷикистон барои солҳои 2019– 2021
A2: Тақсимоти Барномаи қарзгирии берунаи давлатии Ҷумҳурии Тоҷикистон аз рӯи донорҳо | O2: 65.73
M3: (млн доллари ИМА)
A4: № Т/Т | B4: № лоиҳа | C4: Номгўи лоиҳаҳо аз рўи қарздиҳандаҳо | D4: Номгўи қарздиҳандаҳо | E4: Маблағи қарз бо асъори баимзорасида | G4: Маблағи қарз бо доллари ШМА тибќи ҳолати то 01.06.с.18. | H4: Истифода шудааст то 01.01.2018 | I4: Пешбинии истифо-дабарии қарз дар соли 2018 | J4: Пешбинии истифодабарии қарз барои солҳои | M4: Субъектҳои Љумҳурии Тољикистон, ки қарзҳоро истифода мебаранд | N4: Сектор | O4: знак для сумма Итого | P4: для количества кредитов | R4: Ожидаемое использо-вание в 2013 году
J5: 2019 | K5: 2020 | L5: 2021 | P5: действующие | Q5: новые
A6: Бонки Умумиҷаҳонӣ | G6: 282.85412 | H6: 18.624718 | I6: 13.727647 | J6: 46.794573 | K6: 44.721793 | L6: 43.828711
A7: Лоиҳаҳои амалкунанда
A8: 1 | B8: 5593-TJ | C8: Лоиҳаи рушди роҳҳои минтақавӣ дар Осиёи Марказӣ, таҷдиди роҳи автомобилгарди Хуҷанд-Исфара | D8: Бонки Умумиҷаҳонӣ | E8: 26.5 | F8: Ҳуқуқҳои махсуси қарзгирӣ | G8: 37.566665 | H8: 12.774831 | I8: 11.291834 | J8: 8 | K8: 5.5 | L8: 0 | M8: Вазорати нақлиёт | N8: Соҳаи нақлиёт ва коммуникатсия | O8: 0 | P8: 1 | Q8: 0
A9: 2 | B9: 5702-TJ | C9: Лоиҳаи рушди маълумоти олии Тоҷикистон | D9: Бонки Умумиҷаҳонӣ | E9: 6 | F9: Ҳуқуқҳои махсуси қарзгирӣ | G9: 8.50566 | H9: 0 | I9: 0 | J9: 0 | K9: 0 | L9: 0 | M9: Вазорати маориф ва илм | N9: Соҳаи маориф | O9: 0 | P9: 1 | Q9: 0
A10: 3 | B10: 5697-TJ | C10: Маблағгузории иловагии лоиҳаи дуюми таъмини шуғли аҳолӣ | D10: Бонки Умумиҷаҳонӣ | E10: 4.7 | F10: Ҳуқуқҳои махсуси қарзгирӣ | G10: 6.662767 | H10: 0 | I10: 0 | J10: 4.541 | K10: 0.039 | L10: 0 | M10: Агентии беҳдошти замин ва обёрии назди Ҳукумати Ҷумҳурии Тоҷикистон | N10: Соҳаи кишоварзӣ ва обёрӣ | O10: 0 | P10: 1 | Q10: 0
A11: 4 | B11: 5666-TJ | C11: Маблағгузории иловагии лоиҳаи рушди хизматрасонии тиббӣ | D11: Бонки Умумиҷаҳонӣ | E11: 4 | F11: Ҳуқуқҳои махсуси қарзгирӣ | G11: 5.67044 | H11: 2.9961635 | I11: 0.05787646 | J11: 2.6164 | K11: 0 | L11: 0 | M11: Вазорати тандурустӣ ва ҳифзи иҷтимоии аҳолӣ | N11: #N/A | O11: 0 | P11: 1 | Q11: 0
A12: 5 | B12: 5709-TJ | C12: Маблағгузории иловагии лоиҳаи обтаъминкунии шаҳри Душанбе | D12: Бонки Умумиҷаҳонӣ | E12: 4 | F12: Ҳуқуқҳои махсуси қарзгирӣ | G12: 5.67044 | H12: 0 | I12: 0 | J12: 5.231 | K12: 0 | L12: 0 | M12: Мақомоти иҷроияи ҳокимияти давлатии шаҳри Душанбе | N12: Соҳаи хоҷагии манзилию коммуналӣ | O12: 0 | P12: 1 | Q12: 0
A13: 6 | B13: 56310-IDA | C13: Лоиҳаи мукаммалгардонии идоракунии молияи давлатӣ, марҳилаи 2 | D13: Бонки Умумиҷаҳонӣ | E13: 4 | F13: Ҳуқуқҳои махсуси қарзгирӣ | G13: 5.67044 | H13: 0 | I13: 0 | J13: 1.675908 | K13: 3.539125 | L13: 0.284967 | M13: Вазорати молия | N13: Соҳаи идоракунии давлатӣ | O13: 0 | P13: 1 | Q13: 0
A14: 7 | B14: 5742-TJ | C14: Барномаи мутобиқгардонӣ ба тағйирёбии иқлим ва кам кардани таъсири он ба ҳавзаи баҳри Арал | D14: Бонки Умумиҷаҳонӣ | E14: 6.4 | F14: Ҳуқуқҳои махсуси қарзгирӣ | G14: 9.072704 | H14: 2.8537237 | I14: 2.3779364 | J14: 1.930265 | K14: 1.910779 | L14: 0.01 | M14: Вазорати молия | N14: Соҳаи кишоварзӣ ва обёрӣ | O14: 0 | P14: 1 | Q14: 0
A15: 8 | B15: 6089-TJ | C15: Мустаҳкам намудани инфрасохтори муҳим ҷиҳати таъмини устуворӣ зидди хатарҳои табиӣ | D15: Бонки Умумиҷаҳонӣ | E15: 25 | F15: Доллари Иёлоти Муттаҳидаи Америка | G15: 25 | H15: 0 | I15: 0 | J15: 2 | K15: 3.199556 | L15: 5.00041 | M15: Дигарҳо | N15: Соҳаи кишоварзӣ ва обёрӣ | O15: 0 | P15: 1 | Q15: 0
A16: 9 | B16: 6025-TJ "B" | C16: Лоиҳаи таҷдиди Неругоҳи барқи обии Норак, марҳилаи 1 | D16: Бонки Умумиҷаҳонӣ | E16: 100 | F16: Доллари Иёлоти Муттаҳидаи Америка | G16: 100 | H16: 0 | I16: 0 | J16: 10 | K16: 19 | L16: 25 | M16: Ширкати саҳомии холдингии кушодаи "Барқи Тоҷик" | N16: Соҳаи энергетика ва саноат | O16: 0 | P16: 1 | Q16: 0
A17: 10 | B17: 6024-TJ "A" | D17: Бонки Умумиҷаҳонӣ | E17: 69.135 | F17: Доллари Иёлоти Муттаҳидаи Америка | G17: 69.135 | H17: 0 | I17: 0 | J17: 10 | K17: 9 | L17: 10 | M17: Ширкати саҳомии холдингии кушодаи "Барқи Тоҷик" | N17: Соҳаи энергетика ва саноат | O17: 0 | P17: 1 | Q17: 0
A18: 11 | B18: 6175-TJ | C18: Мустаҳкамсозии системаи ҳифзи иҷтимоӣ (маблағгузории иловагӣ) | D18: Бонки Умумиҷаҳонӣ | E18: 0.9 | F18: Доллари Иёлоти Муттаҳидаи Америка | G18: 0.9 | H18: 0 | I18: 0 | J18: 0.6 | K18: 0 | L18: 0 | M18: Вазорати тандурустӣ ва ҳифзи иҷтимоии аҳолӣ | N18: Суғуртаи иҷтимоӣ ва ҳифзи иҷтимоӣ | O18: 0 | P18: 0 | Q18: 1
A19: 12 | B19: H679-TJ | C19: Лоиҳаи мукаммалсозии хизматрасонии гидрометеорологӣ дар Ҷумҳурии Тоҷикистон | D19: Бонки Умумиҷаҳонӣ | E19: 1.5 | F19: Доллари Иёлоти Муттаҳидаи Америка | G19: 1.5 | H19: 0 | I19: 0 | J19: 0.2 | K19: 0.5 | L19: 0.8 | M19: Муассисаи давлатии "Обуҳавошиносии Ҷумҳурии Тоҷикистон" | N19: Соҳаи хоҷагии манзилию коммуналӣ | O19: 0 | P19: 0 | Q19: 1
A20: 13 | B20: 6167-TJ | C20: Лоиҳаи тиҷоратикунонии соҳаи кишоварзӣ | D20: Бонки Умумиҷаҳонӣ | E20: 7.5 | F20: Доллари Иёлоти Муттаҳидаи Америка | G20: 7.5 | H20: 0 | I20: 0 | J20: 0 | K20: 2.033333 | L20: 2.733334 | M20: Вазорати молия | N20: Соҳаи кишоварзӣ ва обёрӣ | O20: 0 | P20: 0 | Q20: 1
O21: 0
A22: Ҳамагӣ лоиҳаҳои амалкунанда | G22: 282.85412 | H22: 18.624718 | I22: 13.727647 | J22: 46.794573 | K22: 44.721793 | L22: 43.828711 | O22: 0 | P22: 10 | Q22: 3 | R22: 0
B23: Ҳамагӣ | C23: Бонки Умумиҷаҳонӣ | G23: 282.85412 | H23: 18.624718 | I23: 13.727647 | J23: 46.794573 | K23: 44.721793 | L23: 43.828711
O24: 0
A25: Бонки Осиёии Рушд | G25: 116.40421 | H25: 32.969527 | I25: 13.025492 | J25: 17.266512 | K25: 26.745456 | L25: 26.558895
A26: Лоиҳаҳои амалкунанда | O26: 0
A27: 14 | B27: 3309-TAJ(SF) | C27: Лоиҳаи тақвияти иштироки бахши хусусӣ дар таҳсилоти техникӣ ва касбӣ | D27: Бонки Осиёгии Рушд | E27: 10.633 | F27: Ҳуқуқҳои махсуси қарзгирӣ | G27: 15.073447 | H27: 0.85812064 | I27: 0 | J27: 2.9856 | K27: 4.88 | L27: 6.5114 | M27: Вазорати меҳнат, муҳоҷират ва шуғли аҳолӣ | N27: Соҳаи маориф | O27: 0 | P27: 1 | Q27: 0
A28: 15 | B28: 3451 TAJ(SF) | C28: Лоиҳаи ҳИМОМ (ЦАРЭС) оид ба беҳдошти коридорҳои 2, 5 ва 6, марҳилаи 1 (таҷдиди роҳи Душанбе - Қўрғонтеппа) | D28: Бонки Осиёгии Рушд | E28: 35.289 | F28: Ҳуқуқҳои махсуси қарзгирӣ | G28: 50.026039 | H28: 0.47948762 | I28: 5.9156879 | J28: 9.7809123 | K28: 17.802456 | L28: 16.047495 | M28: Вазорати нақлиёт | N28: Соҳаи нақлиёт ва коммуникатсия | O28: 0 | P28: 1 | Q28: 0
A29: 16 | B29: 3434-TAJ(SF) | C29: Лоиҳаи идоракунии захираҳои обии ҳавзаи дарёи Панҷ | D29: Бонки Осиёгии Рушд | E29: 13.758 | F29: Ҳуқуқҳои махсуси қарзгирӣ | G29: 19.503478 | H29: 0.01821391 | I29: 6.9222645 | J29: 4.5 | K29: 4.063 | L29: 4 | M29: Агентии беҳдошти замин ва обёрии назди Ҳукумати Ҷумҳурии Тоҷикистон | N29: Соҳаи кишоварзӣ ва обёрӣ | O29: 0 | P29: 1 | Q29: 0
A30: 17 | B30: 3513-TAJ(SF) | C30: Барномаи рушди фазои сармоягузорӣ, зербарномаи 2 | D30: Бонки Осиёгии Рушд | E30: 22.433 | F30: Ҳуқуқҳои махсуси қарзгирӣ | G30: 31.801245 | H30: 31.613705 | I30: 0.1875399 | J30: 0 | K30: 0 | L30: 0 | M30: Вазорати молия | N30: Соҳаи идоракунии давлатӣ | O30: 0 | P30: 1 | Q30: 0
O31: 0
A32: Ҳамагӣ, лоиҳаҳои амалкунанда | G32: 116.40421 | H32: 32.969527 | I32: 13.025492 | J32: 17.266512 | K32: 26.745456 | L32: 26.558895 | O32: 0 | P32: 4
B33: Ҳамагӣ | C33: Бонки Осиёии Рушд | G33: 116.40421 | H33: 32.969527 | I33: 13.025492 | J33: 17.266512 | K33: 26.745456 | L33: 26.558895
O34: 0
A35: Бонки Исломии Рушд | G35: 846.41396 | H35: 40.35103 | I35: 32.303013 | J35: 19.46847 | K35: 18.984 | L35: 35.784
A36: Лоиҳаҳои амалкунанда | O36: 0
A37: 18 | B37: TAD-0043 | C37: Лоиҳаи сохтмони мактабҳои миёна (марҳилаи 3) | D37: Бонки Исломии Рушд | E37: 11.34 | F37: Динори исломӣ | G37: 16.075697 | H37: 15.791316 | I37: 0.28438106 | J37: 0 | K37: 0 | L37: 0 | M37: Вазорати маориф ва илм | N37: Соҳаи маориф | O37: 0 | P37: 1 | Q37: 0
A38: 19 | B38: TAD035 | C38: Лоињаи сохтмони роҳи мошингарди Кӯлоб-Қалъаихумб, Шӯрообод-Шоҳон | D38: Бонки Исломии Рушд | E38: 13.22 | F38: Динори исломӣ | G38: 18.740804 | H38: 18.230065 | I38: 0.51073914 | J38: 0 | K38: 0 | L38: 0 | M38: Вазорати нақлиёт | N38: Соҳаи нақлиёт ва коммуникатсия | O38: 0 | P38: 1 | Q38: 0
A39: 20 | B39: TAD-0048-49 | C39: Барномаҳо оид ба таҳсилоти касбӣ ҷиҳати паст намудани сатҳи камбизоатӣ | D39: Бонки Исломии Рушд | E39: 8.44 | F39: Динори исломӣ | G39: 11.964628 | H39: 2.3310007 | I39: 9.6336277 | J39: 0 | K39: 0 | L39: 0 | M39: Вазорати маориф ва илм | N39: Соҳаи маориф | O39: 0 | P39: 1 | Q39: 0
A40: 21 | B40: TAD-0051&0052 | C40: Лоиҳаи обёрии заминҳои водии Данғара (марҳилаи 3) | D40: Бонки Исломии Рушд | E40: 17.46 | F40: Динори исломӣ | G40: 26.76 | H40: 0.78074408 | I40: 13.743786 | J40: 12.23547 | K40: 0 | L40: 0 | M40: Агентии беҳдошти замин ва обёрии назди Ҳукумати Ҷумҳурии Тоҷикистон | N40: Соҳаи кишоварзӣ ва обёрӣ | O40: 0 | P40: 1 | Q40: 0
...

Sheet Sectors (Taj)
K2: Замимаи 4 ба Барномаи қарзгирии давлатии Ҷумҳурии Тоҷикистон барои солҳои 2019– 2021
B3: Тақсимоти Барномаи қарзгирии берунаи давлатии Ҷумҳурии Тоҷикистон аз рӯи соҳаҳо
M4: (млн доллари ИМА)
A5: № Т/Т | B5: № лоиҳа | C5: Номгўи лоиҳаҳо аз рўи қарздиҳандаҳо | D5: Номгўи қарзди-ҳандаҳо | E5: Маблағи қарз бо асъори баимзорасида | G5: Маблағи қарз бо доллари ШМА тибќи ҳолати то 01.06.18. | H5: Истифода шудааст то 01.01.2018 | I5: Пешбинии истифода-барии қарз дар соли 2018 | J5: Пешбинии истифодабарии қарз барои солҳои | M5: Субъектҳои Љумҳурии Тољикистон, ки қарзҳоро истифода мебаранд | N5: Сектор | O5: знак для сумма Итого | P5: для количества кредитов
J6: 2019 | K6: 2020 | L6: 2021 | P6: действующие | Q6: новые
A7: Соҳаи кишоварзӣ ва обёрӣ | G7: 340.21813 | H7: 5.2493416 | I7: 25.565009 | J7: 30.065035 | K7: 17.558868 | L7: 22.953744
A8: Лоиҳаҳои амалкунанда
A9: 1 | B9: TAD-0051&0052 | C9: Лоиҳаи обёрии заминҳои водии Данғара (марњилаи 3) | D9: Бонки Исломии Рушд | E9: 17.46 | F9: Динори исломӣ | G9: 26.76 | H9: 0.78074408 | I9: 13.743786 | J9: 12.23547 | K9: 0 | L9: 0 | M9: Агентии беҳдошти замин ва обёрии назди Ҳукумати Ҷумҳурии Тоҷикистон | N9: Соҳаи кишоварзӣ ва обёрӣ | O9: 0 | P9: 1 | Q9: 0
A10: 2 | B10: 5697-TJ | C10: Маблағгузории иловагии лоиҳаи дуюми таъмини шуғли аҳолӣ | D10: Бонки Умумиҷаҳонӣ | E10: 4.7 | F10: Ҳуқуқҳои махсуси қарзгирӣ | G10: 6.662767 | H10: 0 | I10: 0 | J10: 4.541 | K10: 0.039 | L10: 0 | M10: Агентии беҳдошти замин ва обёрии назди Ҳукумати Ҷумҳурии Тоҷикистон | N10: Соҳаи кишоварзӣ ва обёрӣ | O10: 0 | P10: 1 | Q10: 0
A11: 3 | B11: 5742-TJ | C11: Барномаи мутобиқгардонӣ ба тағйирёбии иқлим ва кам кардани таъсири он ба ҳавзаи баҳри Арал | D11: Бонки Умумиҷаҳонӣ | E11: 6.4 | F11: Ҳуқуқҳои махсуси қарзгирӣ | G11: 9.072704 | H11: 2.8537237 | I11: 2.3779364 | J11: 1.930265 | K11: 1.910779 | L11: 0.01 | M11: Вазорати молия | N11: Соҳаи кишоварзӣ ва обёрӣ | O11: 0 | P11: 1 | Q11: 0
A12: 4 | B12: 2000001439 | C12: Лоиҳаи рушди чорводорӣ ва чарогоҳҳо, марҳилаи 2 | D12: Фонди Байналмилалии Рушди Кишоварзӣ | E12: 6.2 | F12: Ҳуқуқҳои махсуси қарзгирӣ | G12: 8.789182 | H12: 1.59666 | I12: 2.521022 | J12: 2.6083 | K12: 2.0632 | L12: 0 | M12: Вазорати кишоварзӣ | N12: Соҳаи кишоварзӣ ва обёрӣ | O12: 0 | P12: 1 | Q12: 0
A13: 5 | B13: 6089-TJ | C13: Мустаҳкам намудани инфрасохтори муҳим ҷиҳати таъмини устуворӣ зидди хатарҳои табиӣ | D13: Бонки Умумиҷаҳонӣ | E13: 25 | F13: Доллари Иёлоти Муттаҳидаи Америка | G13: 25 | H13: 0 | I13: 0 | J13: 2 | K13: 3.199556 | L13: 5.00041 | M13: Вазорати кишоварзӣ | N13: Соҳаи кишоварзӣ ва обёрӣ | O13: 0 | P13: 1 | Q13: 0
A14: 6 | B14: 3434-TAJ(SF) | C14: Лоиҳаи идоракунии захираҳои обии ҳавзаи дарёи Панҷ | D14: Бонки Осиёгии Рушд | E14: 13.758 | F14: Ҳуқуқҳои махсуси қарзгирӣ | G14: 19.503478 | H14: 0.01821391 | I14: 6.9222645 | J14: 4.5 | K14: 4.063 | L14: 4 | M14: Агентии беҳдошти замин ва обёрии назди Ҳукумати Ҷумҳурии Тоҷикистон | N14: Соҳаи кишоварзӣ ва обёрӣ | O14: 0 | P14: 1 | Q14: 0
A15: 7 | B15: 2000002143 | C15: Дастгирии соҳаи кишоварзӣ дар рушди ҷомеа | D15: Фонди Байналмилалии Рушди Кишоварзӣ | E15: 15.33 | F15: Доллари Иёлоти Муттаҳидаи Америка | G15: 15.33 | H15: 0 | I15: 0 | J15: 2.25 | K15: 3.95 | L15: 4.11 | M15: Вазорати кишоварзӣ | N15: Соҳаи кишоварзӣ ва обёрӣ | O15: 0 | P15: 1 | Q15: 0
A16: 8 | B16: 6167-TJ | C16: Лоиҳаи тиҷоратикунонии соҳаи кишоварзӣ | D16: Бонки Умумиҷаҳонӣ | E16: 7.5 | F16: Доллари Иёлоти Муттаҳидаи Америка | G16: 7.5 | H16: 0 | I16: 0 | J16: 0 | K16: 2.033333 | L16: 2.733334 | M16: Вазорати молия | N16: Соҳаи кишоварзӣ ва обёрӣ | O16: 0 | P16: 0 | Q16: 1
A18: Ҳамагӣ лоиҳаҳои амалкунанда | G18: 118.61813 | H18: 5.2493416 | I18: 25.565009 | J18: 30.065035 | K18: 17.258868 | L18: 15.853744
A19: Лоиҳаҳои банақшагирифташуда
A20: 9 | C20: Барқарорсозии системаҳои ирригатсионӣ | D20: Бонки Исломии Рушд | E20: 0 | F20: Динори исломӣ | G20: 3.3 | H20: 0 | I20: 0 | J20: 0 | K20: 0 | L20: 0 | M20: Агентии беҳдошти замин ва обёрии назди Ҳукумати Ҷумҳурии Тоҷикистон | N20: Соҳаи кишоварзӣ ва обёрӣ | O20: 0 | P20: 0 | Q20: 1
A21: 10 | C21: Лоиҳа оид ба рушди захираҳои обӣ | D21: Дигарҳо | E21: 5 | F21: Доллари Иёлоти Муттаҳидаи Америка | G21: 5 | H21: 0 | I21: 0 | J21: 0 | K21: 0 | L21: 0 | M21: Агентии беҳдошти замин ва обёрии назди Ҳукумати Ҷумҳурии Тоҷикистон | N21: Соҳаи кишоварзӣ ва обёрӣ | O21: 0 | P21: 0 | Q21: 1
A22: 11 | C22: Беҳдошти инфрасохтори обёрӣ дар вилояти Хатлон | D22: Бонки Исломии Рушд | E22: 23 | F22: Доллари Иёлоти Муттаҳидаи Америка | G22: 23 | H22: 0 | I22: 0 | J22: 0 | K22: 0 | L22: 0 | M22: Агентии беҳдошти замин ва обёрии назди Ҳукумати Ҷумҳурии Тоҷикистон | N22: Соҳаи кишоварзӣ ва обёрӣ | O22: 0 | P22: 0 | Q22: 1
A23: 12 | C23: Механизатсиякунонии кишоварӣ | D23: Бонки Исломии Рушд | E23: 20 | F23: Доллари Иёлоти Муттаҳидаи Америка | G23: 20 | H23: 0 | I23: 0 | J23: 0 | K23: 0 | L23: 0 | M23: Вазорати кишоварзӣ | N23: Соҳаи кишоварзӣ ва обёрӣ | O23: 0 | P23: 0 | Q23: 1
A24: 13 | C24: Азхудкунӣ ва обёрии заминҳоии водии Данғара, марҳилаи 4 | D24: Бонки Исломии Рушд | E24: 48 | F24: Доллари Иёлоти Муттаҳидаи Америка | G24: 48 | H24: 0 | I24: 0 | J24: 0 | K24: 0 | L24: 0 | M24: Вазорати кишоварзӣ | N24: Соҳаи кишоварзӣ ва обёрӣ | O24: 0 | P24: 0 | Q24: 1
A25: 14 | C25: Лоиҳаи беҳтаргардонии амнияти озуқаворӣ таввасути технологияҳои устувори иқлимӣ | D25: Дигарҳо | E25: 5 | F25: Доллари Иёлоти Муттаҳидаи Америка | G25: 5 | H25: 0 | I25: 0 | J25: 0 | K25: 0 | L25: 0 | M25: Дигарҳо | N25: Соҳаи кишоварзӣ ва обёрӣ | O25: 0 | P25: 0 | Q25: 1
A26: 15 | C26: Барқарорсозии фаврии воситаҳои соҳилмустаҳкамкунӣ дар Хатлон | D26: Бонки Исломии Рушд | E26: 13.5 | F26: Доллари Иёлоти Муттаҳидаи Америка | G26: 13.5 | H26: 0 | I26: 0 | J26: 0 | K26: 0.05 | L26: 2 | M26: Агентии беҳдошти замин ва обёрии назди Ҳукумати Ҷумҳурии Тоҷикистон | N26: Соҳаи кишоварзӣ ва обёрӣ | O26: 0 | P26: 0 | Q26: 1
A27: 16 | C27: Беҳтар намудани идоракунии захираҳои обӣ дар вилояти Хатлон | D27: Бонки Исломии Рушд | E27: 60 | F27: Доллари Иёлоти Муттаҳидаи Америка | G27: 60 | H27: 0 | I27: 0 | J27: 0 | K27: 0.1 | L27: 3 | M27: Агентии беҳдошти замин ва обёрии назди Ҳукумати Ҷумҳурии Тоҷикистон | N27: Соҳаи кишоварзӣ ва обёрӣ | O27: 0 | P27: 0 | Q27: 1
A28: 17 | C28: Лоиҳаи беҳтарсозии инфрасохтори обёрӣ дар ноҳияҳои Қумсангир, Носири Хусрав, Панҷ, Хуросон, Шаҳритус, Восеъ ва Ёвони в.Хатлон | D28: Бонки Исломии Рушд | E28: 23.8 | F28: Доллари Иёлоти Муттаҳидаи Америка | G28: 23.8 | H28: 0 | I28: 0 | J28: 0 | K28: 0.05 | L28: 0.1 | M28: Агентии беҳдошти замин ва обёрии назди Ҳукумати Ҷумҳурии Тоҷикистон | N28: Соҳаи кишоварзӣ ва обёрӣ | O28: 0 | P28: 0 | Q28: 1
A29: 18 | C29: Лоиҳаи обёрӣ | D29: Дигарҳо | E29: 20 | F29: Доллари Иёлоти Муттаҳидаи Америка | G29: 20 | H29: 0 | I29: 0 | J29: 0 | K29: 0.1 | L29: 2 | M29: Агентии беҳдошти замин ва обёрии назди Ҳукумати Ҷумҳурии Тоҷикистон | N29: Соҳаи кишоварзӣ ва обёрӣ | O29: 0 | P29: 0 | Q29: 1
O30: 0
A31: Ҳамагӣ лоиҳаҳои банақшагирифташуда | G31: 221.6 | H31: 0 | I31: 0 | J31: 0 | K31: 0.3 | L31: 7.1 | O31: 0
B32: Ҳамагӣ | C32: Соҳаи кишоварзӣ ва обёрӣ | G32: 340.21813 | H32: 5.2493416 | I32: 25.565009 | J32: 30.065035 | K32: 17.558868 | L32: 22.953744 | P32: 7 | Q32: 10
O33: 0
A34: Соҳаи тандурустӣ | G34: 63.86044 | H34: 2.9961635 | I34: 0.05787646 | J34: 2.6164 | K34: 0.7 | L34: 2.2 | O34: 0
A35: Лоиҳаҳои амалкунанда | O35: 0
A36: 19 | B36: 5666-TJ | C36: Маблағгузории иловагии лоиҳаи рушди хизматрасонии тиббӣ | D36: Бонки Умумиҷаҳонӣ | E36: 4 | F36: Ҳуқуқҳои махсуси қарзгирӣ | G36: 5.67044 | H36: 2.9961635 | I36: 0.05787646 | J36: 2.6164 | K36: 0 | L36: 0 | M36: Вазорати тандурустӣ ва ҳифзи иҷтимоии аҳолӣ | N36: Соҳаи тандурустӣ | O36: 0 | P36: 1 | Q36: 0
A38: Ҳамагӣ лоиҳаҳои амалкунанда | G38: 5.67044 | H38: 2.9961635 | I38: 0.05787646 | J38: 2.6164 | K38: 0 | L38: 0 | O38: 0 | P38: 1
A39: Лоиҳаҳои банақшагирифташуда | O39: 0
A40: 20 | C40: Сохтмони беморхонаи касалињои сирояткунанда дар шаҳри Душанбе | D40: Бонки Исломии Рушд | E40: 6 | F40: Динори исломӣ | G40: 8 | H40: 0 | I40: 0 | J40: 0 | K40: 0 | L40: 0 | M40: Мақомоти иҷроияи ҳокимияти давлатии шаҳри Душанбе | N40: Соҳаи тандурустӣ | O40: 0 | P40: 0 | Q40: 1
A41: 21 | C41: Лоиҳаи сохтмони озмоишгоҳи тиббии ҷумҳуриявӣ | D41: Бонки Исломии Рушд | E41: 8 | F41: Доллари Иёлоти Муттаҳидаи Америка | G41: 8 | H41: 0 | I41: 0 | J41: 0 | K41: 0 | L41: 0 | M41: Вазорати тандурустӣ ва ҳифзи иҷтимоии аҳолӣ | N41: Соҳаи тандурустӣ | O41: 0 | P41: 0 | Q41: 1
A42: 22 | C42: Сохтмони ташхисгоҳи замонавӣ дар ш. Душанбе барои назорати сифати дорувориҳо, ғизои кӯдакон, BATS ва маҳсулоти косметикии воридшаванда | D42: Бонки Исломии Рушд | E42: 20 | F42: Доллари Иёлоти Муттаҳидаи Америка | G42: 20 | H42: 0 | I42: 0 | J42: 0 | K42: 0 | L42: 0 | M42: Вазорати тандурустӣ ва ҳифзи иҷтимоии аҳолӣ | N42: Соҳаи тандурустӣ | O42: 0 | P42: 0 | Q42: 1
A43: 23 | C43: Лоиҳаи беҳтар намудани хизматрасонӣ ба модару кӯдак дар вилояти Хатлон | D43: Бонки Исломии Рушд | E43: 22.19 | F43: Доллари Иёлоти Муттаҳидаи Америка | G43: 22.19 | H43: 0 | I43: 0 | J43: 0 | K43: 0.7 | L43: 2.2 | M43: Вазорати тандурустӣ ва ҳифзи иҷтимоии аҳолӣ | N43: Соҳаи тандурустӣ | O43: 0 | P43: 0 | Q43: 1
...

Sheet Agregated Creditors (Taj)
J1: Замимаи 1 ба Барномаи қарзгирии берунаи давлатии Ҷумҳурии Тоҷикистон барои солҳои 2019– 2021
A2: Тақсимоти Барномаи қарзгирии берунаи давлатии Ҷумҳурии Тоҷикистон аз рӯи донорҳо
K4: млн доллари ИМА
A5: № Т/Т | B5: № лоиҳа | C5: Номгӯи қарздиҳандаҳо | D5: Шумораи лоиҳаҳо | G5: Маблағи қарз бо доллари ШМА тибќи ҳолати то 01.06.18 | H5: Истифода шудааст то 01.01.2018 | I5: Пешбинии истифо-дабарии қарз дар соли 2018 | J5: Пешбинии истифодабарии қарз барои солҳои | O5: Ожидаемое использо-вание в 2013 году
D6: Амалкунанда | E6: Банақшагириф-ташуда | F6: Ҳамагӣ | J6: 2019 | K6: 2020 | L6: 2021
A8: 1 | B8: 0 | C8: Бонки Умумиҷаҳонӣ | D8: 13 | E8: 0 | F8: 13 | G8: 282.85412 | H8: 18.624718 | I8: 13.727647 | J8: 46.794573 | K8: 44.721793 | L8: 43.828711
A9: 2 | B9: 0 | C9: Бонки Осиёии Рушд | D9: 4 | E9: 0 | F9: 4 | G9: 116.40421 | H9: 32.969527 | I9: 13.025492 | J9: 17.266512 | K9: 26.745456 | L9: 26.558895
A10: 3 | B10: 0 | C10: Бонки Исломии Рушд | D10: 7 | E10: 24 | F10: 31 | G10: 846.41396 | H10: 40.35103 | I10: 32.303013 | J10: 19.46847 | K10: 18.984 | L10: 35.784
A11: 4 | B11: 0 | C11: Фонди Саудии Рушд | D11: 4 | E11: 6 | F11: 10 | G11: 347.09663 | H11: 42.165905 | I11: 2.8307258 | J11: 14.7905 | K11: 17.4905 | L11: 21.0305
A12: 5 | B12: 0 | C12: Фонди Кувайтии Рушд | D12: 2 | E12: 3 | F12: 5 | G12: 151.59337 | H12: 16.262687 | I12: 0.28812389 | J12: 6.4875 | K12: 10.2675 | L12: 6.2375
A13: 6 | B13: 0 | C13: Фонди Абузабӣ | D13: 2 | E13: 0 | F13: 2 | G13: 35.003404 | H13: 13.752312 | I13: 1.2510921 | J13: 5.481 | K13: 5.481 | L13: 7.211
A14: 7 | B14: 0 | C14: Хазинаи Созмони Давлатҳои Содиркунандаи Нафт | D14: 3 | E14: 0 | F14: 3 | G14: 35 | H14: 11.914811 | I14: 7.2454035 | J14: 5.709 | K14: 5.5487852 | L14: 3.679
A15: 8 | B15: 0 | C15: Бонки Аврупоии Таҷдид ва Рушд | D15: 26 | E15: 17 | F15: 43 | G15: 545.73 | H15: 53.807471 | I15: 31.278177 | J15: 64.714683 | K15: 70.622108 | L15: 41.390702
A16: 9 | B16: 0 | C16: Эксимбонки Хитой | D16: 4 | E16: 1 | F16: 5 | G16: 437.69146 | H16: 228.35992 | I16: 8.7515465 | J16: 51.63 | K16: 3.95 | L16: 0
A17: 10 | B17: 0 | C17: Бонки Аврупоии Сармоягузорӣ | D17: 2 | E17: 2 | F17: 4 | G17: 139.8246 | H17: 10.1416 | I17: 0 | J17: 3 | K17: 12.5 | L17: 22.5
A18: 11 | C18: Хазинаи Зиддибуҳронии Иттиҳоди Иқтисодии Евразия | D18: 2 | E18: 0 | F18: 2 | G18: 80 | H18: 20 | I18: 0 | J18: 1 | K18: 6 | L18: 8
A19: 12 | C19: Фонди байналмилалии рушди кишоварзӣ | D19: 2 | E19: 0 | F19: 2 | G19: 24.119182 | H19: 1.59666 | I19: 2.521022 | J19: 4.8583 | K19: 6.0132 | L19: 4.11
A20: 13 | C20: Бонки Осиёии Сармоягузории Инфрасохторӣ | D20: 2 | E20: 0 | F20: 2 | G20: 87.5 | H20: 0.06875 | I20: 8.1621087 | J20: 20.631533 | K20: 18.637608 | L20: 10
A21: 14 | C21: Дигарҳо | D21: 1 | E21: 14 | F21: 15 | G21: 983.9 | H21: 500 | I21: 0 | J21: 0 | K21: 8.45 | L21: 25.8
A22: 15 | C22: Фонди Иқлими Сабз | D22: 1 | E22: 0 | F22: 1 | G22: 27 | H22: 0 | I22: 0 | J22: 0 | K22: 0.45 | L22: 2.5
A24: Ҳамагӣ аз рӯи Барнома | D24: 75 | E24: 67 | F24: 142 | G24: 4140.1309 | H24: 990.01539 | I24: 121.38435 | J24: 261.83207 | K24: 255.86195 | L24: 258.63031
A25: Азхудкунӣ нисбат ба маҷмӯи маҳсулоти дохилї | I25: 0.01854464 | J25: 0.032472701 | K25: 0.029567788 | L25: 0.028083189
B26: Эзоҳ:
B27: Дурнамои ҳаҷми умумии қарзи беруна | C27: Дурнамои ҳаҷми умумии қарзи беруна | J27: 3108.6 | K27: 3327.9 | L27: 3441.5
B28: Ҳаҷми умумии қарзи беруна нисбати ММД | C28: Ҳаҷми умумии қарзи беруна нисбати маҷмӯи
C29: маҳсулоти дохилї | J29: 0.38553198 | K29: 0.38457707 | L29: 0.37369284
B30: маҳсулоти дохилї | E30: Маҷмӯи маҳсулоти дохилї бо сомонї - | I30: 58909.7 | J30: 78212.5 | K30: 88264.7 | L30: 99461.9
D31: Маҷмӯи маҳсулоти дохилї бо доллари
D32: Иёлоти Муттањидаи Америка - | I32: 6545.5222 | J32: 8063.1443 | K32: 8653.402 | L32: 9209.4352
D33: Ќурби доллари Иёлоти Муттањидаи
D34: Америка нисбати сомонї - | I34: 9 | J34: 9.7 | K34: 10.2 | L34: 10.8

Sheet Agregated Sectors (Taj)
K1: Замимаи 3 ба Барномаи қарзгирии берунаи давлатии Ҷумҳурии Тоҷикистон барои солҳои 2019– 2021
A2: Тақсимоти Барномаи қарзгирии берунаи давлатии Ҷумҳурии Тоҷикистон аз рӯи соҳаҳо
L4: млн доллари ИМА
A5: № Т/Т | B5: № лоиҳа | C5: Номгӯи соҳаҳо | D5: Шумораи лоиҳаҳо | G5: Маблағи қарз бо доллари ШМА тибќи ҳолати то 01.06.16 | H5: Таносуби ҳаҷми умумии маблағҳои ҷалбшаванда | I5: Истифода шудааст то 01.01.2018 | J5: Пешбинии истифо-дабарии қарз дар соли 2018 | K5: Пешбинии истифодабарии қарз барои солҳои: | P5: Ожидаемое использо-вание в 2013 году
D6: Амалкунанда | E6: Банақшагириф-ташуда | F6: Ҳамагӣ | K6: 2019 | L6: 2020 | M6: 2021
A8: 1 | B8: 0 | C8: Соҳаи кишоварзӣ ва обёрӣ | D8: 8 | E8: 10 | F8: 18 | G8: 340.21813 | H8: 0.0053022807 | I8: 5.2493416 | J8: 25.565009 | K8: 30.065035 | L8: 17.558868 | M8: 22.953744
A9: 2 | B9: 0 | C9: Соҳаи тандурустӣ | D9: 1 | E9: 4 | F9: 5 | G9: 63.86044 | H9: 0.0030263796 | I9: 2.9961635 | J9: 0.05787646 | K9: 2.6164 | L9: 0.7 | M9: 2.2
A10: 3 | B10: 0 | C10: Соҳаи маориф | D10: 6 | E10: 4 | F10: 10 | G10: 252.11756 | H10: 0.043056587 | I10: 42.626701 | J10: 11.269874 | K10: 9.2856 | L10: 14.58 | M10: 17.4114
A11: 4 | B11: 0 | C11: Соҳаи энергетика ва саноат | D11: 18 | E11: 9 | F11: 27 | G11: 1729.1316 | H11: 0.72554062 | I11: 718.29666 | J11: 15.022936 | K11: 133.379 | L11: 119.95 | M11: 131.1
A12: 5 | B12: 0 | C12: Соҳаи нақлиёт ва коммуникатсия | D12: 22 | E12: 21 | F12: 43 | G12: 1415.8265 | H12: 0.14923318 | I12: 147.74321 | J12: 55.345771 | K12: 71.182979 | L12: 93.355457 | M12: 75.230198
A13: 6 | B13: 0 | C13: Соҳаи хоҷагии манзилию коммуналӣ | D13: 16 | E13: 13 | F13: 29 | G13: 166.67044 | H13: 0.021706729 | I13: 21.490005 | J13: 13.935345 | K13: 13.02715 | L13: 6.0285 | M13: 9.25
A14: 7 | B14: 0 | C14: Соҳаи идоракунии давлатӣ | D14: 3 | E14: 4 | F14: 7 | G14: 107.47169 | H14: 0.052134224 | I14: 51.613705 | J14: 0.1875399 | K14: 1.675908 | L14: 3.689125 | M14: 0.484967
A15: 8 | C15: Суғуртаи иҷтимоӣ ва ҳифзи иҷтимоӣ | D15: 1 | E15: 0 | F15: 1 | G15: 0.9 | H15: 0 | I15: 0 | J15: 0 | K15: 0.6 | L15: 0 | M15: 0
A16: 9 | B16: 0 | C16: Дигарҳо | D16: 0 | E16: 2 | F16: 2 | G16: 65 | H16: 0 | I16: 0 | J16: 0 | K16: 0 | L16: 0 | M16: 0
A18: Ҳамагӣ аз рӯи Барнома | D18: 75 | E18: 67 | F18: 142 | G18: 4141.1963 | H18: 1 | I18: 990.01579 | J18: 121.38435 | K18: 261.83207 | L18: 255.86195 | M18: 258.63031
A19: Азхудкунӣ нисбат ба маҷмӯи маҳсулоти дохилї | J19: 0.01854464 | K19: 0.032472701 | L19: 0.029567788 | M19: 0.028083189
B20: Эзоҳ:
B21: Дурнамои ҳаҷми умумии қарзи беруна | C21: Дурнамои ҳаҷми умумии қарзи беруна | K21: 3108.6 | L21: 3327.9 | M21: 3441.5
B22: Ҳаҷми умумии қарзи беруна нисбати ММД | C22: Ҳаҷми умумии қарзи беруна нисбати маҷмӯи
C23: маҳсулоти дохилї | K23: 0.38553198 | L23: 0.38457707 | M23: 0.37369284
E24: Маҷмӯи маҳсулоти дохилї бо сомонї - | J24: 58909.7 | K24: 78212.5 | L24: 88264.7 | M24: 99461.9
E25: Маҷмӯи маҳсулоти дохилї бо доллари
E26: Иёлоти Муттањидаи Америка - | J26: 6545.5222 | K26: 8063.1443 | L26: 8653.402 | M26: 9209.4352
E27: Ќурби доллари Иёлоти Муттањидаи
E28: Америка нисбати сомонї - | J28: 9 | K28: 9.7 | L28: 10.2 | M28: 10.8

Sheet Creditors (Eng)
A1: Программа государственных внешних заимствований Республики Таджикистан на 2013-2015гг
M3: (млн.долл.США)
A4: № п/п | B4: № кред. | C4: Наименование проектов по кредиторам | D4: Наимен. кредитора | E4: Сумма кредита в валюте подписания | G4: Сумма кредита в долл. США по сост. на 01.06.12г. | H4: Исполь-зовано до 01.01.2012г. | I4: Ожидаемое использо-вание в 2012 году | J4: Прогноз использования кредита на: | M4: Субъекты Республики Таджикистан, использующие кредит | N4: Сектор | O4: знак для сумма Итого | P4: для количества кредитов | R4: Ожидаемое использо-вание в 2013 году
J5: 2013г. | K5: 2014г. | L5: 2015г. | P5: действующие | Q5: новые
A6: =VLOOKUP(#REF!,#REF!,3,FALSE) -> #REF! | G6: =G17 -> #REF! | H6: =H17 -> #REF! | I6: =I17 -> #REF! | J6: =J17 -> #REF! | K6: =K17 -> #REF! | L6: =L17 -> #REF!
A7: =VLOOKUP(#REF!,#REF!,3,FALSE) -> #REF!
A8: =#REF! -> #REF! | B8: =#REF! -> #REF! | C8: Лоиҳаи модернизатсияи соҳаи маориф | D8: =VLOOKUP(#REF!,#REF!,3,FALSE) -> #REF! | E8: =#REF! -> #REF! | F8: =VLOOKUP(#REF!,#REF!,3,FALSE) -> #REF! | G8: =#REF! -> #REF! | H8: =#REF! -> #REF! | I8: =#REF! -> #REF! | J8: =#REF! -> #REF! | K8: =#REF! -> #REF! | L8: =#REF! -> #REF! | M8: =VLOOKUP(#REF!,#REF!,3,FALSE) -> #REF! | N8: =VLOOKUP(#REF!,#REF!,3,FALSE) -> #REF! | O8: =IF(B8=$B$17,1,0) -> #REF! | P8: 1 | Q8: 0
A9: =#REF! -> #REF! | B9: =#REF! -> #REF! | C9: Лоињаи маблағгузории иловагӣ барои лоиҳаи барқарорсозии Ширкати хусусии энергетикии Помир | D9: =VLOOKUP(#REF!,#REF!,3,FALSE) -> #REF! | E9: =#REF! -> #REF! | F9: =VLOOKUP(#REF!,#REF!,3,FALSE) -> #REF! | G9: =#REF! -> #REF! | H9: =#REF! -> #REF! | I9: =#REF! -> #REF! | J9: =#REF! -> #REF! | K9: =#REF! -> #REF! | L9: =#REF! -> #REF! | M9: =VLOOKUP(#REF!,#REF!,3,FALSE) -> #REF! | N9: =VLOOKUP(#REF!,#REF!,3,FALSE) -> #REF! | O9: =IF(B9=$B$17,1,0) -> #REF! | P9: 1 | Q9: 0
A10: =#REF! -> #REF! | B10: =#REF! -> #REF! | C10: Лоиҳаи барқарорсозии соҳаи пахтакорї | D10: =VLOOKUP(#REF!,#REF!,3,FALSE) -> #REF! | E10: =#REF! -> #REF! | F10: =VLOOKUP(#REF!,#REF!,3,FALSE) -> #REF! | G10: =#REF! -> #REF! | H10: =#REF! -> #REF! | I10: =#REF! -> #REF! | J10: =#REF! -> #REF! | K10: =#REF! -> #REF! | L10: =#REF! -> #REF! | M10: =VLOOKUP(#REF!,#REF!,3,FALSE) -> #REF! | N10: =VLOOKUP(#REF!,#REF!,3,FALSE) -> #REF! | O10: =IF(B10=$B$17,1,0) -> #REF! | P10: 1 | Q10: 0
O11: =IF(B11=$B$17,1,0) -> #REF!
A12: =VLOOKUP(#REF!,#REF!,3,FALSE) -> #REF! | G12: =SUM(G8:G11) -> #REF! | H12: =SUM(H8:H11) -> #REF! | I12: =SUM(I8:I11) -> #REF! | J12: =SUM(J8:J11) -> #REF! | K12: =SUM(K8:K11) -> #REF! | L12: =SUM(L8:L11) -> #REF! | O12: =IF(B12=$B$17,1,0) -> #REF!
A13: =VLOOKUP(#REF!,#REF!,3,FALSE) -> #REF! | O13: =IF(B13=$B$17,1,0) -> #REF!
D14: =VLOOKUP(#REF!,#REF!,3,FALSE) -> #REF! | F14: =VLOOKUP(#REF!,#REF!,3,FALSE) -> #REF! | M14: =VLOOKUP(#REF!,#REF!,2,FALSE) -> #REF! | O14: =IF(B14=$B$17,1,0) -> #REF!
O15: =IF(B15=$B$17,1,0) -> #REF!
A16: =VLOOKUP(#REF!,#REF!,3,FALSE) -> #REF! | G16: =SUM(G13:G15) -> 0 | H16: =SUM(H13:H15) -> 0 | I16: =SUM(I13:I15) -> 0 | J16: =SUM(J13:J15) -> 0 | K16: =SUM(K13:K15) -> 0 | L16: =SUM(L13:L15) -> 0 | O16: =IF(B16=$B$17,1,0) -> #REF!
B17: =VLOOKUP(#REF!,#REF!,3,FALSE) -> #REF! | C17: =A6 -> #REF! | G17: =G16+G12 -> #REF! | H17: =H16+H12 -> #REF! | I17: =I16+I12 -> #REF! | J17: =J16+J12 -> #REF! | K17: =K16+K12 -> #REF! | L17: =L16+L12 -> #REF! | O17: =IF(B17=$B$17,1,0) -> #REF!
O18: =IF(B18=$B$17,1,0) -> #REF!
A19: =VLOOKUP(#REF!,#REF!,3,FALSE) -> #REF! | G19: =G30 -> #REF! | H19: =H30 -> #REF! | I19: =I30 -> #REF! | J19: =J30 -> #REF! | K19: =K30 -> #REF! | L19: =L30 -> #REF!
A20: =VLOOKUP(#REF!,#REF!,3,FALSE) -> #REF! | O20: =IF(B20=$B$17,1,0) -> #REF!
A21: =#REF! -> #REF! | B21: =#REF! -> #REF! | C21: Устойчивое развитие хлопкового сектора | D21: =VLOOKUP(#REF!,#REF!,3,FALSE) -> #REF! | E21: =#REF! -> #REF! | F21: =VLOOKUP(#REF!,#REF!,3,FALSE) -> #REF! | G21: =#REF! -> #REF! | H21: =#REF! -> #REF! | I21: =#REF! -> #REF! | J21: =#REF! -> #REF! | K21: =#REF! -> #REF! | L21: =#REF! -> #REF! | M21: =VLOOKUP(#REF!,#REF!,3,FALSE) -> #REF! | N21: =VLOOKUP(#REF!,#REF!,3,FALSE) -> #REF! | O21: =IF(B21=$B$17,1,0) -> #REF! | P21: 1 | Q21: 0
A22: =#REF! -> #REF! | B22: =#REF! -> #REF! | C22: Развитие сельской местности | D22: =VLOOKUP(#REF!,#REF!,3,FALSE) -> #REF! | E22: =#REF! -> #REF! | F22: =VLOOKUP(#REF!,#REF!,3,FALSE) -> #REF! | G22: =#REF! -> #REF! | H22: =#REF! -> #REF! | I22: =#REF! -> #REF! | J22: =#REF! -> #REF! | K22: =#REF! -> #REF! | L22: =#REF! -> #REF! | M22: =VLOOKUP(#REF!,#REF!,3,FALSE) -> #REF! | N22: =VLOOKUP(#REF!,#REF!,3,FALSE) -> #REF! | O22: =IF(B22=$B$17,1,0) -> #REF! | P22: 1 | Q22: 0
A23: =#REF! -> #REF! | B23: =#REF! -> #REF! | C23: Управление угрозой наводнений в Хатлонской области | D23: =VLOOKUP(#REF!,#REF!,3,FALSE) -> #REF! | E23: =#REF! -> #REF! | F23: =VLOOKUP(#REF!,#REF!,3,FALSE) -> #REF! | G23: =#REF! -> #REF! | H23: =#REF! -> #REF! | I23: =#REF! -> #REF! | J23: =#REF! -> #REF! | K23: =#REF! -> #REF! | L23: =#REF! -> #REF! | M23: =VLOOKUP(#REF!,#REF!,3,FALSE) -> #REF! | N23: =VLOOKUP(#REF!,#REF!,3,FALSE) -> #REF! | O23: =IF(B23=$B$17,1,0) -> #REF! | P23: 1 | Q23: 0
A24: =#REF! -> #REF! | B24: =#REF! -> #REF! | C24: Улучшение дорожного коридора Душанбе граница Киргизистан ЦАРЭС, фаза III | D24: =VLOOKUP(#REF!,#REF!,3,FALSE) -> #REF! | E24: =#REF! -> #REF! | F24: =VLOOKUP(#REF!,#REF!,3,FALSE) -> #REF! | G24: =#REF! -> #REF! | H24: =#REF! -> #REF! | I24: =#REF! -> #REF! | J24: =#REF! -> #REF! | K24: =#REF! -> #REF! | L24: =#REF! -> #REF! | M24: =VLOOKUP(#REF!,#REF!,3,FALSE) -> #REF! | N24: =VLOOKUP(#REF!,#REF!,3,FALSE) -> #REF! | O24: =IF(B24=$B$17,1,0) -> #REF! | P24: 1 | Q24: 0
O25: =IF(B25=$B$17,1,0) -> #REF!
A26: =VLOOKUP(#REF!,#REF!,3,FALSE) -> #REF! | G26: =SUM(G21:G25) -> #REF! | H26: =SUM(H21:H25) -> #REF! | I26: =SUM(I21:I25) -> #REF! | J26: =SUM(J21:J25) -> #REF! | K26: =SUM(K21:K25) -> #REF! | L26: =SUM(L21:L25) -> #REF! | O26: =IF(B26=$B$17,1,0) -> #REF!
A27: =VLOOKUP(#REF!,#REF!,3,FALSE) -> #REF! | O27: =IF(B27=$B$17,1,0) -> #REF!
O28: =IF(B28=$B$17,1,0) -> #REF!
A29: =VLOOKUP(#REF!,#REF!,3,FALSE) -> #REF! | G29: =SUM(G28:G28) -> 0 | H29: =SUM(H28:H28) -> 0 | I29: =SUM(I28:I28) -> 0 | J29: =SUM(J28:J28) -> 0 | K29: =SUM(K28:K28) -> 0 | L29: =SUM(L28:L28) -> 0 | O29: =IF(B29=$B$17,1,0) -> #REF!
B30: =VLOOKUP(#REF!,#REF!,3,FALSE) -> #REF! | C30: =A19 -> #REF! | G30: =G26+G29 -> #REF! | H30: =H26+H29 -> #REF! | I30: =I26+I29 -> #REF! | J30: =J26+J29 -> #REF! | K30: =K26+K29 -> #REF! | L30: =L26+L29 -> #REF! | O30: =IF(B30=$B$17,1,0) -> #REF!
O31: =IF(B31=$B$17,1,0) -> #REF!
A32: =VLOOKUP(#REF!,#REF!,3,FALSE) -> #REF! | G32: =G61 -> #REF! | H32: =H61 -> #REF! | I32: =I61 -> #REF! | J32: =J61 -> #REF! | K32: =K61 -> #REF! | L32: =L61 -> #REF!
A33: =VLOOKUP(#REF!,#REF!,3,FALSE) -> #REF! | O33: =IF(B33=$B$17,1,0) -> #REF!
A34: =#REF! -> #REF! | B34: =#REF! -> #REF! | C34: Водоснабжение г.Душанбе | D34: =VLOOKUP(#REF!,#REF!,3,FALSE) -> #REF! | E34: =#REF! -> #REF! | F34: =VLOOKUP(#REF!,#REF!,3,FALSE) -> #REF! | G34: =#REF! -> #REF! | H34: =#REF! -> #REF! | I34: =#REF! -> #REF! | J34: =#REF! -> #REF! | K34: =#REF! -> #REF! | L34: =#REF! -> #REF! | M34: =VLOOKUP(#REF!,#REF!,3,FALSE) -> #REF! | N34: =VLOOKUP(#REF!,#REF!,3,FALSE) -> #REF! | O34: =IF(B34=$B$17,1,0) -> #REF! | P34: 1 | Q34: 0
A35: =#REF! -> #REF! | B35: =#REF! -> #REF! | C35: Строительство средних школ, фаза III | D35: =VLOOKUP(#REF!,#REF!,3,FALSE) -> #REF! | E35: =#REF! -> #REF! | F35: =VLOOKUP(#REF!,#REF!,3,FALSE) -> #REF! | G35: =#REF! -> #REF! | H35: =#REF! -> #REF! | I35: =#REF! -> #REF! | J35: =#REF! -> #REF! | K35: =#REF! -> #REF! | L35: =#REF! -> #REF! | M35: =VLOOKUP(#REF!,#REF!,3,FALSE) -> #REF! | N35: =VLOOKUP(#REF!,#REF!,3,FALSE) -> #REF! | O35: =IF(B35=$B$17,1,0) -> #REF! | P35: 1 | Q35: 0
A36: =#REF! -> #REF! | B36: =#REF! -> #REF! | C36: Орошение Дангаринской долины, фаза II | D36: =VLOOKUP(#REF!,#REF!,3,FALSE) -> #REF! | E36: =#REF! -> #REF! | F36: =VLOOKUP(#REF!,#REF!,3,FALSE) -> #REF! | G36: =#REF! -> #REF! | H36: =#REF! -> #REF! | I36: =#REF! -> #REF! | J36: =#REF! -> #REF! | K36: =#REF! -> #REF! | L36: =#REF! -> #REF! | M36: =VLOOKUP(#REF!,#REF!,3,FALSE) -> #REF! | N36: =VLOOKUP(#REF!,#REF!,3,FALSE) -> #REF! | O36: =IF(B36=$B$17,1,0) -> #REF! | P36: 1 | Q36: 0
A37: =#REF! -> #REF! | B37: =#REF! -> #REF! | C37: Региональный проект по строительству линий электропередач (Таджикистан -Афганистан) | D37: =VLOOKUP(#REF!,#REF!,3,FALSE) -> #REF! | E37: =#REF! -> #REF! | F37: =VLOOKUP(#REF!,#REF!,3,FALSE) -> #REF! | G37: =#REF! -> #REF! | H37: =#REF! -> #REF! | I37: =#REF! -> #REF! | J37: =#REF! -> #REF! | K37: =#REF! -> #REF! | L37: =#REF! -> #REF! | M37: =VLOOKUP(#REF!,#REF!,3,FALSE) -> #REF! | N37: =VLOOKUP(#REF!,#REF!,3,FALSE) -> #REF! | O37: =IF(B37=$B$17,1,0) -> #REF! | P37: 1 | Q37: 0
A38: =#REF! -> #REF! | B38: =#REF! -> #REF! | C38: Региональный проект по строительству линий электропередач (Таджикистан -Афганистан) | D38: =VLOOKUP(#REF!,#REF!,3,FALSE) -> #REF! | E38: =#REF! -> #REF! | F38: =VLOOKUP(#REF!,#REF!,3,FALSE) -> #REF! | G38: =#REF! -> #REF! | H38: =#REF! -> #REF! | I38: =#REF! -> #REF! | J38: =#REF! -> #REF! | K38: =#REF! -> #REF! | L38: =#REF! -> #REF! | M38: =VLOOKUP(#REF!,#REF!,3,FALSE) -> #REF! | N38: =VLOOKUP(#REF!,#REF!,3,FALSE) -> #REF! | O38: =IF(B38=$B$17,1,0) -> #REF! | P38: 1 | Q38: 0
A39: =#REF! -> #REF! | B39: =#REF! -> #REF! | C39: Строительство больницы общего профиля в г.Дангара | D39: =VLOOKUP(#REF!,#REF!,3,FALSE) -> #REF! | E39: =#REF! -> #REF! | F39: =VLOOKUP(#REF!,#REF!,3,FALSE) -> #REF! | G39: =#REF! -> #REF! | H39: =#REF! -> #REF! | I39: =#REF! -> #REF! | J39: =#REF! -> #REF! | K39: =#REF! -> #REF! | L39: =#REF! -> #REF! | M39: =VLOOKUP(#REF!,#REF!,3,FALSE) -> #REF! | N39: =VLOOKUP(#REF!,#REF!,3,FALSE) -> #REF! | O39: =IF(B39=$B$17,1,0) -> #REF! | P39: 1 | Q39: 0
A40: =#REF! -> #REF! | B40: =#REF! -> #REF! | C40: Строительство автодороги в регионе Шагон-Зигар, фаза III | D40: =VLOOKUP(#REF!,#REF!,3,FALSE) -> #REF! | E40: =#REF! -> #REF! | F40: =VLOOKUP(#REF!,#REF!,3,FALSE) -> #REF! | G40: =#REF! -> #REF! | H40: =#REF! -> #REF! | I40: =#REF! -> #REF! | J40: =#REF! -> #REF! | K40: =#REF! -> #REF! | L40: =#REF! -> #REF! | M40: =VLOOKUP(#REF!,#REF!,3,FALSE) -> #REF! | N40: =VLOOKUP(#REF!,#REF!,3,FALSE) -> #REF! | O40: =IF(B40=$B$17,1,0) -> #REF! | P40: 1 | Q40: 0
A41: =#REF! -> #REF! | B41: =#REF! -> #REF! | C41: Строительство автодороги Куляб-Калайхумб | D41: =VLOOKUP(#REF!,#REF!,3,FALSE) -> #REF! | E41: =#REF! -> #REF! | F41: =VLOOKUP(#REF!,#REF!,3,FALSE) -> #REF! | G41: =#REF! -> #REF! | H41: =#REF! -> #REF! | I41: =#REF! -> #REF! | J41: =#REF! -> #REF! | K41: =#REF! -> #REF! | L41: =#REF! -> #REF! | M41: =VLOOKUP(#REF!,#REF!,3,FALSE) -> #REF! | N41: =VLOOKUP(#REF!,#REF!,3,FALSE) -> #REF! | O41: =IF(B41=$B$17,1,0) -> #REF! | P41: 1 | Q41: 0
...

Sheet Sectors (Eng)
A2: Программа государственных внешних заимствований Республики Таджикистан на 2013-2015гг
M4: (млн.долл.США)
A5: № п/п | B5: № кред. | C5: Наименование проектов по кредиторам | D5: Наимен. кредитора | E5: Сумма кредита в валюте подписания | G5: Сумма кредита в долл. США по сост. на 01.06.12г. | H5: Исполь-зовано до 01.01.2012г. | I5: Ожидаемое использо-вание в 2012 году | J5: Прогноз использования кредита на: | M5: Субъекты Республики Таджикистан, использующие кредит | N5: Сектор | O5: знак для сумма Итого | P5: для количества кредитов | R5: Ожидаемое использо-вание в 2013 году
J6: 2013г. | K6: 2014г. | L6: 2015г. | P6: действующие | Q6: новые
A7: =VLOOKUP(#REF!,#REF!,3,FALSE) -> #REF! | G7: =G23 -> #REF! | H7: =H23 -> #REF! | I7: =I23 -> #REF! | J7: =J23 -> #REF! | K7: =K23 -> #REF! | L7: =L23 -> #REF!
A8: =VLOOKUP(#REF!,#REF!,3,FALSE) -> #REF!
A9: =#REF! -> #REF! | B9: =#REF! -> #REF! | C9: Восстановление хлопкового сектора | D9: =VLOOKUP(#REF!,#REF!,3,FALSE) -> #REF! | E9: =#REF! -> #REF! | F9: =VLOOKUP(#REF!,#REF!,3,FALSE) -> #REF! | G9: =#REF! -> #REF! | H9: =#REF! -> #REF! | I9: =#REF! -> #REF! | J9: =#REF! -> #REF! | K9: =#REF! -> #REF! | L9: =#REF! -> #REF! | M9: =VLOOKUP(#REF!,#REF!,3,FALSE) -> #REF! | N9: =VLOOKUP(#REF!,#REF!,3,FALSE) -> #REF! | O9: =IF(B9=$B$23,1,0) -> #REF! | P9: 1 | Q9: 0
A10: =#REF! -> #REF! | B10: =#REF! -> #REF! | C10: Устойчивое развитие хлопкового сектора | D10: =VLOOKUP(#REF!,#REF!,3,FALSE) -> #REF! | E10: =#REF! -> #REF! | F10: =VLOOKUP(#REF!,#REF!,3,FALSE) -> #REF! | G10: =#REF! -> #REF! | H10: =#REF! -> #REF! | I10: =#REF! -> #REF! | J10: =#REF! -> #REF! | K10: =#REF! -> #REF! | L10: =#REF! -> #REF! | M10: =VLOOKUP(#REF!,#REF!,3,FALSE) -> #REF! | N10: =VLOOKUP(#REF!,#REF!,3,FALSE) -> #REF! | O10: =IF(B10=$B$23,1,0) -> #REF! | P10: 1 | Q10: 0
A11: =#REF! -> #REF! | B11: =#REF! -> #REF! | C11: Развитие сельской местности | D11: =VLOOKUP(#REF!,#REF!,3,FALSE) -> #REF! | E11: =#REF! -> #REF! | F11: =VLOOKUP(#REF!,#REF!,3,FALSE) -> #REF! | G11: =#REF! -> #REF! | H11: =#REF! -> #REF! | I11: =#REF! -> #REF! | J11: =#REF! -> #REF! | K11: =#REF! -> #REF! | L11: =#REF! -> #REF! | M11: =VLOOKUP(#REF!,#REF!,3,FALSE) -> #REF! | N11: =VLOOKUP(#REF!,#REF!,3,FALSE) -> #REF! | O11: =IF(B11=$B$23,1,0) -> #REF! | P11: 1 | Q11: 0
A12: =#REF! -> #REF! | B12: =#REF! -> #REF! | C12: Орошение Дангаринской долины, фаза II | D12: =VLOOKUP(#REF!,#REF!,3,FALSE) -> #REF! | E12: =#REF! -> #REF! | F12: =VLOOKUP(#REF!,#REF!,3,FALSE) -> #REF! | G12: =#REF! -> #REF! | H12: =#REF! -> #REF! | I12: =#REF! -> #REF! | J12: =#REF! -> #REF! | K12: =#REF! -> #REF! | L12: =#REF! -> #REF! | M12: =VLOOKUP(#REF!,#REF!,3,FALSE) -> #REF! | N12: =VLOOKUP(#REF!,#REF!,3,FALSE) -> #REF! | O12: =IF(B12=$B$23,1,0) -> #REF! | P12: 1 | Q12: 0
A13: =#REF! -> #REF! | B13: =#REF! -> #REF! | C13: Управление угрозой наводнений в Хатлонской области | D13: =VLOOKUP(#REF!,#REF!,3,FALSE) -> #REF! | E13: =#REF! -> #REF! | F13: =VLOOKUP(#REF!,#REF!,3,FALSE) -> #REF! | G13: =#REF! -> #REF! | H13: =#REF! -> #REF! | I13: =#REF! -> #REF! | J13: =#REF! -> #REF! | K13: =#REF! -> #REF! | L13: =#REF! -> #REF! | M13: =VLOOKUP(#REF!,#REF!,3,FALSE) -> #REF! | N13: =VLOOKUP(#REF!,#REF!,3,FALSE) -> #REF! | O13: =IF(B13=$B$23,1,0) -> #REF! | P13: 1 | Q13: 0
A14: =#REF! -> #REF! | B14: =#REF! -> #REF! | C14: Орошение Дангаринской долины, фаза II | D14: =VLOOKUP(#REF!,#REF!,3,FALSE) -> #REF! | E14: =#REF! -> #REF! | F14: =VLOOKUP(#REF!,#REF!,3,FALSE) -> #REF! | G14: =#REF! -> #REF! | H14: =#REF! -> #REF! | I14: =#REF! -> #REF! | J14: =#REF! -> #REF! | K14: =#REF! -> #REF! | L14: =#REF! -> #REF! | M14: =VLOOKUP(#REF!,#REF!,3,FALSE) -> #REF! | N14: =VLOOKUP(#REF!,#REF!,3,FALSE) -> #REF! | O14: =IF(B14=$B$23,1,0) -> #REF! | P14: 1 | Q14: 0
O15: =IF(B15=$B$23,1,0) -> #REF!
A16: =VLOOKUP(#REF!,#REF!,3,FALSE) -> #REF! | G16: =SUM(G9:G15) -> #REF! | H16: =SUM(H9:H15) -> #REF! | I16: =SUM(I9:I15) -> #REF! | J16: =SUM(J9:J15) -> #REF! | K16: =SUM(K9:K15) -> #REF! | L16: =SUM(L9:L15) -> #REF! | O16: =IF(B16=$B$23,1,0) -> #REF!
A17: =VLOOKUP(#REF!,#REF!,3,FALSE) -> #REF! | O17: =IF(B17=$B$23,1,0) -> #REF!
A18: =#REF! -> #REF! | B18: =#REF! -> #REF! | C18: Орошение Дангаринской долины, фаза III* | D18: =VLOOKUP(#REF!,#REF!,3,FALSE) -> #REF! | E18: =#REF! -> #REF! | F18: =VLOOKUP(#REF!,#REF!,3,FALSE) -> #REF! | G18: =#REF! -> #REF! | H18: =#REF! -> #REF! | I18: =#REF! -> #REF! | J18: =#REF! -> #REF! | K18: =#REF! -> #REF! | L18: =#REF! -> #REF! | M18: =VLOOKUP(#REF!,#REF!,3,FALSE) -> #REF! | N18: =VLOOKUP(#REF!,#REF!,3,FALSE) -> #REF! | O18: =IF(B18=$B$23,1,0) -> #REF! | P18: 0 | Q18: 1
A19: =#REF! -> #REF! | B19: =#REF! -> #REF! | C19: Реабилитация ирригационных систем* | D19: =VLOOKUP(#REF!,#REF!,3,FALSE) -> #REF! | E19: =#REF! -> #REF! | F19: =VLOOKUP(#REF!,#REF!,3,FALSE) -> #REF! | G19: =#REF! -> #REF! | H19: =#REF! -> #REF! | I19: =#REF! -> #REF! | J19: =#REF! -> #REF! | K19: =#REF! -> #REF! | L19: =#REF! -> #REF! | M19: =VLOOKUP(#REF!,#REF!,3,FALSE) -> #REF! | N19: =VLOOKUP(#REF!,#REF!,3,FALSE) -> #REF! | O19: =IF(B19=$B$23,1,0) -> #REF! | P19: 0 | Q19: 1
A20: =#REF! -> #REF! | B20: =#REF! -> #REF! | C20: Развитие водных сетей Дангаринской долины | D20: =VLOOKUP(#REF!,#REF!,3,FALSE) -> #REF! | E20: =#REF! -> #REF! | F20: =VLOOKUP(#REF!,#REF!,3,FALSE) -> #REF! | G20: =#REF! -> #REF! | H20: =#REF! -> #REF! | I20: =#REF! -> #REF! | J20: =#REF! -> #REF! | K20: =#REF! -> #REF! | L20: =#REF! -> #REF! | M20: =VLOOKUP(#REF!,#REF!,3,FALSE) -> #REF! | N20: =VLOOKUP(#REF!,#REF!,3,FALSE) -> #REF! | O20: =IF(B20=$B$23,1,0) -> #REF! | P20: 0 | Q20: 1
O21: =IF(B21=$B$23,1,0) -> #REF!
A22: =VLOOKUP(#REF!,#REF!,3,FALSE) -> #REF! | G22: =SUM(G18:G21) -> #REF! | H22: =SUM(H18:H21) -> #REF! | I22: =SUM(I18:I21) -> #REF! | J22: =SUM(J18:J21) -> #REF! | K22: =SUM(K18:K21) -> #REF! | L22: =SUM(L18:L21) -> #REF! | O22: =IF(B22=$B$23,1,0) -> #REF!
B23: =VLOOKUP(#REF!,#REF!,3,FALSE) -> #REF! | C23: =A7 -> #REF! | G23: =G22+G16 -> #REF! | H23: =H22+H16 -> #REF! | I23: =I22+I16 -> #REF! | J23: =J22+J16 -> #REF! | K23: =K22+K16 -> #REF! | L23: =L22+L16 -> #REF! | O23: =IF(B23=$B$23,1,0) -> #REF!
O24: =IF(B24=$B$23,1,0) -> #REF!
A25: =VLOOKUP(#REF!,#REF!,3,FALSE) -> #REF! | G25: =G36 -> #REF! | H25: =H36 -> #REF! | I25: =I36 -> #REF! | J25: =J36 -> #REF! | K25: =K36 -> #REF! | L25: =L36 -> #REF! | O25: =IF(B25=$B$23,1,0) -> #REF!
A26: =VLOOKUP(#REF!,#REF!,3,FALSE) -> #REF! | O26: =IF(B26=$B$23,1,0) -> #REF!
A27: =#REF! -> #REF! | B27: =#REF! -> #REF! | C27: Строительство больницы общего профиля в г.Дангара | D27: =VLOOKUP(#REF!,#REF!,3,FALSE) -> #REF! | E27: =#REF! -> #REF! | F27: =VLOOKUP(#REF!,#REF!,3,FALSE) -> #REF! | G27: =#REF! -> #REF! | H27: =#REF! -> #REF! | I27: =#REF! -> #REF! | J27: =#REF! -> #REF! | K27: =#REF! -> #REF! | L27: =#REF! -> #REF! | M27: =VLOOKUP(#REF!,#REF!,3,FALSE) -> #REF! | N27: =VLOOKUP(#REF!,#REF!,3,FALSE) -> #REF! | O27: =IF(B27=$B$23,1,0) -> #REF! | P27: 1 | Q27: 0
A28: =#REF! -> #REF! | B28: =#REF! -> #REF! | C28: Востановление больници материнства и детства в г. Худжанде | D28: =VLOOKUP(#REF!,#REF!,3,FALSE) -> #REF! | E28: =#REF! -> #REF! | F28: =VLOOKUP(#REF!,#REF!,3,FALSE) -> #REF! | G28: =#REF! -> #REF! | H28: =#REF! -> #REF! | I28: =#REF! -> #REF! | J28: =#REF! -> #REF! | K28: =#REF! -> #REF! | L28: =#REF! -> #REF! | M28: =VLOOKUP(#REF!,#REF!,3,FALSE) -> #REF! | N28: =VLOOKUP(#REF!,#REF!,3,FALSE) -> #REF! | O28: =IF(B28=$B$23,1,0) -> #REF! | P28: 1 | Q28: 0
A29: =#REF! -> #REF! | B29: =#REF! -> #REF! | C29: Строительство больницы общего профиля в г.Дангара | D29: =VLOOKUP(#REF!,#REF!,3,FALSE) -> #REF! | E29: =#REF! -> #REF! | F29: =VLOOKUP(#REF!,#REF!,3,FALSE) -> #REF! | G29: =#REF! -> #REF! | H29: =#REF! -> #REF! | I29: =#REF! -> #REF! | J29: =#REF! -> #REF! | K29: =#REF! -> #REF! | L29: =#REF! -> #REF! | M29: =VLOOKUP(#REF!,#REF!,3,FALSE) -> #REF! | N29: =VLOOKUP(#REF!,#REF!,3,FALSE) -> #REF! | O29: =IF(B29=$B$23,1,0) -> #REF! | P29: 1 | Q29: 0
O30: =IF(B30=$B$23,1,0) -> #REF!
A31: =VLOOKUP(#REF!,#REF!,3,FALSE) -> #REF! | G31: =SUM(G27:G30) -> #REF! | H31: =SUM(H27:H30) -> #REF! | I31: =SUM(I27:I30) -> #REF! | J31: =SUM(J27:J30) -> #REF! | K31: =SUM(K27:K30) -> #REF! | L31: =SUM(L27:L30) -> #REF! | O31: =IF(B31=$B$23,1,0) -> #REF!
A32: =VLOOKUP(#REF!,#REF!,3,FALSE) -> #REF! | O32: =IF(B32=$B$23,1,0) -> #REF!
A33: =#REF! -> #REF! | B33: =#REF! -> #REF! | C33: Строительство инфекционной больницы в Душанбе | D33: =VLOOKUP(#REF!,#REF!,3,FALSE) -> #REF! | E33: =#REF! -> #REF! | F33: =VLOOKUP(#REF!,#REF!,3,FALSE) -> #REF! | G33: =#REF! -> #REF! | H33: =#REF! -> #REF! | I33: =#REF! -> #REF! | J33: =#REF! -> #REF! | K33: =#REF! -> #REF! | L33: =#REF! -> #REF! | M33: =VLOOKUP(#REF!,#REF!,3,FALSE) -> #REF! | N33: =VLOOKUP(#REF!,#REF!,3,FALSE) -> #REF! | O33: =IF(B33=$B$23,1,0) -> #REF! | P33: 0 | Q33: 1
O34: =IF(B34=$B$23,1,0) -> #REF!
A35: =VLOOKUP(#REF!,#REF!,3,FALSE) -> #REF! | G35: =SUM(G33:G34) -> #REF! | H35: =SUM(H33:H34) -> #REF! | I35: =SUM(I33:I34) -> #REF! | J35: =SUM(J33:J34) -> #REF! | K35: =SUM(K33:K34) -> #REF! | L35: =SUM(L33:L34) -> #REF! | O35: =IF(B35=$B$23,1,0) -> #REF!
B36: =VLOOKUP(#REF!,#REF!,3,FALSE) -> #REF! | C36: =A25 -> #REF! | G36: =G31+G35 -> #REF! | H36: =H31+H35 -> #REF! | I36: =I31+I35 -> #REF! | J36: =J31+J35 -> #REF! | K36: =K31+K35 -> #REF! | L36: =L31+L35 -> #REF! | O36: =IF(B36=$B$23,1,0) -> #REF!
O37: =IF(B37=$B$23,1,0) -> #REF!
A38: =VLOOKUP(#REF!,#REF!,3,FALSE) -> #REF! | G38: =G48 -> #REF! | H38: =H48 -> #REF! | I38: =I48 -> #REF! | J38: =J48 -> #REF! | K38: =K48 -> #REF! | L38: =L48 -> #REF! | O38: =IF(B38=$B$23,1,0) -> #REF!
A39: =VLOOKUP(#REF!,#REF!,3,FALSE) -> #REF! | O39: =IF(B39=$B$23,1,0) -> #REF!
A40: =#REF! -> #REF! | B40: =#REF! -> #REF! | C40: Модернизация сектора образования | D40: =VLOOKUP(#REF!,#REF!,3,FALSE) -> #REF! | E40: =#REF! -> #REF! | F40: =VLOOKUP(#REF!,#REF!,3,FALSE) -> #REF! | G40: =#REF! -> #REF! | H40: =#REF! -> #REF! | I40: =#REF! -> #REF! | J40: =#REF! -> #REF! | K40: =#REF! -> #REF! | L40: =#REF! -> #REF! | M40: =VLOOKUP(#REF!,#REF!,3,FALSE) -> #REF! | N40: =VLOOKUP(#REF!,#REF!,3,FALSE) -> #REF! | O40: =IF(B40=$B$23,1,0) -> #REF! | P40: 1 | Q40: 0
A41: =#REF! -> #REF! | B41: =#REF! -> #REF! | C41: Строительство средних школ, фаза III | D41: =VLOOKUP(#REF!,#REF!,3,FALSE) -> #REF! | E41: =#REF! -> #REF! | F41: =VLOOKUP(#REF!,#REF!,3,FALSE) -> #REF! | G41: =#REF! -> #REF! | H41: =#REF! -> #REF! | I41: =#REF! -> #REF! | J41: =#REF! -> #REF! | K41: =#REF! -> #REF! | L41: =#REF! -> #REF! | M41: =VLOOKUP(#REF!,#REF!,3,FALSE) -> #REF! | N41: =VLOOKUP(#REF!,#REF!,3,FALSE) -> #REF! | O41: =IF(B41=$B$23,1,0) -> #REF! | P41: 1 | Q41: 0
A42: =#REF! -> #REF! | B42: =#REF! -> #REF! | C42: Строительство и оборудование 5 средних школ (фаза 2) | D42: =VLOOKUP(#REF!,#REF!,3,FALSE) -> #REF! | E42: =#REF! -> #REF! | F42: =VLOOKUP(#REF!,#REF!,3,FALSE) -> #REF! | G42: =#REF! -> #REF! | H42: =#REF! -> #REF! | I42: =#REF! -> #REF! | J42: =#REF! -> #REF! | K42: =#REF! -> #REF! | L42: =#REF! -> #REF! | M42: =VLOOKUP(#REF!,#REF!,3,FALSE) -> #REF! | N42: =VLOOKUP(#REF!,#REF!,3,FALSE) -> #REF! | O42: =IF(B42=$B$23,1,0) -> #REF! | P42: 1 | Q42: 0
...

Sheet Agregated Creditors (Eng)
A1: Программа государственных внешних заимствований Республики Таджикистан на 2013-2015гг
A4: № п/п | B4: № кредитора | C4: Наименование кредиторов | D4: Количество проектов | G4: Сумма кредита в долл. США по сост. на 01.06.12г. | H4: Исполь-зовано до 01.01.2012г. | I4: Ожидаемое использо-вание в 2012 году | J4: Прогноз использования кредита на: | O4: Ожидаемое использо-вание в 2013 году
D5: Действующие | E5: Новые | F5: Итого | J5: 2013г. | K5: 2014г. | L5: 2015г.
A7: 1 | B7: =#REF! -> #REF! | C7: =VLOOKUP(#REF!,#REF!,3,FALSE) -> #REF! | D7: =#REF! -> #REF! | E7: =#REF! -> #REF! | F7: =#REF! -> #REF! | G7: =#REF! -> #REF! | H7: =#REF! -> #REF! | I7: =#REF! -> #REF! | J7: =#REF! -> #REF! | K7: =#REF! -> #REF! | L7: =#REF! -> #REF!
A8: 2 | B8: =#REF! -> #REF! | C8: =VLOOKUP(#REF!,#REF!,3,FALSE) -> #REF! | D8: =#REF! -> #REF! | E8: =#REF! -> #REF! | F8: =#REF! -> #REF! | G8: =#REF! -> #REF! | H8: =#REF! -> #REF! | I8: =#REF! -> #REF! | J8: =#REF! -> #REF! | K8: =#REF! -> #REF! | L8: =#REF! -> #REF!
A9: 3 | B9: =#REF! -> #REF! | C9: =VLOOKUP(#REF!,#REF!,3,FALSE) -> #REF! | D9: =#REF! -> #REF! | E9: =#REF! -> #REF! | F9: =#REF! -> #REF! | G9: =#REF! -> #REF! | H9: =#REF! -> #REF! | I9: =#REF! -> #REF! | J9: =#REF! -> #REF! | K9: =#REF! -> #REF! | L9: =#REF! -> #REF!
A10: 4 | B10: =#REF! -> #REF! | C10: =VLOOKUP(#REF!,#REF!,3,FALSE) -> #REF! | D10: =#REF! -> #REF! | E10: =#REF! -> #REF! | F10: =#REF! -> #REF! | G10: =#REF! -> #REF! | H10: =#REF! -> #REF! | I10: =#REF! -> #REF! | J10: =#REF! -> #REF! | K10: =#REF! -> #REF! | L10: =#REF! -> #REF!
A11: 5 | B11: =#REF! -> #REF! | C11: =VLOOKUP(#REF!,#REF!,3,FALSE) -> #REF! | D11: =#REF! -> #REF! | E11: =#REF! -> #REF! | F11: =#REF! -> #REF! | G11: =#REF! -> #REF! | H11: =#REF! -> #REF! | I11: =#REF! -> #REF! | J11: =#REF! -> #REF! | K11: =#REF! -> #REF! | L11: =#REF! -> #REF!
A12: 6 | B12: =#REF! -> #REF! | C12: =VLOOKUP(#REF!,#REF!,3,FALSE) -> #REF! | D12: =#REF! -> #REF! | E12: =#REF! -> #REF! | F12: =#REF! -> #REF! | G12: =#REF! -> #REF! | H12: =#REF! -> #REF! | I12: =#REF! -> #REF! | J12: =#REF! -> #REF! | K12: =#REF! -> #REF! | L12: =#REF! -> #REF!
A13: 7 | B13: =#REF! -> #REF! | C13: =VLOOKUP(#REF!,#REF!,3,FALSE) -> #REF! | D13: =#REF! -> #REF! | E13: =#REF! -> #REF! | F13: =#REF! -> #REF! | G13: =#REF! -> #REF! | H13: =#REF! -> #REF! | I13: =#REF! -> #REF! | J13: =#REF! -> #REF! | K13: =#REF! -> #REF! | L13: =#REF! -> #REF!
A14: 8 | B14: =#REF! -> #REF! | C14: =VLOOKUP(#REF!,#REF!,3,FALSE) -> #REF! | D14: =#REF! -> #REF! | E14: =#REF! -> #REF! | F14: =#REF! -> #REF! | G14: =#REF! -> #REF! | H14: =#REF! -> #REF! | I14: =#REF! -> #REF! | J14: =#REF! -> #REF! | K14: =#REF! -> #REF! | L14: =#REF! -> #REF!
A15: 9 | B15: =#REF! -> #REF! | C15: =VLOOKUP(#REF!,#REF!,3,FALSE) -> #REF! | D15: =#REF! -> #REF! | E15: =#REF! -> #REF! | F15: =#REF! -> #REF! | G15: =#REF! -> #REF! | H15: =#REF! -> #REF! | I15: =#REF! -> #REF! | J15: =#REF! -> #REF! | K15: =#REF! -> #REF! | L15: =#REF! -> #REF!
A16: 10 | B16: =#REF! -> #REF! | C16: =VLOOKUP(#REF!,#REF!,3,FALSE) -> #REF! | D16: =#REF! -> #REF! | E16: =#REF! -> #REF! | F16: =#REF! -> #REF! | G16: =#REF! -> #REF! | H16: =#REF! -> #REF! | I16: =#REF! -> #REF! | J16: =#REF! -> #REF! | K16: =#REF! -> #REF! | L16: =#REF! -> #REF!
A17: 11 | B17: =#REF! -> #REF! | C17: =VLOOKUP(#REF!,#REF!,3,FALSE) -> #REF! | D17: =#REF! -> #REF! | E17: =#REF! -> #REF! | F17: =#REF! -> #REF! | G17: =#REF! -> #REF! | H17: =#REF! -> #REF! | I17: =#REF! -> #REF! | J17: =#REF! -> #REF! | K17: =#REF! -> #REF! | L17: =#REF! -> #REF!
A18: 12 | B18: =#REF! -> #REF! | C18: =VLOOKUP(#REF!,#REF!,3,FALSE) -> #REF! | D18: =#REF! -> #REF! | E18: =#REF! -> #REF! | F18: =#REF! -> #REF! | G18: =#REF! -> #REF! | H18: =#REF! -> #REF! | I18: =#REF! -> #REF! | J18: =#REF! -> #REF! | K18: =#REF! -> #REF! | L18: =#REF! -> #REF!
A21: =VLOOKUP(#REF!,#REF!,3,FALSE) -> #REF! | D21: =SUM(D7:D20) -> #REF! | E21: =SUM(E7:E20) -> #REF! | F21: =SUM(F7:F20) -> #REF! | G21: =SUM(G7:G20) -> #REF! | H21: =SUM(H7:H20) -> #REF! | I21: =SUM(I7:I20) -> #REF! | J21: =SUM(J7:J20) -> #REF! | K21: =SUM(K7:K20) -> #REF! | L21: =SUM(L7:L20) -> #REF!
A22: =VLOOKUP(#REF!,#REF!,3,FALSE) -> #REF! | I22: =I21/I23*100 -> #REF! | J22: =J21/J23*100 -> #REF! | K22: =K21/K23*100 -> #REF! | L22: =L21/L23*100 -> #REF!
A23: ВВП (в долл.США) | I23: =I25/I26 -> 6287.5 | J23: =J25/J26 -> 7086 | K23: =K25/K26 -> 8234.375 | L23: =L25/L26 -> 9633.0798
B25: Примечание: * прогнозный проект | G25: ВВП ( в сомони) - | I25: ='[1]by creditors'!$I$119 -> 30180 | J25: ='[1]by creditors'!$J$119 -> 35430 | K25: ='[1]by creditors'!$K$119 -> 42160 | L25: ='[1]by creditors'!$L$119 -> 50670
C26: **-выделение кредита в равных долях ЕБРР и ЕИБ | G26: Курс( $ к сомони) - | I26: ='[1]by creditors'!$I$120 -> 4.8 | J26: 5 | K26: ='[1]by creditors'!$K$120 -> 5.12 | L26: ='[1]by creditors'!$L$120 -> 5.26
C27: *** - Планируемая к подписанию сумма
B28: Дол. США - Доллар Соединенных Штатов Америки
B29: СПЗ - Специальные Права Заимствования | G29: =#REF!+#REF!+#REF!+#REF!+#REF!+#REF!+#REF!+#REF!+#REF!+#REF!+#REF! -> #REF!
B30: ИД - Исламский Динар
B31: СР - Саудовский Риал
B32: КД - Кувейтский Динар
B33: ОАЭД-Дирхам ОАЭ
B34: қарз | G34: 1345956 | J34: 151771 | K34: 144242 | L34: 113601

Sheet Agregated Sectors (Eng)
A1: Программа государственных внешних заимствований Республики Таджикистан на 2013-2015гг
A4: № п/п | B4: № сектора | C4: Наименование кредиторов | D4: Количество проектов | G4: Сумма кредита в долл. США по сост. на 01.06.12г. | H4: Исполь-зовано до 01.01.2012г. | I4: Ожидаемое использо-вание в 2012 году | J4: Прогноз использования кредита на: | O4: Ожидаемое использо-вание в 2013 году
D5: Действующие | E5: Новые | F5: Итого | J5: 2013г. | K5: 2014г. | L5: 2015г.
A7: =#REF! -> #REF! | B7: =#REF! -> #REF! | C7: =VLOOKUP(#REF!,#REF!,3,FALSE) -> #REF! | D7: =#REF! -> #REF! | E7: =#REF! -> #REF! | F7: =#REF! -> #REF! | G7: =#REF! -> #REF! | H7: =#REF! -> #REF! | I7: =#REF! -> #REF! | J7: =#REF! -> #REF! | K7: =#REF! -> #REF! | L7: =#REF! -> #REF!
A8: =#REF! -> #REF! | B8: =#REF! -> #REF! | C8: =VLOOKUP(#REF!,#REF!,3,FALSE) -> #REF! | D8: =#REF! -> #REF! | E8: =#REF! -> #REF! | F8: =#REF! -> #REF! | G8: =#REF! -> #REF! | H8: =#REF! -> #REF! | I8: =#REF! -> #REF! | J8: =#REF! -> #REF! | K8: =#REF! -> #REF! | L8: =#REF! -> #REF!
A9: =#REF! -> #REF! | B9: =#REF! -> #REF! | C9: =VLOOKUP(#REF!,#REF!,3,FALSE) -> #REF! | D9: =#REF! -> #REF! | E9: =#REF! -> #REF! | F9: =#REF! -> #REF! | G9: =#REF! -> #REF! | H9: =#REF! -> #REF! | I9: =#REF! -> #REF! | J9: =#REF! -> #REF! | K9: =#REF! -> #REF! | L9: =#REF! -> #REF!
A10: =#REF! -> #REF! | B10: =#REF! -> #REF! | C10: =VLOOKUP(#REF!,#REF!,3,FALSE) -> #REF! | D10: =#REF! -> #REF! | E10: =#REF! -> #REF! | F10: =#REF! -> #REF! | G10: =#REF! -> #REF! | H10: =#REF! -> #REF! | I10: =#REF! -> #REF! | J10: =#REF! -> #REF! | K10: =#REF! -> #REF! | L10: =#REF! -> #REF!
A11: =#REF! -> #REF! | B11: =#REF! -> #REF! | C11: =VLOOKUP(#REF!,#REF!,3,FALSE) -> #REF! | D11: =#REF! -> #REF! | E11: =#REF! -> #REF! | F11: =#REF! -> #REF! | G11: =#REF! -> #REF! | H11: =#REF! -> #REF! | I11: =#REF! -> #REF! | J11: =#REF! -> #REF! | K11: =#REF! -> #REF! | L11: =#REF! -> #REF!
A12: =#REF! -> #REF! | B12: =#REF! -> #REF! | C12: =VLOOKUP(#REF!,#REF!,3,FALSE) -> #REF! | D12: =#REF! -> #REF! | E12: =#REF! -> #REF! | F12: =#REF! -> #REF! | G12: =#REF! -> #REF! | H12: =#REF! -> #REF! | I12: =#REF! -> #REF! | J12: =#REF! -> #REF! | K12: =#REF! -> #REF! | L12: =#REF! -> #REF!
A13: =#REF! -> #REF! | B13: =#REF! -> #REF! | C13: =VLOOKUP(#REF!,#REF!,3,FALSE) -> #REF! | D13: =#REF! -> #REF! | E13: =#REF! -> #REF! | F13: =#REF! -> #REF! | G13: =#REF! -> #REF! | H13: =#REF! -> #REF! | I13: =#REF! -> #REF! | J13: =#REF! -> #REF! | K13: =#REF! -> #REF! | L13: =#REF! -> #REF!
A15: =VLOOKUP(#REF!,#REF!,3,FALSE) -> #REF! | D15: =SUM(D7:D14) -> #REF! | E15: =SUM(E7:E14) -> #REF! | F15: =SUM(F7:F14) -> #REF! | G15: =SUM(G7:G14) -> #REF! | H15: =SUM(H7:H14) -> #REF! | I15: =SUM(I7:I14) -> #REF! | J15: =SUM(J7:J14) -> #REF! | K15: =SUM(K7:K14) -> #REF! | L15: =SUM(L7:L14) -> #REF!
A16: =VLOOKUP(#REF!,#REF!,3,FALSE) -> #REF! | I16: =I15/I17*100 -> #REF! | J16: =J15/J17*100 -> #REF! | K16: =K15/K17*100 -> #REF! | L16: =L15/L17*100 -> #REF!
A17: ВВП (в долл.США) | I17: =I19/I20 -> 6287.5 | J17: =J19/J20 -> 7086 | K17: =K19/K20 -> 8234.375 | L17: =L19/L20 -> 9633.0798
B19: Примечание: * прогнозный проект | G19: ВВП ( в сомони) - | I19: ='[1]by creditors'!$I$119 -> 30180 | J19: ='[1]by creditors'!$J$119 -> 35430 | K19: ='[1]by creditors'!$K$119 -> 42160 | L19: ='[1]by creditors'!$L$119 -> 50670
C20: **-выделение кредита в равных долях ЕБРР и ЕИБ | G20: Курс( $ к сомони) - | I20: ='[1]by creditors'!$I$120 -> 4.8 | J20: 5 | K20: ='[1]by creditors'!$K$120 -> 5.12 | L20: ='[1]by creditors'!$L$120 -> 5.26
C21: *** - Планируемая к подписанию сумма
B22: Дол. США - Доллар Соединенных Штатов Америки
B23: СПЗ - Специальные Права Заимствования
B24: ИД - Исламский Динар
B25: СР - Саудовский Риал
B26: КД - Кувейтский Динар
B27: ОАЭД-Дирхам ОАЭ
B28: қарз | G28: 1345956 | J28: 151771 | K28: 144242 | L28: 113601

Sheet Грант-Сектор
B2: Барномаи давлатии қарзгирии берунаи Ҷумҳурии Тоҷикистон барои солҳои 2013-2015
A4: № Т/Т | B4: № лоиҳа | C4: Номгўи лоиҳаҳо аз рўи қарздиҳандаҳо | D4: Номгўи қарзди-ҳандаҳо | E4: Маблағи қарз бо асъори баимзорасида | G4: Маблағи қарз бо доллари ШМА тибќи ҳолати то 01.06.с.12. | H4: Пешбинии истифодабарии қарз барои солҳои: | K4: Соҳа | L4: знак для сумма Итого | M4: для количества кредитов
H5: 2013 | I5: 2014 | J5: 2015 | M5: действующие | N5: новые
A6: Соҳаи ҳокимият ва идоракунии давлатӣ
A7: =VLOOKUP(#REF!,#REF!,2,FALSE) -> #REF!
A8: =#REF! -> #REF! | B8: №Н463 TJ | C8: Лоиҳаи мукаммалгардонии идоракунии молияи давлатӣ | D8: Гранти Бонки Умумиҷаҳонӣ | E8: =ГРАНТ!E8 -> 3.4 | F8: =VLOOKUP(#REF!,#REF!,2,FALSE) -> #REF! | G8: =ГРАНТ!G8 -> 5.121 | H8: 1.891 | I8: 0.59 | J8: 0 | K8: Соҳаи ҳокимият ва идоракунии давлатӣ | L8: =IF(B8=$B$19,1,0) -> #REF! | M8: 1 | N8: 0 | P8: =J8+I8+H8 -> 2.481
A9: =#REF! -> #REF! | D9: Гранти PHRD (Хукумати Япония) | E9: 0.972 | F9: Доллари ШМА | G9: 0.972 | H9: 1.2 | I9: 0.25 | J9: 0 | K9: Соҳаи ҳокимият ва идоракунии давлатӣ | L9: =IF(B9=$B$19,1,0) -> #REF! | M9: 1 | N9: 0 | P9: =J9+I9+H9 -> 1.45
A10: =#REF! -> #REF! | D10: Гранти ЕК ва Гранти DFID | E10: 4.698 | F10: Доллари ШМА | G10: 4.698 | H10: 1.649 | I10: 0.99 | J10: 0 | K10: Соҳаи ҳокимият ва идоракунии давлатӣ | L10: =IF(B10=$B$19,1,0) -> #REF! | M10: 1 | N10: 0 | P10: =J10+I10+H10 -> 2.639
A11: 4 | C11: Баланд бардоштани ракобатнокии бахши хусуси | D11: Гранти Бонки Умумиҷаҳонӣ | E11: 6.5 | F11: ҲМҚ | G11: 10 | H11: 3 | I11: 2 | J11: 4 | K11: Соҳаи ҳокимият ва идоракунии давлатӣ | L11: =IF(B11=$B$19,1,0) -> #REF! | M11: 1 | N11: 0 | P11: =J11+I11+H11 -> 9
A13: =VLOOKUP(#REF!,#REF!,2,FALSE) -> #REF! | G13: =SUM(G8:G12) -> 20.791 | H13: =SUM(H8:H12) -> 7.74 | I13: =SUM(I8:I12) -> 3.83 | J13: =SUM(J8:J12) -> 4
A14: =VLOOKUP(#REF!,#REF!,2,FALSE) -> #REF!
A15: =#REF! -> #REF! | C15: Гранти БОР | D15: Гранти Бонки Осиёгии рушд | E15: 3 | F15: Доллари ШМА | G15: 3 | H15: 0 | I15: 1 | J15: 1 | K15: Соҳаи ҳокимият ва идоракунии давлатӣ | L15: =IF(B15=$B$19,1,0) -> #REF! | M15: 0 | N15: 1 | P15: =J15+I15+H15 -> 2
A16: =#REF! -> #REF! | C16: Маъмуркунонии андоз | D16: Гранти Бонки Умумиҷаҳонӣ | E16: =#REF! -> #REF! | F16: - | G16: 15 | H16: 0 | I16: 3 | J16: 3 | K16: Соҳаи ҳокимият ва идоракунии давлатӣ | L16: =IF(B16=$B$19,1,0) -> #REF! | M16: 0 | N16: 1 | P16: =J16+I16+H16 -> 6
A18: =VLOOKUP(#REF!,#REF!,2,FALSE) -> #REF! | G18: =SUM(G15:G17) -> 18 | H18: =SUM(H15:H17) -> 0 | I18: =SUM(I15:I17) -> 4 | J18: =SUM(J15:J17) -> 4
B19: =VLOOKUP(#REF!,#REF!,2,FALSE) -> #REF! | C19: =A6 -> Соҳаи ҳокимият ва идоракунии давлатӣ | G19: =G18+G13 -> 38.791 | H19: =H18+H13 -> 7.74 | I19: =I18+I13 -> 7.83 | J19: =J18+J13 -> 8
A21: Соҳаи маориф
A22: =VLOOKUP(#REF!,#REF!,2,FALSE) -> #REF!
A23: =#REF! -> #REF! | B23: №H037-TJ | C23: Лоиҳаи модернизатсияи соҳаи маориф | D23: Гранти Бонки Умумиҷаҳонӣ | E23: 5.2 | F23: ҲМҚ | G23: 7.888 | H23: 0 | I23: 0 | J23: 0 | K23: Соҳаи маориф | L23: =IF(B23=$B$19,1,0) -> #REF! | M23: 1 | N23: 0 | P23: =J23+I23+H23 -> 0
A24: =#REF! -> #REF! | C24: Лоиҳаи модернизатсияи соҳаи маориф (маблағгузории иловагӣ) | D24: Гранти Бонки Умумиҷаҳонӣ | E24: 1.4 | F24: ҲМҚ | G24: 2 | H24: 1.074 | I24: 0 | J24: 0 | K24: Соҳаи маориф | L24: =IF(B24=$B$19,1,0) -> #REF! | M24: 1 | N24: 0 | P24: =J24+I24+H24 -> 1.074
