Workbook

Sheet Creditors (Taj)
K1: Замимаи 2 ба Барномаи қарзгирии давлатии Ҷумҳурии Тоҷикистон барои солҳои 2019– 2021
A2: Тақсимоти Барномаи қарзгирии берунаи давлатии Ҷумҳурии Тоҷикистон аз рӯи донорҳо | O2: 65.73
M3: (млн доллари ИМА)
A4: № Т/Т | B4: № лоиҳа | C4: Номгўи лоиҳаҳо аз рўи қарздиҳандаҳо | D4: Номгўи қарздиҳандаҳо | E4: Маблағи қарз бо асъори баимзорасида | G4: Маблағи қарз бо доллари ШМА тибќи ҳолати то 01.06.с.18. | H4: Истифода шудааст то 01.01.2018 | I4: Пешбинии истифо-дабарии қарз дар соли 2018 | J4: Пешбинии истифодабарии қарз барои солҳои | M4: Субъектҳои Љумҳурии Тољикистон, ки қарзҳоро истифода мебаранд | N4: Сектор | O4: знак для сумма Итого | P4: для количества кредитов | R4: Ожидаемое использо-вание в 2013 году
J5: 2019 | K5: 2020 | L5: 2021 | P5: действующие | Q5: новые
A6: Бонки Умумиҷаҳонӣ | G6: 282.85412 | H6: 18.624718 | I6: 13.727647 | J6: 46.794573 | K6: 44.721793 | L6: 43.828711
A7: Лоиҳаҳои амалкунанда
A8: 1 | B8: 5593-TJ | C8: Лоиҳаи рушди роҳҳои минтақавӣ дар Осиёи Марказӣ, таҷдиди роҳи автомобилгарди Хуҷанд-Исфара | D8: Бонки Умумиҷаҳонӣ | E8: 26.5 | F8: Ҳуқуқҳои махсуси қарзгирӣ | G8: 37.566665 | H8: 12.774831 | I8: 11.291834 | J8: 8 | K8: 5.5 | L8: 0 | M8: Вазорати нақлиёт | N8: Соҳаи нақлиёт ва коммуникатсия | O8: 0 | P8: 1 | Q8: 0
A9: 2 | B9: 5702-TJ | C9: Лоиҳаи рушди маълумоти олии Тоҷикистон | D9: Бонки Умумиҷаҳонӣ | E9: 6 | F9: Ҳуқуқҳои махсуси қарзгирӣ | G9: 8.50566 | H9: 0 | I9: 0 | J9: 0 | K9: 0 | L9: 0 | M9: Вазорати маориф ва илм | N9: Соҳаи маориф | O9: 0 | P9: 1 | Q9: 0
A10: 3 | B10: 5697-TJ | C10: Маблағгузории иловагии лоиҳаи дуюми таъмини шуғли аҳолӣ | D10: Бонки Умумиҷаҳонӣ | E10: 4.7 | F10: Ҳуқуқҳои махсуси қарзгирӣ | G10: 6.662767 | H10: 0 | I10: 0 | J10: 4.541 | K10: 0.039 | L10: 0 | M10: Агентии беҳдошти замин ва обёрии назди Ҳукумати Ҷумҳурии Тоҷикистон | N10: Соҳаи кишоварзӣ ва обёрӣ | O10: 0 | P10: 1 | Q10: 0
A11: 4 | B11: 5666-TJ | C11: Маблағгузории иловагии лоиҳаи рушди хизматрасонии тиббӣ | D11: Бонки Умумиҷаҳонӣ | E11: 4 | F11: Ҳуқуқҳои махсуси қарзгирӣ | G11: 5.67044 | H11: 2.9961635 | I11: 0.05787646 | J11: 2.6164 | K11: 0 | L11: 0 | M11: Вазорати тандурустӣ ва ҳифзи иҷтимоии аҳолӣ | N11: #N/A | O11: 0 | P11: 1 | Q11: 0
A12: 5 | B12: 5709-TJ | C12: Маблағгузории иловагии лоиҳаи обтаъминкунии шаҳри Душанбе | D12: Бонки Умумиҷаҳонӣ | E12: 4 | F12: Ҳуқуқҳои махсуси қарзгирӣ | G12: 5.67044 | H12: 0 | I12: 0 | J12: 5.231 | K12: 0 | L12: 0 | M12: Мақомоти иҷроияи ҳокимияти давлатии шаҳри Душанбе | N12: Соҳаи хоҷагии манзилию коммуналӣ | O12: 0 | P12: 1 | Q12: 0
A13: 6 | B13: 56310-IDA | C13: Лоиҳаи мукаммалгардонии идоракунии молияи давлатӣ, марҳилаи 2 | D13: Бонки Умумиҷаҳонӣ | E13: 4 | F13: Ҳуқуқҳои махсуси қарзгирӣ | G13: 5.67044 | H13: 0 | I13: 0 | J13: 1.675908 | K13: 3.539125 | L13: 0.284967 | M13: Вазорати молия | N13: Соҳаи идоракунии давлатӣ | O13: 0 | P13: 1 | Q13: 0
A14: 7 | B14: 5742-TJ | C14: Барномаи мутобиқгардонӣ ба тағйирёбии иқлим ва кам кардани таъсири он ба ҳавзаи баҳри Арал | D14: Бонки Умумиҷаҳонӣ | E14: 6.4 | F14: Ҳуқуқҳои махсуси қарзгирӣ | G14: 9.072704 | H14: 2.8537237 | I14: 2.3779364 | J14: 1.930265 | K14: 1.910779 | L14: 0.01 | M14: Вазорати молия | N14: Соҳаи кишоварзӣ ва обёрӣ | O14: 0 | P14: 1 | Q14: 0
A15: 8 | B15: 6089-TJ | C15: Мустаҳкам намудани инфрасохтори муҳим ҷиҳати таъмини устуворӣ зидди хатарҳои табиӣ | D15: Бонки Умумиҷаҳонӣ | E15: 25 | F15: Доллари Иёлоти Муттаҳидаи Америка | G15: 25 | H15: 0 | I15: 0 | J15: 2 | K15: 3.199556 | L15: 5.00041 | M15: Дигарҳо | N15: Соҳаи кишоварзӣ ва обёрӣ | O15: 0 | P15: 1 | Q15: 0
A16: 9 | B16: 6025-TJ "B" | C16: Лоиҳаи таҷдиди Неругоҳи барқи обии Норак, марҳилаи 1 | D16: Бонки Умумиҷаҳонӣ | E16: 100 | F16: Доллари Иёлоти Муттаҳидаи Америка | G16: 100 | H16: 0 | I16: 0 | J16: 10 | K16: 19 | L16: 25 | M16: Ширкати саҳомии холдингии кушодаи "Барқи Тоҷик" | N16: Соҳаи энергетика ва саноат | O16: 0 | P16: 1 | Q16: 0
A17: 10 | B17: 6024-TJ "A" | D17: Бонки Умумиҷаҳонӣ | E17: 69.135 | F17: Доллари Иёлоти Муттаҳидаи Америка | G17: 69.135 | H17: 0 | I17: 0 | J17: 10 | K17: 9 | L17: 10 | M17: Ширкати саҳомии холдингии кушодаи "Барқи Тоҷик" | N17: Соҳаи энергетика ва саноат | O17: 0 | P17: 1 | Q17: 0
A18: 11 | B18: 6175-TJ | C18: Мустаҳкамсозии системаи ҳифзи иҷтимоӣ (маблағгузории иловагӣ) | D18: Бонки Умумиҷаҳонӣ | E18: 0.9 | F18: Доллари Иёлоти Муттаҳидаи Америка | G18: 0.9 | H18: 0 | I18: 0 | J18: 0.6 | K18: 0 | L18: 0 | M18: Вазорати тандурустӣ ва ҳифзи иҷтимоии аҳолӣ | N18: Суғуртаи иҷтимоӣ ва ҳифзи иҷтимоӣ | O18: 0 | P18: 0 | Q18: 1
A19: 12 | B19: H679-TJ | C19: Лоиҳаи мукаммалсозии хизматрасонии гидрометеорологӣ дар Ҷумҳурии Тоҷикистон | D19: Бонки Умумиҷаҳонӣ | E19: 1.5 | F19: Доллари Иёлоти Муттаҳидаи Америка | G19: 1.5 | H19: 0 | I19: 0 | J19: 0.2 | K19: 0.5 | L19: 0.8 | M19: Муассисаи давлатии "Обуҳавошиносии Ҷумҳурии Тоҷикистон" | N19: Соҳаи хоҷагии манзилию коммуналӣ | O19: 0 | P19: 0 | Q19: 1
A20: 13 | B20: 6167-TJ | C20: Лоиҳаи тиҷоратикунонии соҳаи кишоварзӣ | D20: Бонки Умумиҷаҳонӣ | E20: 7.5 | F20: Доллари Иёлоти Муттаҳидаи Америка | G20: 7.5 | H20: 0 | I20: 0 | J20: 0 | K20: 2.033333 | L20: 2.733334 | M20: Вазорати молия | N20: Соҳаи кишоварзӣ ва обёрӣ | O20: 0 | P20: 0 | Q20: 1
O21: 0
A22: Ҳамагӣ лоиҳаҳои амалкунанда | G22: 282.85412 | H22: 18.624718 | I22: 13.727647 | J22: 46.794573 | K22: 44.721793 | L22: 43.828711 | O22: 0 | P22: 10 | Q22: 3 | R22: 0
B23: Ҳамагӣ | C23: Бонки Умумиҷаҳонӣ | G23: 282.85412 | H23: 18.624718 | I23: 13.727647 | J23: 46.794573 | K23: 44.721793 | L23: 43.828711
O24: 0
A25: Бонки Осиёии Рушд | G25: 116.40421 | H25: 32.969527 | I25: 13.025492 | J25: 17.266512 | K25: 26.745456 | L25: 26.558895
A26: Лоиҳаҳои амалкунанда | O26: 0
A27: 14 | B27: 3309-TAJ(SF) | C27: Лоиҳаи тақвияти иштироки бахши хусусӣ дар таҳсилоти техникӣ ва касбӣ | D27: Бонки Осиёгии Рушд | E27: 10.633 | F27: Ҳуқуқҳои махсуси қарзгирӣ | G27: 15.073447 | H27: 0.85812064 | I27: 0 | J27: 2.9856 | K27: 4.88 | L27: 6.5114 | M27: Вазорати меҳнат, муҳоҷират ва шуғли аҳолӣ | N27: Соҳаи маориф | O27: 0 | P27: 1 | Q27: 0
A28: 15 | B28: 3451 TAJ(SF) | C28: Лоиҳаи ҳИМОМ (ЦАРЭС) оид ба беҳдошти коридорҳои 2, 5 ва 6, марҳилаи 1 (таҷдиди роҳи Душанбе - Қўрғонтеппа) | D28: Бонки Осиёгии Рушд | E28: 35.289 | F28: Ҳуқуқҳои махсуси қарзгирӣ | G28: 50.026039 | H28: 0.47948762 | I28: 5.9156879 | J28: 9.7809123 | K28: 17.802456 | L28: 16.047495 | M28: Вазорати нақлиёт | N28: Соҳаи нақлиёт ва коммуникатсия | O28: 0 | P28: 1 | Q28: 0
A29: 16 | B29: 3434-TAJ(SF) | C29: Лоиҳаи идоракунии захираҳои обии ҳавзаи дарёи Панҷ | D29: Бонки Осиёгии Рушд | E29: 13.758 | F29: Ҳуқуқҳои махсуси қарзгирӣ | G29: 19.503478 | H29: 0.01821391 | I29: 6.9222645 | J29: 4.5 | K29: 4.063 | L29: 4 | M29: Агентии беҳдошти замин ва обёрии назди Ҳукумати Ҷумҳурии Тоҷикистон | N29: Соҳаи кишоварзӣ ва обёрӣ | O29: 0 | P29: 1 | Q29: 0
A30: 17 | B30: 3513-TAJ(SF) | C30: Барномаи рушди фазои сармоягузорӣ, зербарномаи 2 | D30: Бонки Осиёгии Рушд | E30: 22.433 | F30: Ҳуқуқҳои махсуси қарзгирӣ | G30: 31.801245 | H30: 31.613705 | I30: 0.1875399 | J30: 0 | K30: 0 | L30: 0 | M30: Вазорати молия | N30: Соҳаи идоракунии давлатӣ | O30: 0 | P30: 1 | Q30: 0
O31: 0
A32: Ҳамагӣ, лоиҳаҳои амалкунанда | G32: 116.40421 | H32: 32.969527 | I32: 13.025492 | J32: 17.266512 | K32: 26.745456 | L32: 26.558895 | O32: 0 | P32: 4
B33: Ҳамагӣ | C33: Бонки Осиёии Рушд | G33: 116.40421 | H33: 32.969527 | I33: 13.025492 | J33: 17.266512 | K33: 26.745456 | L33: 26.558895
O34: 0
A35: Бонки Исломии Рушд | G35: 846.41396 | H35: 40.35103 | I35: 32.303013 | J35: 19.46847 | K35: 18.984 | L35: 35.784
A36: Лоиҳаҳои амалкунанда | O36: 0
A37: 18 | B37: TAD-0043 | C37: Лоиҳаи сохтмони мактабҳои миёна (марҳилаи 3) | D37: Бонки Исломии Рушд | E37: 11.34 | F37: Динори исломӣ | G37: 16.075697 | H37: 15.791316 | I37: 0.28438106 | J37: 0 | K37: 0 | L37: 0 | M37: Вазорати маориф ва илм | N37: Соҳаи маориф | O37: 0 | P37: 1 | Q37: 0
A38: 19 | B38: TAD035 | C38: Лоињаи сохтмони роҳи мошингарди Кӯлоб-Қалъаихумб, Шӯрообод-Шоҳон | D38: Бонки Исломии Рушд | E38: 13.22 | F38: Динори исломӣ | G38: 18.740804 | H38: 18.230065 | I38: 0.51073914 | J38: 0 | K38: 0 | L38: 0 | M38: Вазорати нақлиёт | N38: Соҳаи нақлиёт ва коммуникатсия | O38: 0 | P38: 1 | Q38: 0
A39: 20 | B39: TAD-0048-49 | C39: Барномаҳо оид ба таҳсилоти касбӣ ҷиҳати паст намудани сатҳи камбизоатӣ | D39: Бонки Исломии Рушд | E39: 8.44 | F39: Динори исломӣ | G39: 11.964628 | H39: 2.3310007 | I39: 9.6336277 | J39: 0 | K39: 0 | L39: 0 | M39: Вазорати маориф ва илм | N39: Соҳаи маориф | O39: 0 | P39: 1 | Q39: 0
A40: 21 | B40: TAD-0051&0052 | C40: Лоиҳаи обёрии заминҳои водии Данғара (марҳилаи 3) | D40: Бонки Исломии Рушд | E40: 17.46 | F40: Динори исломӣ | G40: 26.76 | H40: 0.78074408 | I40: 13.743786 | J40: 12.23547 | K40: 0 | L40: 0 | M40: Агентии беҳдошти замин ва обёрии назди Ҳукумати Ҷумҳурии Тоҷикистон | N40: Соҳаи кишоварзӣ ва обёрӣ | O40: 0 | P40: 1 | Q40: 0
A41: 22 | B41: TAD-0054 | C41: Барқарорсозии зеристгоҳи "Равшан" | D41: Бонки Исломии Рушд | E41: 8.71 | F41: Динори исломӣ | G41: 12.347383 | H41: 3.2179039 | I41: 8.1304792 | J41: 0.999 | K41: 0 | L41: 0 | M41: Ширкати саҳомии холдингии кушодаи "Барқи Тоҷик" | N41: Соҳаи энергетика ва саноат | O41: 0 | P41: 1 | Q41: 0
A42: 23 | B42: TAD-0055 | C42: Лоиҳаи минтақавиии интиқоли қувваи барқ (CASA - 1000) | D42: Бонки Исломии Рушд | E42: 46.6 | F42: Динори исломӣ | G42: 70 | H42: 0 | I42: 0 | J42: 2 | K42: 12 | L42: 20 | M42: Вазорати энергетика ва захираҳои об | N42: Соҳаи энергетика ва саноат | O42: 0 | P42: 1 | Q42: 0
A43: 24 | B43: TJK-1002 | C43: Барқарорсозии коридори роҳи Кӯлоб - Қалъаихумб, бахшҳои А ва F | D43: Бонки Исломии Рушд | E43: 14.34488 | F43: Динори исломӣ | G43: 20.335445 | H43: 0 | I43: 0 | J43: 4.234 | K43: 4.984 | L43: 5.084 | M43: Вазорати нақлиёт | N43: Соҳаи нақлиёт ва коммуникатсия | O43: 0 | P43: 1 | Q43: 0
O44: 0
A45: Ҳамагӣ лоиҳаҳои амалкунанда | G45: 176.22396 | H45: 40.35103 | I45: 32.303013 | J45: 19.46847 | K45: 16.984 | L45: 25.084 | O45: 0 | P45: 7
A46: Лоиҳаҳои банақшагирифташуда | O46: 0
A47: 25 | C47: Рушди таъминоти оби нӯшокӣ дар деҳот (вилоятҳои Хатлону Суғд ва ноҳияҳои тобеи љумҳурӣ) | D47: Бонки Исломии Рушд | E47: 0 | F47: Динори исломӣ | G47: 10 | H47: 0 | I47: 0 | J47: 0 | K47: 0 | L47: 0 | M47: Корхонаи воҳиди давлатии "Хоҷагии манзилию коммуналӣ" | N47: Соҳаи хоҷагии манзилию коммуналӣ | O47: 0 | P47: 0 | Q47: 1
A48: 26 | C48: Барқарорсозии системаҳои ирригатсионї | D48: Бонки Исломии Рушд | E48: 0 | F48: Динори исломӣ | G48: 3.3 | H48: 0 | I48: 0 | J48: 0 | K48: 0 | L48: 0 | M48: Агентии беҳдошти замин ва обёрии назди Ҳукумати Ҷумҳурии Тоҷикистон | N48: Соҳаи кишоварзӣ ва обёрӣ | O48: 0 | P48: 0 | Q48: 1
A49: 27 | C49: њамкории бахши давлатӣ бо бахши хусусӣ | D49: Бонки Исломии Рушд | E49: 0 | F49: Динори исломӣ | G49: 45 | H49: 0 | I49: 0 | J49: 0 | K49: 0 | L49: 0 | M49: Дигарҳо | N49: Дигарҳо | O49: 0 | P49: 0 | Q49: 1
A50: 28 | C50: Сохтмони беморхонаи касалињои сирояткунанда дар шаҳри Душанбе | D50: Бонки Исломии Рушд | E50: 6 | F50: Динори исломӣ | G50: 8 | H50: 0 | I50: 0 | J50: 0 | K50: 0 | L50: 0 | M50: Мақомоти иҷроияи ҳокимияти давлатии шаҳри Душанбе | N50: Соҳаи тандурустӣ | O50: 0 | P50: 0 | Q50: 1
A51: 29 | C51: Сохтмон ва таљдиди роҳи автомобилгарди Душанбе-Кўлоб-Хоруғ-Ќулма, қитъаи Данғара-Гулистон | D51: Бонки Исломии Рушд | E51: 63 | F51: Доллари Иёлоти Муттаҳидаи Америка | G51: 63 | H51: 0 | I51: 0 | J51: 0 | K51: 0 | L51: 0 | M51: Вазорати нақлиёт | N51: Соҳаи нақлиёт ва коммуникатсия | O51: 0 | P51: 0 | Q51: 1
A52: 30 | C52: Сохтмони роҳи оҳани пайваcткунандаи Тољикистон бо Афғонистону Туркманистон (қитъаи Айваҷ-Хулм) | D52: Бонки Исломии Рушд | E52: 10 | F52: Доллари Иёлоти Муттаҳидаи Америка | G52: 10 | H52: 0 | I52: 0 | J52: 0 | K52: 0 | L52: 0 | M52: Вазорати нақлиёт | N52: Соҳаи нақлиёт ва коммуникатсия | O52: 0 | P52: 0 | Q52: 1
A53: 31 | C53: Сохтмони хатти интиқоли барқи 220 кВ "Айнӣ-Рӯдакӣ" | D53: Бонки Исломии Рушд | E53: 0 | F53: Динори исломӣ | G53: 0 | H53: 0 | I53: 0 | J53: 0 | K53: 0 | L53: 0 | M53: Ширкати саҳомии холдингии кушодаи "Барқи Тоҷик" | N53: Соҳаи энергетика ва саноат | O53: 0 | P53: 0 | Q53: 1
A54: 32 | C54: Лоиҳаи сохтмони озмоишгоҳи тиббии ҷумҳуриявӣ | D54: Бонки Исломии Рушд | E54: 8 | F54: Доллари Иёлоти Муттаҳидаи Америка | G54: 8 | H54: 0 | I54: 0 | J54: 0 | K54: 0 | L54: 0 | M54: Вазорати тандурустӣ ва ҳифзи иҷтимоии аҳолӣ | N54: Соҳаи тандурустӣ | O54: 0 | P54: 0 | Q54: 1
A55: 33 | C55: Сохтмони роҳи оҳани Туркманистон-Афғонистон-Тоҷикистон | D55: Бонки Исломии Рушд | E55: 20 | F55: Доллари Иёлоти Муттаҳидаи Америка | G55: 20 | H55: 0 | I55: 0 | J55: 0 | K55: 0 | L55: 0 | M55: Вазорати нақлиёт | N55: Соҳаи нақлиёт ва коммуникатсия | O55: 0 | P55: 0 | Q55: 1
A56: 34 | C56: Беҳдошти инфрасохтори обёрӣ дар вилояти Хатлон | D56: Бонки Исломии Рушд | E56: 23 | F56: Доллари Иёлоти Муттаҳидаи Америка | G56: 23 | H56: 0 | I56: 0 | J56: 0 | K56: 0 | L56: 0 | M56: Агентии беҳдошти замин ва обёрии назди Ҳукумати Ҷумҳурии Тоҷикистон | N56: Соҳаи кишоварзӣ ва обёрӣ | O56: 0 | P56: 0 | Q56: 1
A57: 35 | C57: Сохтмони ташхисгоҳи замонавӣ дар ш. Душанбе барои назорати сифати дорувориҳо, ғизои кӯдакон, BATS ва маҳсулоти косметикии воридшаванда | D57: Бонки Исломии Рушд | E57: 20 | F57: Доллари Иёлоти Муттаҳидаи Америка | G57: 20 | H57: 0 | I57: 0 | J57: 0 | K57: 0 | L57: 0 | M57: Вазорати тандурустӣ ва ҳифзи иҷтимоии аҳолӣ | N57: Соҳаи тандурустӣ | O57: 0 | P57: 0 | Q57: 1
A58: 36 | C58: Маблағгузории хурд | D58: Бонки Исломии Рушд | E58: 20 | F58: Доллари Иёлоти Муттаҳидаи Америка | G58: 20 | H58: 0 | I58: 0 | J58: 0 | K58: 0 | L58: 0 | M58: Дигарҳо | N58: Дигарҳо | O58: 0 | P58: 0 | Q58: 1
... A70: 48 | C70: Лоиҳаи беҳтарсозии инфрасохтори обёрӣ дар ноҳияҳои Қумсангир, Носири Хусрав, Панҷ, Хуросон, Шаҳритус, Восеъ ва Ёвони в.Хатлон | D70: Бонки Исломии Рушд | E70: 23.8 | F70: Доллари Иёлоти Муттаҳидаи Америка | G70: 23.8 | H70: 0 | I70: 0 | J70: 0 | K70: 0.05 | L70: 0.1 | M70: Агентии беҳдошти замин ва обёрии назди Ҳукумати Ҷумҳурии Тоҷикистон | N70: Соҳаи кишоварзӣ ва обёрӣ | O70: 0 | P70: 0 | Q70: 1
O71: 0 | Q71: 15
A72: Ҳамагӣ лоиҳаҳои банақшагирифташуда | G72: 670.19 | H72: 0 | I72: 0 | J72: 0 | K72: 2 | L72: 10.7 | O72: 0
B73: Ҳамагӣ | C73: Бонки Исломии Рушд | G73: 846.41396 | H73: 40.35103 | I73: 32.303013 | J73: 19.46847 | K73: 18.984 | L73: 35.784 | P73: 7 | Q73: 15
O74: 0
A75: Фонди Саудии Рушд | G75: 347.09663 | H75: 42.165905 | I75: 2.8307258 | J75: 14.7905 | K75: 17.4905 | L75: 21.0305
A76: Лоиҳаҳои амалкунанда | O76: 0
A77: 49 | B77: 7/522 | C77: Лоињаи сохтмони роҳи мошингарди Кӯлоб-Қалъаи Хумб, Шӯрообод-Шоҳон | D77: Фонди Саудии Рушд | E77: 75 | F77: Риёли саудӣ | G77: 19.998503 | H77: 18.519642 | I77: 1.4788603 | J77: 0 | K77: 0 | L77: 0 | M77: Вазорати нақлиёт | N77: Соҳаи нақлиёт ва коммуникатсия | O77: 0 | P77: 1 | Q77: 0
A78: 50 | B78: 8/595 | C78: Лоиҳаи сохтмони мактабҳои миёна (марҳилаи 3) | D78: Фонди Саудии Рушд | E78: 93.75 | F78: Риёли саудӣ | G78: 24.998128 | H78: 23.646263 | I78: 1.3518655 | J78: 0 | K78: 0 | L78: 0 | M78: Вазорати маориф ва илм | N78: Соҳаи маориф | O78: 0 | P78: 1 | Q78: 0
A79: 51 | B79: 9/694 | C79: Барқарорсозии коридори роҳи Кӯлоб - Қалъаи Хумб, бахшҳои А ва F | D79: Фонди Саудии Рушд | E79: 30 | F79: Доллари Иёлоти Муттаҳидаи Америка | G79: 30 | H79: 0 | I79: 0 | J79: 8.4905 | K79: 7.9905 | L79: 10.5305 | M79: Вазорати нақлиёт | N79: Соҳаи нақлиёт ва коммуникатсия | O79: 0 | P79: 1 | Q79: 0
A80: 52 | B80: 10/695 | C80: Лоиҳаи таҷдиди мактабҳо (марҳилаи 4) | D80: Фонди Саудии Рушд | E80: 35 | F80: Доллари Иёлоти Муттаҳидаи Америка | G80: 35 | H80: 0 | I80: 0 | J80: 6.3 | K80: 9.5 | L80: 10.5 | M80: Вазорати маориф ва илм | N80: Соҳаи маориф | O80: 0 | P80: 1 | Q80: 0
O81: 0
A82: Ҳамагӣ лоиҳаҳои амалкунанда | G82: 109.99663 | H82: 42.165905 | I82: 2.8307258 | J82: 14.7905 | K82: 17.4905 | L82: 21.0305 | O82: 0 | P82: 4 | Q82: 0
A83: Лоиҳаҳои банақшагирифташуда | O83: 0
A84: 53 | C84: Лоиҳаи беҳтарсозии инфрасохтори обёрӣ дар ноҳияҳои Қумсангир, Носири Хусрав, Панҷ, Хуросон, Шаҳритус, Восеъ ва Ёвони вилояти Хатлон, марҳилаи 1 | D84: Фонди Саудии Рушд | E84: 23.8 | F84: Доллари Иёлоти Муттаҳидаи Америка | G84: 23.8 | H84: 0 | I84: 0 | J84: 0 | K84: 0 | L84: 0 | M84: Агентии беҳдошти замин ва обёрии назди Ҳукумати Ҷумҳурии Тоҷикистон | N84: Соҳаи хоҷагии манзилию коммуналӣ | O84: 0 | P84: 0 | Q84: 1
A85: 54 | C85: Лоиҳаи барқарорсозии системаи обёрикунӣ, ҳимояи соҳилҳо ва тозакунии дохили сойҳо дар Вилояти Мухтори Куҳистони Бадахшон | D85: Фонди Саудии Рушд | E85: 13.1 | F85: Доллари Иёлоти Муттаҳидаи Америка | G85: 13.1 | H85: 0 | I85: 0 | J85: 0 | K85: 0 | L85: 0 | M85: Мақомоти иҷроияи ҳокимияти давлатии Вилояти Мухтори Кӯҳистони Бадахшон | N85: Соҳаи хоҷагии манзилию коммуналӣ | O85: 0 | P85: 0 | Q85: 1
A86: 55 | C86: Таҷдиди роҳи автомобилгарди Қӯрғонтеппа-Данғара-Кӯлоб (160 км) | D86: Фонди Саудии Рушд | E86: 155.1 | F86: Доллари Иёлоти Муттаҳидаи Америка | G86: 155.1 | H86: 0 | I86: 0 | J86: 0 | K86: 0 | L86: 0 | M86: Вазорати нақлиёт | N86: Соҳаи нақлиёт ва коммуникатсия | O86: 0 | P86: 0 | Q86: 1
A87: 56 | C87: Лоиҳаи сохтмони кӯпрукҳои аз офатҳои табии соли 2015 зарардида дар ноҳияи Ванҷ | D87: Фонди Саудии Рушд | E87: 6.1 | F87: Доллари Иёлоти Муттаҳидаи Америка | G87: 6.1 | H87: 0 | I87: 0 | J87: 0 | K87: 0 | L87: 0 | M87: Мақомоти иҷроияи ҳокимияти давлатии Вилояти Мухтори Кӯҳистони Бадахшон | N87: Соҳаи нақлиёт ва коммуникатсия | O87: 0 | P87: 0 | Q87: 1
A88: 57 | C88: Лоиҳаи барқарорсозии қитъаи роҳи автомобилгарди Душанбе-Кӯлоб-Мурғоб-Кулма | D88: Фонди Саудии Рушд | E88: 24.6 | F88: Доллари Иёлоти Муттаҳидаи Америка | G88: 24.6 | H88: 0 | I88: 0 | J88: 0 | K88: 0 | L88: 0 | M88: Вазорати нақлиёт | N88: Соҳаи нақлиёт ва коммуникатсия | O88: 0 | P88: 0 | Q88: 1
A89: 58 | C89: Лоиҳаи сохтмони кӯпрук аз болои дарёи Ғунд дар шаҳри Хоруғ | D89: Фонди Саудии Рушд | E89: 14.4 | F89: Доллари Иёлоти Муттаҳидаи Америка | G89: 14.4 | H89: 0 | I89: 0 | J89: 0 | K89: 0 | L89: 0 | M89: Мақомоти иҷроияи ҳокимияти давлатии Вилояти Мухтори Кӯҳистони Бадахшон | N89: Соҳаи нақлиёт ва коммуникатсия | O89: 0 | P89: 0 | Q89: 1
O90: 0 | P90: 0 | Q90: 0
A91: Ҳамагӣ лоиҳаҳои банақшагирифташуда | G91: 237.1 | H91: 0 | I91: 0 | J91: 0 | K91: 0 | L91: 0 | O91: 0 | P91: 0 | Q91: 6
B92: Ҳамагӣ | C92: Фонди Саудии Рушд | G92: 347.09663 | H92: 42.165905 | I92: 2.8307258 | J92: 14.7905 | K92: 17.4905 | L92: 21.0305 | P92: 4 | Q92: 6
O93: 0
A94: Фонди Кувайтии Рушд | G94: 151.59337 | H94: 16.262687 | I94: 0.28812389 | J94: 6.4875 | K94: 10.2675 | L94: 6.2375
A95: Лоиҳаҳои амалкунанда | O95: 0
A96: 59 | B96: 806 | C96: Лоињаи сохтмони роҳи мошингарди Кӯлоб-Қалъаихумб, Шӯрообод-Шоҳон | D96: Фонди Кувайтии Рушд | E96: 5 | F96: Динори кувайтӣ | G96: 16.550811 | H96: 16.262687 | I96: 0.28812389 | J96: 0 | K96: 0 | L96: 0 | M96: Вазорати нақлиёт | N96: Соҳаи нақлиёт ва коммуникатсия | O96: 0 | P96: 1 | Q96: 0
A97: 60 | B97: 989 | C97: Барқарорсозии коридори роҳи Кӯлоб - Қалъаихумб, бахшҳои А ва F | D97: Фонди Кувайтии Рушд | E97: 25.5 | F97: Доллари Иёлоти Муттаҳидаи Америка | G97: 25.5 | H97: 0 | I97: 0 | J97: 6.4875 | K97: 10.2675 | L97: 6.2375 | M97: Вазорати нақлиёт | N97: Соҳаи нақлиёт ва коммуникатсия | O97: 0 | P97: 1 | Q97: 0
O98: 0
A99: Ҳамагӣ лоиҳаҳои амалкунанда | G99: 42.050811 | H99: 16.262687 | I99: 0.28812389 | J99: 6.4875 | K99: 10.2675 | L99: 6.2375 | O99: 0
A100: Лоиҳаҳои банақшагирифташуда | O100: 0
A101: 61 | C101: Сохтмони нақби обпарто дар минтақаи ярчи Неругоҳи барқи обии Бойғозӣ | D101: Фонди Кувайтии Рушд | E101: 31.8 | F101: Доллари Иёлоти Муттаҳидаи Америка | G101: 31.8 | H101: 0 | I101: 0 | J101: 0 | K101: 0 | L101: 0 | M101: Вазорати энергетика ва захираҳои об | N101: Соҳаи энергетика ва саноат | O101: 0 | P101: 0 | Q101: 1
A102: 62 | C102: Таҷдиди роҳи автомобилгарди Кӯлоб - Қалъаихумб (қитъаи Кӯлоб - Шӯрообод) | D102: Фонди Кувайтии Рушд | E102: 31 | F102: Доллари Иёлоти Муттаҳидаи Америка | G102: 31 | H102: 0 | I102: 0 | J102: 0 | K102: 0 | L102: 0 | M102: Вазорати нақлиёт | N102: Соҳаи нақлиёт ва коммуникатсия | O102: 0 | P102: 0 | Q102: 1
A103: 63 | C103: Сохтмони роҳи Шкев-Қалъаи Хумб | D103: Фонди Кувайтии Рушд | E103: 46.742563 | F103: Доллари Иёлоти Муттаҳидаи Америка | G103: 46.742563 | H103: 0 | I103: 0 | J103: 0 | K103: 0 | L103: 0 | M103: Вазорати нақлиёт | N103: Соҳаи нақлиёт ва коммуникатсия | O103: 0 | P103: 0 | Q103: 1
O104: 0
A105: Ҳамагӣ лоиҳаҳои банақшагирифташуда | G105: 109.54256 | H105: 0 | I105: 0 | J105: 0 | K105: 0 | L105: 0 | O105: 0
B106: Ҳамагӣ | C106: Фонди Кувайтии Рушд | G106: 151.59337 | H106: 16.262687 | I106: 0.28812389 | J106: 6.4875 | K106: 10.2675 | L106: 6.2375 | P106: 2 | Q106: 3
O107: 0
A108: Фонди Абузабӣ | G108: 35.003404 | H108: 13.752312 | I108: 1.2510921 | J108: 5.481 | K108: 5.481 | L108: 7.211
A109: Лоиҳаҳои амалкунанда | O109: 0
A110: 64 | B110: 1175 | C110: Лоињаи сохтмони роҳи мошингарди Кӯлоб-Қалъаихумб, Шӯрообод-Шоҳон | D110: Фонди Абузабӣ | E110: 55.1 | F110: Дирҳами Аморати Муттаҳидаи Араб | G110: 15.003404 | H110: 13.752312 | I110: 1.2510921 | J110: 0 | K110: 0 | L110: 0 | M110: Вазорати нақлиёт | N110: Соҳаи нақлиёт ва коммуникатсия | O110: 0 | P110: 1 | Q110: 0
A111: 65 | B111: 1195 | C111: Барқарорсозии коридори роҳи Кӯлоб - Қалъаи Хумб, бахшҳои А ва F | D111: Фонди Абузабӣ | E111: 20 | F111: Доллари Иёлоти Муттаҳидаи Америка | G111: 20 | H111: 0 | I111: 0 | J111: 5.481 | K111: 5.481 | L111: 7.211 | M111: Вазорати нақлиёт | N111: Соҳаи нақлиёт ва коммуникатсия | O111: 0 | P111: 1 | Q111: 0
...

Sheet Sectors (Taj)
K2: Замимаи 4 ба Барномаи қарзгирии давлатии Ҷумҳурии Тоҷикистон барои солҳои 2019– 2021
B3: Тақсимоти Барномаи қарзгирии берунаи давлатии Ҷумҳурии Тоҷикистон аз рӯи соҳаҳо
M4: (млн доллари ИМА)
A5: № Т/Т | B5: № лоиҳа | C5: Номгўи лоиҳаҳо аз рўи қарздиҳандаҳо | D5: Номгўи қарзди-ҳандаҳо | E5: Маблағи қарз бо асъори баимзорасида | G5: Маблағи қарз бо доллари ШМА тибќи ҳолати то 01.06.18. | H5: Истифода шудааст то 01.01.2018 | I5: Пешбинии истифода-барии қарз дар соли 2018 | J5: Пешбинии истифодабарии қарз барои солҳои | M5: Субъектҳои Љумҳурии Тољикистон, ки қарзҳоро истифода мебаранд | N5: Сектор | O5: знак для сумма Итого | P5: для количества кредитов
J6: 2019 | K6: 2020 | L6: 2021 | P6: действующие | Q6: новые
A7: Соҳаи кишоварзӣ ва обёрӣ | G7: 340.21813 | H7: 5.2493416 | I7: 25.565009 | J7: 30.065035 | K7: 17.558868 | L7: 22.953744
A8: Лоиҳаҳои амалкунанда
A9: 1 | B9: TAD-0051&0052 | C9: Лоиҳаи обёрии заминҳои водии Данғара (марњилаи 3) | D9: Бонки Исломии Рушд | E9: 17.46 | F9: Динори исломӣ | G9: 26.76 | H9: 0.78074408 | I9: 13.743786 | J9: 12.23547 | K9: 0 | L9: 0 | M9: Агентии беҳдошти замин ва обёрии назди Ҳукумати Ҷумҳурии Тоҷикистон | N9: Соҳаи кишоварзӣ ва обёрӣ | O9: 0 | P9: 1 | Q9: 0
A10: 2 | B10: 5697-TJ | C10: Маблағгузории иловагии лоиҳаи дуюми таъмини шуғли аҳолӣ | D10: Бонки Умумиҷаҳонӣ | E10: 4.7 | F10: Ҳуқуқҳои махсуси қарзгирӣ | G10: 6.662767 | H10: 0 | I10: 0 | J10: 4.541 | K10: 0.039 | L10: 0 | M10: Агентии беҳдошти замин ва обёрии назди Ҳукумати Ҷумҳурии Тоҷикистон | N10: Соҳаи кишоварзӣ ва обёрӣ | O10: 0 | P10: 1 | Q10: 0
A11: 3 | B11: 5742-TJ | C11: Барномаи мутобиқгардонӣ ба тағйирёбии иқлим ва кам кардани таъсири он ба ҳавзаи баҳри Арал | D11: Бонки Умумиҷаҳонӣ | E11: 6.4 | F11: Ҳуқуқҳои махсуси қарзгирӣ | G11: 9.072704 | H11: 2.8537237 | I11: 2.3779364 | J11: 1.930265 | K11: 1.910779 | L11: 0.01 | M11: Вазорати молия | N11: Соҳаи кишоварзӣ ва обёрӣ | O11: 0 | P11: 1 | Q11: 0
A12: 4 | B12: 2000001439 | C12: Лоиҳаи рушди чорводорӣ ва чарогоҳҳо, марҳилаи 2 | D12: Фонди Байналмилалии Рушди Кишоварзӣ | E12: 6.2 | F12: Ҳуқуқҳои махсуси қарзгирӣ | G12: 8.789182 | H12: 1.59666 | I12: 2.521022 | J12: 2.6083 | K12: 2.0632 | L12: 0 | M12: Вазорати кишоварзӣ | N12: Соҳаи кишоварзӣ ва обёрӣ | O12: 0 | P12: 1 | Q12: 0
A13: 5 | B13: 6089-TJ | C13: Мустаҳкам намудани инфрасохтори муҳим ҷиҳати таъмини устуворӣ зидди хатарҳои табиӣ | D13: Бонки Умумиҷаҳонӣ | E13: 25 | F13: Доллари Иёлоти Муттаҳидаи Америка | G13: 25 | H13: 0 | I13: 0 | J13: 2 | K13: 3.199556 | L13: 5.00041 | M13: Вазорати кишоварзӣ | N13: Соҳаи кишоварзӣ ва обёрӣ | O13: 0 | P13: 1 | Q13: 0
A14: 6 | B14: 3434-TAJ(SF) | C14: Лоиҳаи идоракунии захираҳои обии ҳавзаи дарёи Панҷ | D14: Бонки Осиёгии Рушд | E14: 13.758 | F14: Ҳуқуқҳои махсуси қарзгирӣ | G14: 19.503478 | H14: 0.01821391 | I14: 6.9222645 | J14: 4.5 | K14: 4.063 | L14: 4 | M14: Агентии беҳдошти замин ва обёрии назди Ҳукумати Ҷумҳурии Тоҷикистон | N14: Соҳаи кишоварзӣ ва обёрӣ | O14: 0 | P14: 1 | Q14: 0
A15: 7 | B15: 2000002143 | C15: Дастгирии соҳаи кишоварзӣ дар рушди ҷомеа | D15: Фонди Байналмилалии Рушди Кишоварзӣ | E15: 15.33 | F15: Доллари Иёлоти Муттаҳидаи Америка | G15: 15.33 | H15: 0 | I15: 0 | J15: 2.25 | K15: 3.95 | L15: 4.11 | M15: Вазорати кишоварзӣ | N15: Соҳаи кишоварзӣ ва обёрӣ | O15: 0 | P15: 1 | Q15: 0
A16: 8 | B16: 6167-TJ | C16: Лоиҳаи тиҷоратикунонии соҳаи кишоварзӣ | D16: Бонки Умумиҷаҳонӣ | E16: 7.5 | F16: Доллари Иёлоти Муттаҳидаи Америка | G16: 7.5 | H16: 0 | I16: 0 | J16: 0 | K16: 2.033333 | L16: 2.733334 | M16: Вазорати молия | N16: Соҳаи кишоварзӣ ва обёрӣ | O16: 0 | P16: 0 | Q16: 1
A18: Ҳамагӣ лоиҳаҳои амалкунанда | G18: 118.61813 | H18: 5.2493416 | I18: 25.565009 | J18: 30.065035 | K18: 17.258868 | L18: 15.853744
A19: Лоиҳаҳои банақшагирифташуда
A20: 9 | C20: Барқарорсозии системаҳои ирригатсионӣ | D20: Бонки Исломии Рушд | E20: 0 | F20: Динори исломӣ | G20: 3.3 | H20: 0 | I20: 0 | J20: 0 | K20: 0 | L20: 0 | M20: Агентии беҳдошти замин ва обёрии назди Ҳукумати Ҷумҳурии Тоҷикистон | N20: Соҳаи кишоварзӣ ва обёрӣ | O20: 0 | P20: 0 | Q20: 1
A21: 10 | C21: Лоиҳа оид ба рушди захираҳои обӣ | D21: Дигарҳо | E21: 5 | F21: Доллари Иёлоти Муттаҳидаи Америка | G21: 5 | H21: 0 | I21: 0 | J21: 0 | K21: 0 | L21: 0 | M21: Агентии беҳдошти замин ва обёрии назди Ҳукумати Ҷумҳурии Тоҷикистон | N21: Соҳаи кишоварзӣ ва обёрӣ | O21: 0 | P21: 0 | Q21: 1
A22: 11 | C22: Беҳдошти инфрасохтори обёрӣ дар вилояти Хатлон | D22: Бонки Исломии Рушд | E22: 23 | F22: Доллари Иёлоти Муттаҳидаи Америка | G22: 23 | H22: 0 | I22: 0 | J22: 0 | K22: 0 | L22: 0 | M22: Агентии беҳдошти замин ва обёрии назди Ҳукумати Ҷумҳурии Тоҷикистон | N22: Соҳаи кишоварзӣ ва обёрӣ | O22: 0 | P22: 0 | Q22: 1
A23: 12 | C23: Механизатсиякунонии кишоварӣ | D23: Бонки Исломии Рушд | E23: 20 | F23: Доллари Иёлоти Муттаҳидаи Америка | G23: 20 | H23: 0 | I23: 0 | J23: 0 | K23: 0 | L23: 0 | M23: Вазорати кишоварзӣ | N23: Соҳаи кишоварзӣ ва обёрӣ | O23: 0 | P23: 0 | Q23: 1
A24: 13 | C24: Азхудкунӣ ва обёрии заминҳоии водии Данғара, марҳилаи 4 | D24: Бонки Исломии Рушд | E24: 48 | F24: Доллари Иёлоти Муттаҳидаи Америка | G24: 48 | H24: 0 | I24: 0 | J24: 0 | K24: 0 | L24: 0 | M24: Вазорати кишоварзӣ | N24: Соҳаи кишоварзӣ ва обёрӣ | O24: 0 | P24: 0 | Q24: 1
A25: 14 | C25: Лоиҳаи беҳтаргардонии амнияти озуқаворӣ таввасути технологияҳои устувори иқлимӣ | D25: Дигарҳо | E25: 5 | F25: Доллари Иёлоти Муттаҳидаи Америка | G25: 5 | H25: 0 | I25: 0 | J25: 0 | K25: 0 | L25: 0 | M25: Дигарҳо | N25: Соҳаи кишоварзӣ ва обёрӣ | O25: 0 | P25: 0 | Q25: 1
A26: 15 | C26: Барқарорсозии фаврии воситаҳои соҳилмустаҳкамкунӣ дар Хатлон | D26: Бонки Исломии Рушд | E26: 13.5 | F26: Доллари Иёлоти Муттаҳидаи Америка | G26: 13.5 | H26: 0 | I26: 0 | J26: 0 | K26: 0.05 | L26: 2 | M26: Агентии беҳдошти замин ва обёрии назди Ҳукумати Ҷумҳурии Тоҷикистон | N26: Соҳаи кишоварзӣ ва обёрӣ | O26: 0 | P26: 0 | Q26: 1
A27: 16 | C27: Беҳтар намудани идоракунии захираҳои обӣ дар вилояти Хатлон | D27: Бонки Исломии Рушд | E27: 60 | F27: Доллари Иёлоти Муттаҳидаи Америка | G27: 60 | H27: 0 | I27: 0 | J27: 0 | K27: 0.1 | L27: 3 | M27: Агентии беҳдошти замин ва обёрии назди Ҳукумати Ҷумҳурии Тоҷикистон | N27: Соҳаи кишоварзӣ ва обёрӣ | O27: 0 | P27: 0 | Q27: 1
A28: 17 | C28: Лоиҳаи беҳтарсозии инфрасохтори обёрӣ дар ноҳияҳои Қумсангир, Носири Хусрав, Панҷ, Хуросон, Шаҳритус, Восеъ ва Ёвони в.Хатлон | D28: Бонки Исломии Рушд | E28: 23.8 | F28: Доллари Иёлоти Муттаҳидаи Америка | G28: 23.8 | H28: 0 | I28: 0 | J28: 0 | K28: 0.05 | L28: 0.1 | M28: Агентии беҳдошти замин ва обёрии назди Ҳукумати Ҷумҳурии Тоҷикистон | N28: Соҳаи кишоварзӣ ва обёрӣ | O28: 0 | P28: 0 | Q28: 1
A29: 18 | C29: Лоиҳаи обёрӣ | D29: Дигарҳо | E29: 20 | F29: Доллари Иёлоти Муттаҳидаи Америка | G29: 20 | H29: 0 | I29: 0 | J29: 0 | K29: 0.1 | L29: 2 | M29: Агентии беҳдошти замин ва обёрии назди Ҳукумати Ҷумҳурии Тоҷикистон | N29: Соҳаи кишоварзӣ ва обёрӣ | O29: 0 | P29: 0 | Q29: 1
O30: 0
A31: Ҳамагӣ лоиҳаҳои банақшагирифташуда | G31: 221.6 | H31: 0 | I31: 0 | J31: 0 | K31: 0.3 | L31: 7.1 | O31: 0
B32: Ҳамагӣ | C32: Соҳаи кишоварзӣ ва обёрӣ | G32: 340.21813 | H32: 5.2493416 | I32: 25.565009 | J32: 30.065035 | K32: 17.558868 | L32: 22.953744 | P32: 7 | Q32: 10
O33: 0
A34: Соҳаи тандурустӣ | G34: 63.86044 | H34: 2.9961635 | I34: 0.05787646 | J34: 2.6164 | K34: 0.7 | L34: 2.2 | O34: 0
A35: Лоиҳаҳои амалкунанда | O35: 0
A36: 19 | B36: 5666-TJ | C36: Маблағгузории иловагии лоиҳаи рушди хизматрасонии тиббӣ | D36: Бонки Умумиҷаҳонӣ | E36: 4 | F36: Ҳуқуқҳои махсуси қарзгирӣ | G36: 5.67044 | H36: 2.9961635 | I36: 0.05787646 | J36: 2.6164 | K36: 0 | L36: 0 | M36: Вазорати тандурустӣ ва ҳифзи иҷтимоии аҳолӣ | N36: Соҳаи тандурустӣ | O36: 0 | P36: 1 | Q36: 0
A38: Ҳамагӣ лоиҳаҳои амалкунанда | G38: 5.67044 | H38: 2.9961635 | I38: 0.05787646 | J38: 2.6164 | K38: 0 | L38: 0 | O38: 0 | P38: 1
A39: Лоиҳаҳои банақшагирифташуда | O39: 0
A40: 20 | C40: Сохтмони беморхонаи касалињои сирояткунанда дар шаҳри Душанбе | D40: Бонки Исломии Рушд | E40: 6 | F40: Динори исломӣ | G40: 8 | H40: 0 | I40: 0 | J40: 0 | K40: 0 | L40: 0 | M40: Мақомоти иҷроияи ҳокимияти давлатии шаҳри Душанбе | N40: Соҳаи тандурустӣ | O40: 0 | P40: 0 | Q40: 1
A41: 21 | C41: Лоиҳаи сохтмони озмоишгоҳи тиббии ҷумҳуриявӣ | D41: Бонки Исломии Рушд | E41: 8 | F41: Доллари Иёлоти Муттаҳидаи Америка | G41: 8 | H41: 0 | I41: 0 | J41: 0 | K41: 0 | L41: 0 | M41: Вазорати тандурустӣ ва ҳифзи иҷтимоии аҳолӣ | N41: Соҳаи тандурустӣ | O41: 0 | P41: 0 | Q41: 1
A42: 22 | C42: Сохтмони ташхисгоҳи замонавӣ дар ш. Душанбе барои назорати сифати дорувориҳо, ғизои кӯдакон, BATS ва маҳсулоти косметикии воридшаванда | D42: Бонки Исломии Рушд | E42: 20 | F42: Доллари Иёлоти Муттаҳидаи Америка | G42: 20 | H42: 0 | I42: 0 | J42: 0 | K42: 0 | L42: 0 | M42: Вазорати тандурустӣ ва ҳифзи иҷтимоии аҳолӣ | N42: Соҳаи тандурустӣ | O42: 0 | P42: 0 | Q42: 1
A43: 23 | C43: Лоиҳаи беҳтар намудани хизматрасонӣ ба модару кӯдак дар вилояти Хатлон | D43: Бонки Исломии Рушд | E43: 22.19 | F43: Доллари Иёлоти Муттаҳидаи Америка | G43: 22.19 | H43: 0 | I43: 0 | J43: 0 | K43: 0.7 | L43: 2.2 | M43: Вазорати тандурустӣ ва ҳифзи иҷтимоии аҳолӣ | N43: Соҳаи тандурустӣ | O43: 0 | P43: 0 | Q43: 1
O44: 0
A45: Ҳамагӣ лоиҳаҳои банақшагирифташуда | G45: 58.19 | H45: 0 | I45: 0 | J45: 0 | K45: 0.7 | L45: 2.2 | O45: 0
B46: Ҳамагӣ | C46: Соҳаи тандурустӣ | G46: 63.86044 | H46: 2.9961635 | I46: 0.05787646 | J46: 2.6164 | K46: 0.7 | L46: 2.2 | O46: 1 | P46: 1 | Q46: 4
O47: 0
A48: Соҳаи маориф | G48: 252.11756 | H48: 42.626701 | I48: 11.269874 | J48: 9.2856 | K48: 14.58 | L48: 17.4114 | O48: 0
A49: Лоиҳаҳои амалкунанда | O49: 0
A50: 24 | B50: TAD-0043 | C50: Лоиҳаи сохтмони мактабҳои миёна (марҳилаи 3) | D50: Бонки Исломии Рушд | E50: 11.34 | F50: Динори исломӣ | G50: 16.075697 | H50: 15.791316 | I50: 0.28438106 | J50: 0 | K50: 0 | L50: 0 | M50: Вазорати маориф ва илм | N50: Соҳаи маориф | O50: 0 | P50: 1 | Q50: 0
A51: 25 | B51: 8/595 | D51: Фонди Саудии Рушд | E51: 93.75 | F51: Риёли саудӣ | G51: 24.998128 | H51: 23.646263 | I51: 1.3518655 | J51: 0 | K51: 0 | L51: 0 | M51: Вазорати маориф ва илм | N51: Соҳаи маориф | O51: 0 | P51: 1 | Q51: 0
A52: 26 | B52: TAD-0048-49 | C52: Барномаҳо оид ба таҳсилоти касбӣ ҷиҳати паст намудани сатҳи камбизоатӣ | D52: Бонки Исломии Рушд | E52: 8.44 | F52: Динори исломӣ | G52: 11.964628 | H52: 2.3310007 | I52: 9.6336277 | J52: 0 | K52: 0 | L52: 0 | M52: Вазорати маориф ва илм | N52: Соҳаи маориф | O52: 0 | P52: 1 | Q52: 0
A53: 27 | B53: 5702-TJ | C53: Лоиҳаи рушди таҳсилоти олии Тоҷикистон | D53: Бонки Умумиҷаҳонӣ | E53: 6 | F53: Ҳуқуқҳои махсуси қарзгирӣ | G53: 8.50566 | H53: 0 | I53: 0 | J53: 0 | K53: 0 | L53: 0 | M53: Вазорати маориф ва илм | N53: Соҳаи маориф | O53: 0 | P53: 1 | Q53: 0
A54: 28 | B54: 10/695 | C54: Лоиҳаи таҷдиди мактабҳо (марҳилаи 4) | D54: Фонди Саудии Рушд | E54: 35 | F54: Доллари Иёлоти Муттаҳидаи Америка | G54: 35 | H54: 0 | I54: 0 | J54: 6.3 | K54: 9.5 | L54: 10.5 | M54: Вазорати маориф ва илм | N54: Соҳаи маориф | O54: 0 | P54: 1 | Q54: 0
A55: 29 | B55: 3309-TAJ(SF) | C55: Лоиҳаи тақвияти иштироки сектори хусусӣ дар таҳсилоти техникӣ ва касбӣ | D55: Бонки Осиёгии Рушд | E55: 10.633 | F55: Ҳуқуқҳои махсуси қарзгирӣ | G55: 15.073447 | H55: 0.85812064 | I55: 0 | J55: 2.9856 | K55: 4.88 | L55: 6.5114 | M55: Вазорати меҳнат, муҳоҷират ва шуғли аҳолӣ | N55: Соҳаи маориф | O55: 0 | P55: 1 | Q55: 0
O56: 0
A57: Ҳамагӣ лоиҳаҳои амалкунанда | G57: 111.61756 | H57: 42.626701 | I57: 11.269874 | J57: 9.2856 | K57: 14.38 | L57: 17.0114 | O57: 0
A58: Лоиҳаҳои банақшагирифташуда | O58: 0
A59: 30 | C59: Лоиҳаи фарогири таҳсилот барои таъмини ҷойи кори бо маоши сазовор | D59: Дигарҳо | E59: 10 | F59: Доллари Иёлоти Муттаҳидаи Америка | G59: 10 | H59: 0 | I59: 0 | J59: 0 | K59: 0 | L59: 0 | M59: Вазорати маориф ва илм | N59: Соҳаи маориф | P59: 0 | Q59: 1
A60: 31 | C60: Лоиҳаи сохтмон ва барқарорсозии муассисаҳои томактабӣ | D60: Бонки Исломии Рушд | E60: 35 | F60: Доллари Иёлоти Муттаҳидаи Америка | G60: 35 | H60: 0 | I60: 0 | J60: 0 | K60: 0.2 | L60: 0.4 | M60: Вазорати маориф ва илм | N60: Соҳаи маориф | P60: 0 | Q60: 1
A61: 32 | C61: Лоиҳаи сохтмон ва барқарорсозии муассисаҳои таълимӣ | D61: Бонки Исломии Рушд | E61: 75 | F61: Доллари Иёлоти Муттаҳидаи Америка | G61: 75 | H61: 0 | I61: 0 | J61: 0 | K61: 0 | L61: 0 | M61: Вазорати маориф ва илм | N61: Соҳаи маориф | P61: 0 | Q61: 1
A62: 33 | C62: Лоиҳаи омодакунӣ ва баланд бардоштани тахассуси кормандони соҳаи маориф, афзоиши потенсиали муаллимон | D62: Бонки Исломии Рушд | E62: 20.5 | F62: Доллари Иёлоти Муттаҳидаи Америка | G62: 20.5 | H62: 0 | I62: 0 | J62: 0 | K62: 0 | L62: 0 | M62: Вазорати маориф ва илм | N62: Соҳаи маориф | P62: 0 | Q62: 1
O63: 0
A64: Ҳамагӣ лоиҳаҳои банақшагирифташуда | G64: 140.5 | H64: 0 | I64: 0 | J64: 0 | K64: 0.2 | L64: 0.4 | O64: 0
B65: Ҳамагӣ | C65: Соҳаи маориф | G65: 252.11756 | H65: 42.626701 | I65: 11.269874 | J65: 9.2856 | K65: 14.58 | L65: 17.4114 | O65: 1 | P65: 6 | Q65: 0
O66: 0
A67: Соҳаи энергетика ва саноат | G67: 1729.1316 | H67: 718.29666 | I67: 15.022936 | J67: 133.379 | K67: 119.95 | L67: 131.1 | O67: 0
A68: Лоиҳаҳои амалкунанда | O68: 0
A69: 34 | B69: 41538 | C69: Паст кардани талафоти қувваи барқ дар вилояти Суғд | D69: Бонки Аврупоии Таҷдид ва Рушд | E69: 14.15 | F69: Доллари Иёлоти Муттаҳидаи Америка | G69: 14.15 | H69: 10.009395 | I69: 1.1406054 | J69: 3 | K69: 0 | L69: 0 | M69: Ширкати саҳомии холдингии кушодаи "Барқи Тоҷик" | N69: Соҳаи энергетика ва саноат | O69: 0 | P69: 1 | Q69: 0
A70: 35 | B70: 675 | D70: Бонки Аврупоии Сармоягузорӣ | E70: 10.142 | F70: Доллари Иёлоти Муттаҳидаи Америка | G70: 10.142 | H70: 10.142 | I70: 0 | J70: 0 | K70: 0 | L70: 0 | M70: Ширкати саҳомии холдингии кушодаи "Барқи Тоҷик" | N70: Соҳаи энергетика ва саноат | O70: 0 | P70: 1 | Q70: 0
A71: 36 | B71: 41538 | C71: Паст кардани талафоти қувваи барқ дар вилояти Суғд (созишномаи иловагӣ) | D71: Бонки Аврупоии Таҷдид ва Рушд | E71: 4 | F71: Доллари Иёлоти Муттаҳидаи Америка | G71: 4 | H71: 0 | I71: 0 | J71: 0 | K71: 0 | L71: 0 | M71: Ширкати саҳомии холдингии кушодаи "Барқи Тоҷик" | N71: Соҳаи энергетика ва саноат | O71: 0 | P71: 1 | Q71: 0
A72: 37 | B72: TAD-0054 | C72: Барқарорсозии зеристгоҳи "Равшан" | D72: Бонки Исломии Рушд | E72: 8.71 | F72: Динори исломӣ | G72: 12.347383 | H72: 3.2179039 | I72: 8.1304792 | J72: 0.999 | K72: 0 | L72: 0 | M72: Ширкати саҳомии холдингии кушодаи "Барқи Тоҷик" | N72: Соҳаи энергетика ва саноат | O72: 0 | P72: 1 | Q72: 0
A73: 38 | B73: 41553-46782 | C73: Барқарорсозии Неругоҳи барқи обии Қайроққум (марҳилаи 1) | D73: Бонки Аврупоии Таҷдид ва Рушд | E73: 60 | F73: Доллари Иёлоти Муттаҳидаи Америка | G73: 60 | H73: 0.5 | I73: 0 | J73: 36.75 | K73: 30 | L73: 0 | M73: Ширкати саҳомии холдингии кушодаи "Барқи Тоҷик" | N73: Соҳаи энергетика ва саноат | O73: 0 | P73: 1 | Q73: 0
A74: 39 | B74: TAD-0055 | C74: Лоиҳаи минтақавиии интиқоли қувваи барқ (CASA - 1000) | D74: Бонки Исломии Рушд | E74: 46.6 | F74: Динори исломӣ | G74: 70 | H74: 0 | I74: 0 | J74: 2 | K74: 12 | L74: 20 | M74: Вазорати энергетика ва захираҳои об | N74: Соҳаи энергетика ва саноат | O74: 0 | P74: 1 | Q74: 0
A75: 40 | B75: 84.355 | D75: Бонки Аврупоии Сармоягузорӣ | E75: 70 | F75: Евро | G75: 81.683 | H75: 0 | I75: 0 | J75: 3 | K75: 12 | L75: 20 | M75: Вазорати энергетика ва захираҳои об | N75: Соҳаи энергетика ва саноат | O75: 0 | P75: 1 | Q75: 0
A76: 41 | B76: 47221 | D76: Бонки Аврупоии Таҷдид ва Рушд | E76: 110 | F76: Доллари Иёлоти Муттаҳидаи Америка | G76: 110 | H76: 0 | I76: 0 | J76: 5 | K76: 15 | L76: 23 | M76: Вазорати энергетика ва захираҳои об | N76: Соҳаи энергетика ва саноат | O76: 0 | P76: 1 | Q76: 0
A77: 42 | B77: PBC NO.2014(30)TOTAL NO.(324) | C77: Сохтмони марҳилаи дуюми Маркази барқу гармидиҳии - 2 шаҳри Душанбе бо иқтидори 2х150 МВт | D77: Эксимбонки Хитой | E77: 178.96922 | F77: Доллари Иёлоти Муттаҳидаи Америка | G77: 178.96922 | H77: 152.3884 | I77: 0.00082135 | J77: 26.58 | K77: 0 | L77: 0 | M77: Вазорати энергетика ва захираҳои об | N77: Соҳаи энергетика ва саноат | O77: 0 | P77: 1 | Q77: 0
A78: 43 | B78: PBC NO.2014(41)TOTAL NO.(335) | C78: Сохтмони корхонањои креолит, фториди алюминий ва кислотаи сулфат дар њошияи таљдиди ТАЛКО | D78: Эксимбонки Хитой | E78: 47.79 | F78: Доллари Иёлоти Муттаҳидаи Америка | G78: 47.79 | H78: 42.03897 | I78: 5.7510299 | J78: 0 | K78: 0 | L78: 0 | M78: Корхонаи воҳиди давлатии «Ширкати Алюминийи Тоҷик» (ТАЛКО) | N78: Соҳаи энергетика ва саноат | O78: 0 | P78: 1 | Q78: 0
A79: 44 | B79: 6025-TJ "B" | C79: Лоиҳаи таҷдиди Неругоҳи барқи обии Норак, марҳилаи 1 | D79: Бонки Умумиҷаҳонӣ | E79: 100 | F79: Доллари Иёлоти Муттаҳидаи Америка | G79: 100 | H79: 0 | I79: 0 | J79: 10 | K79: 19 | L79: 25 | M79: Ширкати саҳомии холдингии кушодаи "Барқи Тоҷик" | N79: Соҳаи энергетика ва саноат | O79: 0 | P79: 1 | Q79: 0
A80: 45 | B80: 6024-TJ "A" | D80: Бонки Умумиҷаҳонӣ | E80: 69.135 | F80: Доллари Иёлоти Муттаҳидаи Америка | G80: 69 | H80: 0 | I80: 0 | J80: 10 | K80: 9 | L80: 10 | M80: Ширкати саҳомии холдингии кушодаи "Барқи Тоҷик" | N80: Соҳаи энергетика ва саноат | O80: 0 | P80: 1 | Q80: 0
A81: 46 | B81: 000018-1-TJK | D81: Бонки Осиёгии Сармоягузории Инфрасохторӣ | E81: 60 | F81: Доллари Иёлоти Муттаҳидаи Америка | G81: 60 | H81: 0 | I81: 0 | J81: 10 | K81: 10 | L81: 10 | M81: Ширкати саҳомии холдингии кушодаи "Барқи Тоҷик" | N81: Соҳаи энергетика ва саноат | O81: 0 | P81: 1 | Q81: 0
A82: 47 | D82: Хазинаи Зиддибуҳронии Иттиҳоди Иқтисодии Евразия | E82: 40 | F82: Доллари Иёлоти Муттаҳидаи Америка | G82: 40 | H82: 0 | I82: 0 | J82: 1 | K82: 6 | L82: 8 | M82: Ширкати саҳомии холдингии кушодаи "Барқи Тоҷик" | N82: Соҳаи энергетика ва саноат | O82: 0 | P82: 1 | Q82: 0
A83: 48 | B83: NY246550625v3 | C83: Евробонд барои рушди соҳаи энергетика | D83: Дигарҳо | E83: 500 | F83: Доллари Иёлоти Муттаҳидаи Америка | G83: 500 | H83: 500 | I83: 0 | J83: 0 | K83: 0 | L83: 0 | M83: Вазорати молия | N83: Соҳаи энергетика ва саноат | O83: 0 | P83: 1 | Q83: 0
A84: 49 | B84: 47253 | C84: Лоиҳаи барқарорсозии Неругоҳи барқи обии "Қайроққум", марҳилаи-2 | D84: Бонки Аврупоии Таҷдид ва Рушд | E84: 38 | F84: Доллари Иёлоти Муттаҳидаи Америка | G84: 38 | H84: 0 | I84: 0 | J84: 0 | K84: 0.5 | L84: 2.5 | M84: Ширкати саҳомии холдингии кушодаи "Барқи Тоҷик" | N84: Соҳаи энергетика ва саноат | O84: 0 | P84: 1 | Q84: 0
A85: 50 | B85: GCL NO.(2017) 27 TOTAL NO.(632) | C85: Барқарорсозӣ ва сохтмони хатти интиқоли барқи 500 кВ дар ноҳияҳои тобеи ҷумхурӣ | D85: Эксимбонки Хитой | E85: 79 | F85: Доллари Иёлоти Муттаҳидаи Америка | G85: 79 | H85: 0 | I85: 0 | J85: 25.05 | K85: 3.95 | L85: 0 | M85: Ширкати саҳомии холдингии кушодаи "Барқи Тоҷик" | N85: Соҳаи энергетика ва саноат | O85: 0 | P85: 1 | Q85: 0
A86: 51 | B86: 47253 | C86: Лоиҳаи барқарорсозии Неругоҳи барқи обии "Қайроққум", марҳилаи-3 | D86: Фонди Иқлими Сабз | E86: 27 | F86: Доллари Иёлоти Муттаҳидаи Америка | G86: 27 | H86: 0 | I86: 0 | J86: 0 | K86: 0.45 | L86: 2.5 | M86: Вазорати энергетика ва захираҳои об | N86: Соҳаи энергетика ва саноат | O86: 0 | P86: 1 | Q86: 0
O87: 0
A88: Ҳамагӣ лоиҳаҳои амалкунанда | G88: 1502.0816 | H88: 718.29666 | I88: 15.022936 | J88: 133.379 | K88: 117.9 | L88: 121 | O88: 0
A89: Лоиҳаҳои банақшагирифташуда | O89: 0
A90: 52 | C90: Сохтмони нақби обпарто дар минтақаи ярчи Неругоҳи барқи обии Бойғозӣ | D90: Фонди Кувайтии Рушд | E90: 31.8 | F90: Доллари Иёлоти Муттаҳидаи Америка | G90: 31.8 | H90: 0 | I90: 0 | J90: 0 | K90: 0 | L90: 0 | M90: Вазорати энергетика ва захираҳои об | N90: Соҳаи энергетика ва саноат | O90: 0 | P90: 0 | Q90: 1
A91: 53 | C91: Сохтмони хатти интиқоли барқи 220 кВт "Айнӣ -Рудакӣ" | D91: Бонки Исломии Рушд | E91: 0 | F91: Динори исломӣ | G91: 0 | H91: 0 | I91: 0 | J91: 0 | K91: 0 | L91: 0 | M91: Ширкати саҳомии холдингии кушодаи "Барқи Тоҷик" | N91: Соҳаи энергетика ва саноат | O91: 0 | P91: 0 | Q91: 1
A92: 54 | C92: Паст кардани талафоти қувваи барқ дар вилояти Хатлон | D92: Бонки Аврупоии Таҷдид ва Рушд | E92: 17 | F92: Доллари Иёлоти Муттаҳидаи Америка | G92: 17 | H92: 0 | I92: 0 | J92: 0 | K92: 0.15 | L92: 1.5 | M92: Ширкати саҳомии холдингии кушодаи "Барқи Тоҷик" | N92: Соҳаи энергетика ва саноат | O92: 0 | P92: 0 | Q92: 1
A93: 55 | C93: Лоиҳаи барқарорсозии Неругоҳи барқи обии "Қайроққум", марҳилаи-4 | D93: Бонки Аврупоии Сармоягузорӣ | E93: 38 | F93: Доллари Иёлоти Муттаҳидаи Америка | G93: 38 | H93: 0 | I93: 0 | J93: 0 | K93: 0.5 | L93: 2.5 | M93: Вазорати энергетика ва захираҳои об | N93: Соҳаи энергетика ва саноат | O93: 0 | P93: 0 | Q93: 1
A94: 56 | C94: Лоиҳаи рушди соҳаи энергетика | D94: Дигарҳо | E94: 10 | F94: Доллари Иёлоти Муттаҳидаи Америка | G94: 10 | H94: 0 | I94: 0 | J94: 0 | K94: 0.1 | L94: 1 | M94: Вазорати энергетика ва захираҳои об | N94: Соҳаи энергетика ва саноат | O94: 0 | P94: 0 | Q94: 1
A95: 57 | C95: Лоиҳаи сохтмони Неругоҳи барқи обии "Себзор" 10 мВт дар дарёи Шоҳдараи ноҳияи Роштқалъа | D95: Бонки Исломии Рушд | E95: 30 | F95: Доллари Иёлоти Муттаҳидаи Америка | G95: 30 | H95: 0 | I95: 0 | J95: 0 | K95: 0 | L95: 0 | M95: Вазорати энергетика ва захираҳои об | N95: Соҳаи энергетика ва саноат | O95: 0 | P95: 0 | Q95: 1
A96: 58 | C96: Сохтмони нақби обпарто дар минтақаи поёноби Неругоҳи барқи обии "Бойғозӣ" | D96: Бонки Исломии Рушд | E96: 31.8 | F96: Доллари Иёлоти Муттаҳидаи Америка | G96: 31.8 | H96: 0 | I96: 0 | J96: 0 | K96: 0.2 | L96: 1.5 | M96: Вазорати энергетика ва захираҳои об | N96: Соҳаи энергетика ва саноат | O96: 0 | P96: 0 | Q96: 1
A97: 59 | C97: Лоиҳаи сохтмони Неругоҳи барқи обии Норак, марҳилаи 2 | D97: Дигарҳо | E97: 50 | F97: Доллари Иёлоти Муттаҳидаи Америка | G97: 50 | H97: 0 | I97: 0 | J97: 0 | K97: 0.5 | L97: 2.4 | M97: Вазорати энергетика ва захираҳои об | N97: Соҳаи энергетика ва саноат | O97: 0 | P97: 0 | Q97: 1
A98: 60 | C98: Лоиҳаи кам намудани талафоти неруи барқ | D98: Дигарҳо | E98: 18.45 | F98: Доллари Иёлоти Муттаҳидаи Америка | G98: 18.45 | H98: 0 | I98: 0 | J98: 0 | K98: 0.6 | L98: 1.2 | M98: Вазорати энергетика ва захираҳои об | N98: Соҳаи энергетика ва саноат | O98: 0 | P98: 0 | Q98: 1
O99: 0
A100: Ҳамагӣ лоиҳаҳои банақшагирифташуда | G100: 227.05 | H100: 0 | I100: 0 | J100: 0 | K100: 2.05 | L100: 10.1 | O100: 0
B101: Ҳамагӣ | C101: Соҳаи энергетика ва саноат | G101: 1729.1316 | H101: 718.29666 | I101: 15.022936 | J101: 133.379 | K101: 119.95 | L101: 131.1 | O101: 1 | P101: 18 | Q101: 9
O102: 0
A103: Соҳаи нақлиёт ва коммуникатсия | G103: 1415.8265 | H103: 147.74321 | I103: 55.345771 | J103: 71.182979 | K103: 93.355457 | L103: 75.230198 | O103: 0
...

Sheet Agregated Creditors (Taj)
J1: Замимаи 1 ба Барномаи қарзгирии берунаи давлатии Ҷумҳурии Тоҷикистон барои солҳои 2019– 2021
A2: Тақсимоти Барномаи қарзгирии берунаи давлатии Ҷумҳурии Тоҷикистон аз рӯи донорҳо
K4: млн доллари ИМА
A5: № Т/Т | B5: № лоиҳа | C5: Номгӯи қарздиҳандаҳо | D5: Шумораи лоиҳаҳо | G5: Маблағи қарз бо доллари ШМА тибќи ҳолати то 01.06.18 | H5: Истифода шудааст то 01.01.2018 | I5: Пешбинии истифо-дабарии қарз дар соли 2018 | J5: Пешбинии истифодабарии қарз барои солҳои | O5: Ожидаемое использо-вание в 2013 году
D6: Амалкунанда | E6: Банақшагириф-ташуда | F6: Ҳамагӣ | J6: 2019 | K6: 2020 | L6: 2021
A8: 1 | B8: 0 | C8: Бонки Умумиҷаҳонӣ | D8: 13 | E8: 0 | F8: 13 | G8: 282.85412 | H8: 18.624718 | I8: 13.727647 | J8: 46.794573 | K8: 44.721793 | L8: 43.828711
A9: 2 | B9: 0 | C9: Бонки Осиёии Рушд | D9: 4 | E9: 0 | F9: 4 | G9: 116.40421 | H9: 32.969527 | I9: 13.025492 | J9: 17.266512 | K9: 26.745456 | L9: 26.558895
A10: 3 | B10: 0 | C10: Бонки Исломии Рушд | D10: 7 | E10: 24 | F10: 31 | G10: 846.41396 | H10: 40.35103 | I10: 32.303013 | J10: 19.46847 | K10: 18.984 | L10: 35.784
A11: 4 | B11: 0 | C11: Фонди Саудии Рушд | D11: 4 | E11: 6 | F11: 10 | G11: 347.09663 | H11: 42.165905 | I11: 2.8307258 | J11: 14.7905 | K11: 17.4905 | L11: 21.0305
A12: 5 | B12: 0 | C12: Фонди Кувайтии Рушд | D12: 2 | E12: 3 | F12: 5 | G12: 151.59337 | H12: 16.262687 | I12: 0.28812389 | J12: 6.4875 | K12: 10.2675 | L12: 6.2375
A13: 6 | B13: 0 | C13: Фонди Абузабӣ | D13: 2 | E13: 0 | F13: 2 | G13: 35.003404 | H13: 13.752312 | I13: 1.2510921 | J13: 5.481 | K13: 5.481 | L13: 7.211
A14: 7 | B14: 0 | C14: Хазинаи Созмони Давлатҳои Содиркунандаи Нафт | D14: 3 | E14: 0 | F14: 3 | G14: 35 | H14: 11.914811 | I14: 7.2454035 | J14: 5.709 | K14: 5.5487852 | L14: 3.679
A15: 8 | B15: 0 | C15: Бонки Аврупоии Таҷдид ва Рушд | D15: 26 | E15: 17 | F15: 43 | G15: 545.73 | H15: 53.807471 | I15: 31.278177 | J15: 64.714683 | K15: 70.622108 | L15: 41.390702
A16: 9 | B16: 0 | C16: Эксимбонки Хитой | D16: 4 | E16: 1 | F16: 5 | G16: 437.69146 | H16: 228.35992 | I16: 8.7515465 | J16: 51.63 | K16: 3.95 | L16: 0
A17: 10 | B17: 0 | C17: Бонки Аврупоии Сармоягузорӣ | D17: 2 | E17: 2 | F17: 4 | G17: 139.8246 | H17: 10.1416 | I17: 0 | J17: 3 | K17: 12.5 | L17: 22.5
A18: 11 | C18: Хазинаи Зиддибуҳронии Иттиҳоди Иқтисодии Евразия | D18: 2 | E18: 0 | F18: 2 | G18: 80 | H18: 20 | I18: 0 | J18: 1 | K18: 6 | L18: 8
A19: 12 | C19: Фонди байналмилалии рушди кишоварзӣ | D19: 2 | E19: 0 | F19: 2 | G19: 24.119182 | H19: 1.59666 | I19: 2.521022 | J19: 4.8583 | K19: 6.0132 | L19: 4.11
A20: 13 | C20: Бонки Осиёии Сармоягузории Инфрасохторӣ | D20: 2 | E20: 0 | F20: 2 | G20: 87.5 | H20: 0.06875 | I20: 8.1621087 | J20: 20.631533 | K20: 18.637608 | L20: 10
A21: 14 | C21: Дигарҳо | D21: 1 | E21: 14 | F21: 15 | G21: 983.9 | H21: 500 | I21: 0 | J21: 0 | K21: 8.45 | L21: 25.8
A22: 15 | C22: Фонди Иқлими Сабз | D22: 1 | E22: 0 | F22: 1 | G22: 27 | H22: 0 | I22: 0 | J22: 0 | K22: 0.45 | L22: 2.5
A24: Ҳамагӣ аз рӯи Барнома | D24: 75 | E24: 67 | F24: 142 | G24: 4140.1309 | H24: 990.01539 | I24: 121.38435 | J24: 261.83207 | K24: 255.86195 | L24: 258.63031
A25: Азхудкунӣ нисбат ба маҷмӯи маҳсулоти дохилї | I25: 0.01854464 | J25: 0.032472701 | K25: 0.029567788 | L25: 0.028083189
B26: Эзоҳ:
B27: Дурнамои ҳаҷми умумии қарзи беруна | C27: Дурнамои ҳаҷми умумии қарзи беруна | J27: 3108.6 | K27: 3327.9 | L27: 3441.5
B28: Ҳаҷми умумии қарзи беруна нисбати ММД | C28: Ҳаҷми умумии қарзи беруна нисбати маҷмӯи
C29: маҳсулоти дохилї | J29: 0.38553198 | K29: 0.38457707 | L29: 0.37369284
B30: маҳсулоти дохилї | E30: Маҷмӯи маҳсулоти дохилї бо сомонї - | I30: 58909.7 | J30: 78212.5 | K30: 88264.7 | L30: 99461.9
D31: Маҷмӯи маҳсулоти дохилї бо доллари
D32: Иёлоти Муттањидаи Америка - | I32: 6545.5222 | J32: 8063.1443 | K32: 8653.402 | L32: 9209.4352
D33: Ќурби доллари Иёлоти Муттањидаи
D34: Америка нисбати сомонї - | I34: 9 | J34: 9.7 | K34: 10.2 | L34: 10.8

Sheet Agregated Sectors (Taj)
K1: Замимаи 3 ба Барномаи қарзгирии берунаи давлатии Ҷумҳурии Тоҷикистон барои солҳои 2019– 2021
A2: Тақсимоти Барномаи қарзгирии берунаи давлатии Ҷумҳурии Тоҷикистон аз рӯи соҳаҳо
L4: млн доллари ИМА
A5: № Т/Т | B5: № лоиҳа | C5: Номгӯи соҳаҳо | D5: Шумораи лоиҳаҳо | G5: Маблағи қарз бо доллари ШМА тибќи ҳолати то 01.06.16 | H5: Таносуби ҳаҷми умумии маблағҳои ҷалбшаванда | I5: Истифода шудааст то 01.01.2018 | J5: Пешбинии истифо-дабарии қарз дар соли 2018 | K5: Пешбинии истифодабарии қарз барои солҳои: | P5: Ожидаемое использо-вание в 2013 году
D6: Амалкунанда | E6: Банақшагириф-ташуда | F6: Ҳамагӣ | K6: 2019 | L6: 2020 | M6: 2021
A8: 1 | B8: 0 | C8: Соҳаи кишоварзӣ ва обёрӣ | D8: 8 | E8: 10 | F8: 18 | G8: 340.21813 | H8: 0.0053022807 | I8: 5.2493416 | J8: 25.565009 | K8: 30.065035 | L8: 17.558868 | M8: 22.953744
A9: 2 | B9: 0 | C9: Соҳаи тандурустӣ | D9: 1 | E9: 4 | F9: 5 | G9: 63.86044 | H9: 0.0030263796 | I9: 2.9961635 | J9: 0.05787646 | K9: 2.6164 | L9: 0.7 | M9: 2.2
A10: 3 | B10: 0 | C10: Соҳаи маориф | D10: 6 | E10: 4 | F10: 10 | G10: 252.11756 | H10: 0.043056587 | I10: 42.626701 | J10: 11.269874 | K10: 9.2856 | L10: 14.58 | M10: 17.4114
A11: 4 | B11: 0 | C11: Соҳаи энергетика ва саноат | D11: 18 | E11: 9 | F11: 27 | G11: 1729.1316 | H11: 0.72554062 | I11: 718.29666 | J11: 15.022936 | K11: 133.379 | L11: 119.95 | M11: 131.1
A12: 5 | B12: 0 | C12: Соҳаи нақлиёт ва коммуникатсия | D12: 22 | E12: 21 | F12: 43 | G12: 1415.8265 | H12: 0.14923318 | I12: 147.74321 | J12: 55.345771 | K12: 71.182979 | L12: 93.355457 | M12: 75.230198
A13: 6 | B13: 0 | C13: Соҳаи хоҷагии манзилию коммуналӣ | D13: 16 | E13: 13 | F13: 29 | G13: 166.67044 | H13: 0.021706729 | I13: 21.490005 | J13: 13.935345 | K13: 13.02715 | L13: 6.0285 | M13: 9.25
A14: 7 | B14: 0 | C14: Соҳаи идоракунии давлатӣ | D14: 3 | E14: 4 | F14: 7 | G14: 107.47169 | H14: 0.052134224 | I14: 51.613705 | J14: 0.1875399 | K14: 1.675908 | L14: 3.689125 | M14: 0.484967
A15: 8 | C15: Суғуртаи иҷтимоӣ ва ҳифзи иҷтимоӣ | D15: 1 | E15: 0 | F15: 1 | G15: 0.9 | H15: 0 | I15: 0 | J15: 0 | K15: 0.6 | L15: 0 | M15: 0
A16: 9 | B16: 0 | C16: Дигарҳо | D16: 0 | E16: 2 | F16: 2 | G16: 65 | H16: 0 | I16: 0 | J16: 0 | K16: 0 | L16: 0 | M16: 0
A18: Ҳамагӣ аз рӯи Барнома | D18: 75 | E18: 67 | F18: 142 | G18: 4141.1963 | H18: 1 | I18: 990.01579 | J18: 121.38435 | K18: 261.83207 | L18: 255.86195 | M18: 258.63031
A19: Азхудкунӣ нисбат ба маҷмӯи маҳсулоти дохилї | J19: 0.01854464 | K19: 0.032472701 | L19: 0.029567788 | M19: 0.028083189
B20: Эзоҳ:
B21: Дурнамои ҳаҷми умумии қарзи беруна | C21: Дурнамои ҳаҷми умумии қарзи беруна | K21: 3108.6 | L21: 3327.9 | M21: 3441.5
B22: Ҳаҷми умумии қарзи беруна нисбати ММД | C22: Ҳаҷми умумии қарзи беруна нисбати маҷмӯи
C23: маҳсулоти дохилї | K23: 0.38553198 | L23: 0.38457707 | M23: 0.37369284
E24: Маҷмӯи маҳсулоти дохилї бо сомонї - | J24: 58909.7 | K24: 78212.5 | L24: 88264.7 | M24: 99461.9
E25: Маҷмӯи маҳсулоти дохилї бо доллари
E26: Иёлоти Муттањидаи Америка - | J26: 6545.5222 | K26: 8063.1443 | L26: 8653.402 | M26: 9209.4352
E27: Ќурби доллари Иёлоти Муттањидаи
E28: Америка нисбати сомонї - | J28: 9 | K28: 9.7 | L28: 10.2 | M28: 10.8

Sheet Creditors (Eng)
A1: Программа государственных внешних заимствований Республики Таджикистан на 2013-2015гг
M3: (млн.долл.США)
A4: № п/п | B4: № кред. | C4: Наименование проектов по кредиторам | D4: Наимен. кредитора | E4: Сумма кредита в валюте подписания | G4: Сумма кредита в долл. США по сост. на 01.06.12г. | H4: Исполь-зовано до 01.01.2012г. | I4: Ожидаемое использо-вание в 2012 году | J4: Прогноз использования кредита на: | M4: Субъекты Республики Таджикистан, использующие кредит | N4: Сектор | O4: знак для сумма Итого | P4: для количества кредитов | R4: Ожидаемое использо-вание в 2013 году
J5: 2013г. | K5: 2014г. | L5: 2015г. | P5: действующие | Q5: новые
A6: =VLOOKUP(#REF!,#REF!,3,FALSE) -> #REF! | G6: =G17 -> #REF! | H6: =H17 -> #REF! | I6: =I17 -> #REF! | J6: =J17 -> #REF! | K6: =K17 -> #REF! | L6: =L17 -> #REF!
A7: =VLOOKUP(#REF!,#REF!,3,FALSE) -> #REF!
A8: =#REF! -> #REF! | B8: =#REF! -> #REF! | C8: Лоиҳаи модернизатсияи соҳаи маориф | D8: =VLOOKUP(#REF!,#REF!,3,FALSE) -> #REF! | E8: =#REF! -> #REF! | F8: =VLOOKUP(#REF!,#REF!,3,FALSE) -> #REF! | G8: =#REF! -> #REF! | H8: =#REF! -> #REF! | I8: =#REF! -> #REF! | J8: =#REF! -> #REF! | K8: =#REF! -> #REF! | L8: =#REF! -> #REF! | M8: =VLOOKUP(#REF!,#REF!,3,FALSE) -> #REF! | N8: =VLOOKUP(#REF!,#REF!,3,FALSE) -> #REF! | O8: =IF(B8=$B$17,1,0) -> #REF! | P8: 1 | Q8: 0
A9: =#REF! -> #REF! | B9: =#REF! -> #REF! | C9: Лоињаи маблағгузории иловагӣ барои лоиҳаи барқарорсозии Ширкати хусусии энергетикии Помир | D9: =VLOOKUP(#REF!,#REF!,3,FALSE) -> #REF! | E9: =#REF! -> #REF! | F9: =VLOOKUP(#REF!,#REF!,3,FALSE) -> #REF! | G9: =#REF! -> #REF! | H9: =#REF! -> #REF! | I9: =#REF! -> #REF! | J9: =#REF! -> #REF! | K9: =#REF! -> #REF! | L9: =#REF! -> #REF! | M9: =VLOOKUP(#REF!,#REF!,3,FALSE) -> #REF! | N9: =VLOOKUP(#REF!,#REF!,3,FALSE) -> #REF! | O9: =IF(B9=$B$17,1,0) -> #REF! | P9: 1 | Q9: 0
A10: =#REF! -> #REF! | B10: =#REF! -> #REF! | C10: Лоиҳаи барқарорсозии соҳаи пахтакорї | D10: =VLOOKUP(#REF!,#REF!,3,FALSE) -> #REF! | E10: =#REF! -> #REF! | F10: =VLOOKUP(#REF!,#REF!,3,FALSE) -> #REF! | G10: =#REF! -> #REF! | H10: =#REF! -> #REF! | I10: =#REF! -> #REF! | J10: =#REF! -> #REF! | K10: =#REF! -> #REF! | L10: =#REF! -> #REF! | M10: =VLOOKUP(#REF!,#REF!,3,FALSE) -> #REF! | N10: =VLOOKUP(#REF!,#REF!,3,FALSE) -> #REF! | O10: =IF(B10=$B$17,1,0) -> #REF! | P10: 1 | Q10: 0
O11: =IF(B11=$B$17,1,0) -> #REF!
A12: =VLOOKUP(#REF!,#REF!,3,FALSE) -> #REF! | G12: =SUM(G8:G11) -> #REF! | H12: =SUM(H8:H11) -> #REF! | I12: =SUM(I8:I11) -> #REF! | J12: =SUM(J8:J11) -> #REF! | K12: =SUM(K8:K11) -> #REF! | L12: =SUM(L8:L11) -> #REF! | O12: =IF(B12=$B$17,1,0) -> #REF!
A13: =VLOOKUP(#REF!,#REF!,3,FALSE) -> #REF! | O13: =IF(B13=$B$17,1,0) -> #REF!
D14: =VLOOKUP(#REF!,#REF!,3,FALSE) -> #REF! | F14: =VLOOKUP(#REF!,#REF!,3,FALSE) -> #REF! | M14: =VLOOKUP(#REF!,#REF!,2,FALSE) -> #REF! | O14: =IF(B14=$B$17,1,0) -> #REF!
O15: =IF(B15=$B$17,1,0) -> #REF!
A16: =VLOOKUP(#REF!,#REF!,3,FALSE) -> #REF! | G16: =SUM(G13:G15) -> 0 | H16: =SUM(H13:H15) -> 0 | I16: =SUM(I13:I15) -> 0 | J16: =SUM(J13:J15) -> 0 | K16: =SUM(K13:K15) -> 0 | L16: =SUM(L13:L15) -> 0 | O16: =IF(B16=$B$17,1,0) -> #REF!
B17: =VLOOKUP(#REF!,#REF!,3,FALSE) -> #REF! | C17: =A6 -> #REF! | G17: =G16+G12 -> #REF! | H17: =H16+H12 -> #REF! | I17: =I16+I12 -> #REF! | J17: =J16+J12 -> #REF! | K17: =K16+K12 -> #REF! | L17: =L16+L12 -> #REF! | O17: =IF(B17=$B$17,1,0) -> #REF!
O18: =IF(B18=$B$17,1,0) -> #REF!
A19: =VLOOKUP(#REF!,#REF!,3,FALSE) -> #REF! | G19: =G30 -> #REF! | H19: =H30 -> #REF! | I19: =I30 -> #REF! | J19: =J30 -> #REF! | K19: =K30 -> #REF! | L19: =L30 -> #REF!
A20: =VLOOKUP(#REF!,#REF!,3,FALSE) -> #REF! | O20: =IF(B20=$B$17,1,0) -> #REF!
A21: =#REF! -> #REF! | B21: =#REF! -> #REF! | C21: Устойчивое развитие хлопкового сектора | D21: =VLOOKUP(#REF!,#REF!,3,FALSE) -> #REF! | E21: =#REF! -> #REF! | F21: =VLOOKUP(#REF!,#REF!,3,FALSE) -> #REF! | G21: =#REF! -> #REF! | H21: =#REF! -> #REF! | I21: =#REF! -> #REF! | J21: =#REF! -> #REF! | K21: =#REF! -> #REF! | L21: =#REF! -> #REF! | M21: =VLOOKUP(#REF!,#REF!,3,FALSE) -> #REF! | N21: =VLOOKUP(#REF!,#REF!,3,FALSE) -> #REF! | O21: =IF(B21=$B$17,1,0) -> #REF! | P21: 1 | Q21: 0
A22: =#REF! -> #REF! | B22: =#REF! -> #REF! | C22: Развитие сельской местности | D22: =VLOOKUP(#REF!,#REF!,3,FALSE) -> #REF! | E22: =#REF! -> #REF! | F22: =VLOOKUP(#REF!,#REF!,3,FALSE) -> #REF! | G22: =#REF! -> #REF! | H22: =#REF! -> #REF! | I22: =#REF! -> #REF! | J22: =#REF! -> #REF! | K22: =#REF! -> #REF! | L22: =#REF! -> #REF! | M22: =VLOOKUP(#REF!,#REF!,3,FALSE) -> #REF! | N22: =VLOOKUP(#REF!,#REF!,3,FALSE) -> #REF! | O22: =IF(B22=$B$17,1,0) -> #REF! | P22: 1 | Q22: 0
A23: =#REF! -> #REF! | B23: =#REF! -> #REF! | C23: Управление угрозой наводнений в Хатлонской области | D23: =VLOOKUP(#REF!,#REF!,3,FALSE) -> #REF! | E23: =#REF! -> #REF! | F23: =VLOOKUP(#REF!,#REF!,3,FALSE) -> #REF! | G23: =#REF! -> #REF! | H23: =#REF! -> #REF! | I23: =#REF! -> #REF! | J23: =#REF! -> #REF! | K23: =#REF! -> #REF! | L23: =#REF! -> #REF! | M23: =VLOOKUP(#REF!,#REF!,3,FALSE) -> #REF! | N23: =VLOOKUP(#REF!,#REF!,3,FALSE) -> #REF! | O23: =IF(B23=$B$17,1,0) -> #REF! | P23: 1 | Q23: 0
A24: =#REF! -> #REF! | B24: =#REF! -> #REF! | C24: Улучшение дорожного коридора Душанбе граница Киргизистан ЦАРЭС, фаза III | D24: =VLOOKUP(#REF!,#REF!,3,FALSE) -> #REF! | E24: =#REF! -> #REF! | F24: =VLOOKUP(#REF!,#REF!,3,FALSE) -> #REF! | G24: =#REF! -> #REF! | H24: =#REF! -> #REF! | I24: =#REF! -> #REF! | J24: =#REF! -> #REF! | K24: =#REF! -> #REF! | L24: =#REF! -> #REF! | M24: =VLOOKUP(#REF!,#REF!,3,FALSE) -> #REF! | N24: =VLOOKUP(#REF!,#REF!,3,FALSE) -> #REF! | O24: =IF(B24=$B$17,1,0) -> #REF! | P24: 1 | Q24: 0
O25: =IF(B25=$B$17,1,0) -> #REF!
A26: =VLOOKUP(#REF!,#REF!,3,FALSE) -> #REF! | G26: =SUM(G21:G25) -> #REF! | H26: =SUM(H21:H25) -> #REF! | I26: =SUM(I21:I25) -> #REF! | J26: =SUM(J21:J25) -> #REF! | K26: =SUM(K21:K25) -> #REF! | L26: =SUM(L21:L25) -> #REF! | O26: =IF(B26=$B$17,1,0) -> #REF!
A27: =VLOOKUP(#REF!,#REF!,3,FALSE) -> #REF! | O27: =IF(B27=$B$17,1,0) -> #REF!
O28: =IF(B28=$B$17,1,0) -> #REF!
A29: =VLOOKUP(#REF!,#REF!,3,FALSE) -> #REF! | G29: =SUM(G28:G28) -> 0 | H29: =SUM(H28:H28) -> 0 | I29: =SUM(I28:I28) -> 0 | J29: =SUM(J28:J28) -> 0 | K29: =SUM(K28:K28) -> 0 | L29: =SUM(L28:L28) -> 0 | O29: =IF(B29=$B$17,1,0) -> #REF!
B30: =VLOOKUP(#REF!,#REF!,3,FALSE) -> #REF! | C30: =A19 -> #REF! | G30: =G26+G29 -> #REF! | H30: =H26+H29 -> #REF! | I30: =I26+I29 -> #REF! | J30: =J26+J29 -> #REF! | K30: =K26+K29 -> #REF! | L30: =L26+L29 -> #REF! | O30: =IF(B30=$B$17,1,0) -> #REF!
O31: =IF(B31=$B$17,1,0) -> #REF!
A32: =VLOOKUP(#REF!,#REF!,3,FALSE) -> #REF! | G32: =G61 -> #REF! | H32: =H61 -> #REF! | I32: =I61 -> #REF! | J32: =J61 -> #REF! | K32: =K61 -> #REF! | L32: =L61 -> #REF!
A33: =VLOOKUP(#REF!,#REF!,3,FALSE) -> #REF! | O33: =IF(B33=$B$17,1,0) -> #REF!
A34: =#REF! -> #REF! | B34: =#REF! -> #REF! | C34: Водоснабжение г.Душанбе | D34: =VLOOKUP(#REF!,#REF!,3,FALSE) -> #REF! | E34: =#REF! -> #REF! | F34: =VLOOKUP(#REF!,#REF!,3,FALSE) -> #REF! | G34: =#REF! -> #REF! | H34: =#REF! -> #REF! | I34: =#REF! -> #REF! | J34: =#REF! -> #REF! | K34: =#REF! -> #REF! | L34: =#REF! -> #REF! | M34: =VLOOKUP(#REF!,#REF!,3,FALSE) -> #REF! | N34: =VLOOKUP(#REF!,#REF!,3,FALSE) -> #REF! | O34: =IF(B34=$B$17,1,0) -> #REF! | P34: 1 | Q34: 0
A35: =#REF! -> #REF! | B35: =#REF! -> #REF! | C35: Строительство средних школ, фаза III | D35: =VLOOKUP(#REF!,#REF!,3,FALSE) -> #REF! | E35: =#REF! -> #REF! | F35: =VLOOKUP(#REF!,#REF!,3,FALSE) -> #REF! | G35: =#REF! -> #REF! | H35: =#REF! -> #REF! | I35: =#REF! -> #REF! | J35: =#REF! -> #REF! | K35: =#REF! -> #REF! | L35: =#REF! -> #REF! | M35: =VLOOKUP(#REF!,#REF!,3,FALSE) -> #REF! | N35: =VLOOKUP(#REF!,#REF!,3,FALSE) -> #REF! | O35: =IF(B35=$B$17,1,0) -> #REF! | P35: 1 | Q35: 0
A36: =#REF! -> #REF! | B36: =#REF! -> #REF! | C36: Орошение Дангаринской долины, фаза II | D36: =VLOOKUP(#REF!,#REF!,3,FALSE) -> #REF! | E36: =#REF! -> #REF! | F36: =VLOOKUP(#REF!,#REF!,3,FALSE) -> #REF! | G36: =#REF! -> #REF! | H36: =#REF! -> #REF! | I36: =#REF! -> #REF! | J36: =#REF! -> #REF! | K36: =#REF! -> #REF! | L36: =#REF! -> #REF! | M36: =VLOOKUP(#REF!,#REF!,3,FALSE) -> #REF! | N36: =VLOOKUP(#REF!,#REF!,3,FALSE) -> #REF! | O36: =IF(B36=$B$17,1,0) -> #REF! | P36: 1 | Q36: 0
A37: =#REF! -> #REF! | B37: =#REF! -> #REF! | C37: Региональный проект по строительству линий электропередач (Таджикистан -Афганистан) | D37: =VLOOKUP(#REF!,#REF!,3,FALSE) -> #REF! | E37: =#REF! -> #REF! | F37: =VLOOKUP(#REF!,#REF!,3,FALSE) -> #REF! | G37: =#REF! -> #REF! | H37: =#REF! -> #REF! | I37: =#REF! -> #REF! | J37: =#REF! -> #REF! | K37: =#REF! -> #REF! | L37: =#REF! -> #REF! | M37: =VLOOKUP(#REF!,#REF!,3,FALSE) -> #REF! | N37: =VLOOKUP(#REF!,#REF!,3,FALSE) -> #REF! | O37: =IF(B37=$B$17,1,0) -> #REF! | P37: 1 | Q37: 0
A38: =#REF! -> #REF! | B38: =#REF! -> #REF! | C38: Региональный проект по строительству линий электропередач (Таджикистан -Афганистан) | D38: =VLOOKUP(#REF!,#REF!,3,FALSE) -> #REF! | E38: =#REF! -> #REF! | F38: =VLOOKUP(#REF!,#REF!,3,FALSE) -> #REF! | G38: =#REF! -> #REF! | H38: =#REF! -> #REF! | I38: =#REF! -> #REF! | J38: =#REF! -> #REF! | K38: =#REF! -> #REF! | L38: =#REF! -> #REF! | M38: =VLOOKUP(#REF!,#REF!,3,FALSE) -> #REF! | N38: =VLOOKUP(#REF!,#REF!,3,FALSE) -> #REF! | O38: =IF(B38=$B$17,1,0) -> #REF! | P38: 1 | Q38: 0
A39: =#REF! -> #REF! | B39: =#REF! -> #REF! | C39: Строительство больницы общего профиля в г.Дангара | D39: =VLOOKUP(#REF!,#REF!,3,FALSE) -> #REF! | E39: =#REF! -> #REF! | F39: =VLOOKUP(#REF!,#REF!,3,FALSE) -> #REF! | G39: =#REF! -> #REF! | H39: =#REF! -> #REF! | I39: =#REF! -> #REF! | J39: =#REF! -> #REF! | K39: =#REF! -> #REF! | L39: =#REF! -> #REF! | M39: =VLOOKUP(#REF!,#REF!,3,FALSE) -> #REF! | N39: =VLOOKUP(#REF!,#REF!,3,FALSE) -> #REF! | O39: =IF(B39=$B$17,1,0) -> #REF! | P39: 1 | Q39: 0
A40: =#REF! -> #REF! | B40: =#REF! -> #REF! | C40: Строительство автодороги в регионе Шагон-Зигар, фаза III | D40: =VLOOKUP(#REF!,#REF!,3,FALSE) -> #REF! | E40: =#REF! -> #REF! | F40: =VLOOKUP(#REF!,#REF!,3,FALSE) -> #REF! | G40: =#REF! -> #REF! | H40: =#REF! -> #REF! | I40: =#REF! -> #REF! | J40: =#REF! -> #REF! | K40: =#REF! -> #REF! | L40: =#REF! -> #REF! | M40: =VLOOKUP(#REF!,#REF!,3,FALSE) -> #REF! | N40: =VLOOKUP(#REF!,#REF!,3,FALSE) -> #REF! | O40: =IF(B40=$B$17,1,0) -> #REF! | P40: 1 | Q40: 0
A41: =#REF! -> #REF! | B41: =#REF! -> #REF! | C41: Строительство автодороги Куляб-Калайхумб | D41: =VLOOKUP(#REF!,#REF!,3,FALSE) -> #REF! | E41: =#REF! -> #REF! | F41: =VLOOKUP(#REF!,#REF!,3,FALSE) -> #REF! | G41: =#REF! -> #REF! | H41: =#REF! -> #REF! | I41: =#REF! -> #REF! | J41: =#REF! -> #REF! | K41: =#REF! -> #REF! | L41: =#REF! -> #REF! | M41: =VLOOKUP(#REF!,#REF!,3,FALSE) -> #REF! | N41: =VLOOKUP(#REF!,#REF!,3,FALSE) -> #REF! | O41: =IF(B41=$B$17,1,0) -> #REF! | P41: 1 | Q41: 0
O42: =IF(B42=$B$17,1,0) -> #REF!
A43: =VLOOKUP(#REF!,#REF!,3,FALSE) -> #REF! | G43: =SUM(G34:G42) -> #REF! | H43: =SUM(H34:H42) -> #REF! | I43: =SUM(I34:I42) -> #REF! | J43: =SUM(J34:J42) -> #REF! | K43: =SUM(K34:K42) -> #REF! | L43: =SUM(L34:L42) -> #REF! | O43: =IF(B43=$B$17,1,0) -> #REF!
A44: =VLOOKUP(#REF!,#REF!,3,FALSE) -> #REF! | O44: =IF(B44=$B$17,1,0) -> #REF!
A45: =#REF! -> #REF! | B45: =#REF! -> #REF! | C45: Развитие подачи питьевой воды в сельской местности (в Хатлонской и Согдийской областях и в РРП)* | D45: =VLOOKUP(#REF!,#REF!,3,FALSE) -> #REF! | E45: =#REF! -> #REF! | F45: =VLOOKUP(#REF!,#REF!,3,FALSE) -> #REF! | G45: =#REF! -> #REF! | H45: =#REF! -> #REF! | I45: =#REF! -> #REF! | J45: =#REF! -> #REF! | K45: =#REF! -> #REF! | L45: =#REF! -> #REF! | M45: =VLOOKUP(#REF!,#REF!,3,FALSE) -> #REF! | N45: =VLOOKUP(#REF!,#REF!,3,FALSE) -> #REF! | O45: =IF(B45=$B$17,1,0) -> #REF! | P45: 0 | Q45: 1
A46: =#REF! -> #REF! | B46: =#REF! -> #REF! | C46: Орошение Дангаринской долины, фаза III* | D46: =VLOOKUP(#REF!,#REF!,3,FALSE) -> #REF! | E46: =#REF! -> #REF! | F46: =VLOOKUP(#REF!,#REF!,3,FALSE) -> #REF! | G46: =#REF! -> #REF! | H46: =#REF! -> #REF! | I46: =#REF! -> #REF! | J46: =#REF! -> #REF! | K46: =#REF! -> #REF! | L46: =#REF! -> #REF! | M46: =VLOOKUP(#REF!,#REF!,3,FALSE) -> #REF! | N46: =VLOOKUP(#REF!,#REF!,3,FALSE) -> #REF! | O46: =IF(B46=$B$17,1,0) -> #REF! | P46: 0 | Q46: 1
A47: =#REF! -> #REF! | B47: =#REF! -> #REF! | C47: Линия электропередач 500 кВ "Север-Юг" (Худжанд-Датка)* | D47: =VLOOKUP(#REF!,#REF!,3,FALSE) -> #REF! | E47: =#REF! -> #REF! | F47: =VLOOKUP(#REF!,#REF!,3,FALSE) -> #REF! | G47: =#REF! -> #REF! | H47: =#REF! -> #REF! | I47: =#REF! -> #REF! | J47: =#REF! -> #REF! | K47: =#REF! -> #REF! | L47: =#REF! -> #REF! | M47: =VLOOKUP(#REF!,#REF!,3,FALSE) -> #REF! | N47: =VLOOKUP(#REF!,#REF!,3,FALSE) -> #REF! | O47: =IF(B47=$B$17,1,0) -> #REF! | P47: 0 | Q47: 1
A48: =#REF! -> #REF! | B48: =#REF! -> #REF! | C48: Строительство железной дороги Вахдат - Яван | D48: =VLOOKUP(#REF!,#REF!,3,FALSE) -> #REF! | E48: =#REF! -> #REF! | F48: =VLOOKUP(#REF!,#REF!,3,FALSE) -> #REF! | G48: =#REF! -> #REF! | H48: =#REF! -> #REF! | I48: =#REF! -> #REF! | J48: =#REF! -> #REF! | K48: =#REF! -> #REF! | L48: =#REF! -> #REF! | M48: =VLOOKUP(#REF!,#REF!,3,FALSE) -> #REF! | N48: =VLOOKUP(#REF!,#REF!,3,FALSE) -> #REF! | O48: =IF(B48=$B$17,1,0) -> #REF! | P48: 0 | Q48: 1
A49: =#REF! -> #REF! | B49: =#REF! -> #REF! | C49: Реабилитация ирригационных систем* | D49: =VLOOKUP(#REF!,#REF!,3,FALSE) -> #REF! | E49: =#REF! -> #REF! | F49: =VLOOKUP(#REF!,#REF!,3,FALSE) -> #REF! | G49: =#REF! -> #REF! | H49: =#REF! -> #REF! | I49: =#REF! -> #REF! | J49: =#REF! -> #REF! | K49: =#REF! -> #REF! | L49: =#REF! -> #REF! | M49: =VLOOKUP(#REF!,#REF!,3,FALSE) -> #REF! | N49: =VLOOKUP(#REF!,#REF!,3,FALSE) -> #REF! | O49: =IF(B49=$B$17,1,0) -> #REF! | P49: 0 | Q49: 1
A50: =#REF! -> #REF! | B50: =#REF! -> #REF! | C50: Межгосударственное сотрудничество по частному сектору | D50: =VLOOKUP(#REF!,#REF!,3,FALSE) -> #REF! | E50: =#REF! -> #REF! | F50: =VLOOKUP(#REF!,#REF!,3,FALSE) -> #REF! | G50: =#REF! -> #REF! | H50: =#REF! -> #REF! | I50: =#REF! -> #REF! | J50: =#REF! -> #REF! | K50: =#REF! -> #REF! | L50: =#REF! -> #REF! | M50: =VLOOKUP(#REF!,#REF!,3,FALSE) -> #REF! | N50: =VLOOKUP(#REF!,#REF!,3,FALSE) -> #REF! | O50: =IF(B50=$B$17,1,0) -> #REF! | P50: 0 | Q50: 1
A51: =#REF! -> #REF! | B51: =#REF! -> #REF! | C51: Строительство инфекционной больницы в Душанбе | D51: =VLOOKUP(#REF!,#REF!,3,FALSE) -> #REF! | E51: =#REF! -> #REF! | F51: =VLOOKUP(#REF!,#REF!,3,FALSE) -> #REF! | G51: =#REF! -> #REF! | H51: =#REF! -> #REF! | I51: =#REF! -> #REF! | J51: =#REF! -> #REF! | K51: =#REF! -> #REF! | L51: =#REF! -> #REF! | M51: =VLOOKUP(#REF!,#REF!,3,FALSE) -> #REF! | N51: =VLOOKUP(#REF!,#REF!,3,FALSE) -> #REF! | O51: =IF(B51=$B$17,1,0) -> #REF! | P51: 0 | Q51: 1
A52: =#REF! -> #REF! | B52: =#REF! -> #REF! | C52: Проект развития комерческих связей в энергетическом секторе | D52: =VLOOKUP(#REF!,#REF!,3,FALSE) -> #REF! | E52: =#REF! -> #REF! | F52: =VLOOKUP(#REF!,#REF!,3,FALSE) -> #REF! | G52: =#REF! -> #REF! | H52: =#REF! -> #REF! | I52: =#REF! -> #REF! | J52: =#REF! -> #REF! | K52: =#REF! -> #REF! | L52: =#REF! -> #REF! | M52: =VLOOKUP(#REF!,#REF!,3,FALSE) -> #REF! | N52: =VLOOKUP(#REF!,#REF!,3,FALSE) -> #REF! | O52: =IF(B52=$B$17,1,0) -> #REF! | P52: 0 | Q52: 1
A53: =#REF! -> #REF! | B53: =#REF! -> #REF! | C53: Проект CASA (фаза I и фаза II) | D53: =VLOOKUP(#REF!,#REF!,3,FALSE) -> #REF! | E53: =#REF! -> #REF! | F53: =VLOOKUP(#REF!,#REF!,3,FALSE) -> #REF! | G53: =#REF! -> #REF! | H53: =#REF! -> #REF! | I53: =#REF! -> #REF! | J53: =#REF! -> #REF! | K53: =#REF! -> #REF! | L53: =#REF! -> #REF! | M53: =VLOOKUP(#REF!,#REF!,3,FALSE) -> #REF! | N53: =VLOOKUP(#REF!,#REF!,3,FALSE) -> #REF! | O53: =IF(B53=$B$17,1,0) -> #REF! | P53: 0 | Q53: 1
A54: =#REF! -> #REF! | B54: =#REF! -> #REF! | C54: Строительство дамбы для Байпазинской ГЭС | D54: =VLOOKUP(#REF!,#REF!,3,FALSE) -> #REF! | E54: =#REF! -> #REF! | F54: =VLOOKUP(#REF!,#REF!,3,FALSE) -> #REF! | G54: =#REF! -> #REF! | H54: =#REF! -> #REF! | I54: =#REF! -> #REF! | J54: =#REF! -> #REF! | K54: =#REF! -> #REF! | L54: =#REF! -> #REF! | M54: =VLOOKUP(#REF!,#REF!,3,FALSE) -> #REF! | N54: =VLOOKUP(#REF!,#REF!,3,FALSE) -> #REF! | O54: =IF(B54=$B$17,1,0) -> #REF! | P54: 0 | Q54: 1
A55: =#REF! -> #REF! | B55: =#REF! -> #REF! | C55: Развитие водных сетей Дангаринской долины | D55: =VLOOKUP(#REF!,#REF!,3,FALSE) -> #REF! | E55: =#REF! -> #REF! | F55: =VLOOKUP(#REF!,#REF!,3,FALSE) -> #REF! | G55: =#REF! -> #REF! | H55: =#REF! -> #REF! | I55: =#REF! -> #REF! | J55: =#REF! -> #REF! | K55: =#REF! -> #REF! | L55: =#REF! -> #REF! | M55: =VLOOKUP(#REF!,#REF!,3,FALSE) -> #REF! | N55: =VLOOKUP(#REF!,#REF!,3,FALSE) -> #REF! | O55: =IF(B55=$B$17,1,0) -> #REF! | P55: 0 | Q55: 1
A56: =#REF! -> #REF! | B56: =#REF! -> #REF! | C56: Строительство и реконструкция автодороги Лабичар-Тавилдара-Калаихумб | D56: =VLOOKUP(#REF!,#REF!,3,FALSE) -> #REF! | E56: =#REF! -> #REF! | F56: =VLOOKUP(#REF!,#REF!,3,FALSE) -> #REF! | G56: =#REF! -> #REF! | H56: =#REF! -> #REF! | I56: =#REF! -> #REF! | J56: =#REF! -> #REF! | K56: =#REF! -> #REF! | L56: =#REF! -> #REF! | M56: =VLOOKUP(#REF!,#REF!,3,FALSE) -> #REF! | N56: =VLOOKUP(#REF!,#REF!,3,FALSE) -> #REF! | O56: =IF(B56=$B$17,1,0) -> #REF! | P56: 0 | Q56: 1
A57: =#REF! -> #REF! | B57: =#REF! -> #REF! | C57: Строительство железной дороги соединяющей с Афганистаном и Туркменистаном ( на участке Айвач-Хулм) | D57: =VLOOKUP(#REF!,#REF!,3,FALSE) -> #REF! | E57: =#REF! -> #REF! | F57: =VLOOKUP(#REF!,#REF!,3,FALSE) -> #REF! | G57: =#REF! -> #REF! | H57: =#REF! -> #REF! | I57: =#REF! -> #REF! | J57: =#REF! -> #REF! | K57: =#REF! -> #REF! | L57: =#REF! -> #REF! | M57: =VLOOKUP(#REF!,#REF!,3,FALSE) -> #REF! | N57: =VLOOKUP(#REF!,#REF!,3,FALSE) -> #REF! | O57: =IF(B57=$B$17,1,0) -> #REF! | P57: 0 | Q57: 1
A58: =#REF! -> #REF! | B58: =#REF! -> #REF! | C58: Водоснабжение г.Душанбе (дополнительный кредит) | D58: =VLOOKUP(#REF!,#REF!,3,FALSE) -> #REF! | E58: =#REF! -> #REF! | F58: =VLOOKUP(#REF!,#REF!,3,FALSE) -> #REF! | G58: =#REF! -> #REF! | H58: =#REF! -> #REF! | I58: =#REF! -> #REF! | J58: =#REF! -> #REF! | K58: =#REF! -> #REF! | L58: =#REF! -> #REF! | M58: =VLOOKUP(#REF!,#REF!,3,FALSE) -> #REF! | N58: =VLOOKUP(#REF!,#REF!,3,FALSE) -> #REF!
O59: =IF(B59=$B$17,1,0) -> #REF!
A60: =VLOOKUP(#REF!,#REF!,3,FALSE) -> #REF! | G60: =SUM(G45:G59) -> #REF! | H60: =SUM(H45:H59) -> #REF! | I60: =SUM(I45:I59) -> #REF! | J60: =SUM(J45:J59) -> #REF! | K60: =SUM(K45:K59) -> #REF! | L60: =SUM(L45:L59) -> #REF! | O60: =IF(B60=$B$17,1,0) -> #REF!
B61: =VLOOKUP(#REF!,#REF!,3,FALSE) -> #REF! | C61: =A32 -> #REF! | G61: =G60+G43 -> #REF! | H61: =H60+H43 -> #REF! | I61: =I60+I43 -> #REF! | J61: =J60+J43 -> #REF! | K61: =K60+K43 -> #REF! | L61: =L60+L43 -> #REF! | O61: =IF(B61=$B$17,1,0) -> #REF!
O62: =IF(B62=$B$17,1,0) -> #REF!
A63: =VLOOKUP(#REF!,#REF!,3,FALSE) -> #REF! | G63: =G74 -> #REF! | H63: =H74 -> #REF! | I63: =I74 -> #REF! | J63: =J74 -> #REF! | K63: =K74 -> #REF! | L63: =L74 -> #REF!
A64: =VLOOKUP(#REF!,#REF!,3,FALSE) -> #REF! | O64: =IF(B64=$B$17,1,0) -> #REF!
A65: =#REF! -> #REF! | B65: =#REF! -> #REF! | C65: Строительство и оборудование 5 средних школ (фаза 2) | D65: =VLOOKUP(#REF!,#REF!,3,FALSE) -> #REF! | E65: =#REF! -> #REF! | F65: =VLOOKUP(#REF!,#REF!,3,FALSE) -> #REF! | G65: =#REF! -> #REF! | H65: =#REF! -> #REF! | I65: =#REF! -> #REF! | J65: =#REF! -> #REF! | K65: =#REF! -> #REF! | L65: =#REF! -> #REF! | M65: =VLOOKUP(#REF!,#REF!,3,FALSE) -> #REF! | N65: =VLOOKUP(#REF!,#REF!,3,FALSE) -> #REF! | O65: =IF(B65=$B$17,1,0) -> #REF! | P65: 1 | Q65: 0
A66: =#REF! -> #REF! | B66: =#REF! -> #REF! | C66: Востановление больници материнства и детства в г. Худжанде | D66: =VLOOKUP(#REF!,#REF!,3,FALSE) -> #REF! | E66: =#REF! -> #REF! | F66: =VLOOKUP(#REF!,#REF!,3,FALSE) -> #REF! | G66: =#REF! -> #REF! | H66: =#REF! -> #REF! | I66: =#REF! -> #REF! | J66: =#REF! -> #REF! | K66: =#REF! -> #REF! | L66: =#REF! -> #REF! | M66: =VLOOKUP(#REF!,#REF!,3,FALSE) -> #REF! | N66: =VLOOKUP(#REF!,#REF!,3,FALSE) -> #REF! | O66: =IF(B66=$B$17,1,0) -> #REF! | P66: 1 | Q66: 0
A67: =#REF! -> #REF! | B67: =#REF! -> #REF! | C67: Строительство автодороги Куляб-Калайхумб | D67: =VLOOKUP(#REF!,#REF!,3,FALSE) -> #REF! | E67: =#REF! -> #REF! | F67: =VLOOKUP(#REF!,#REF!,3,FALSE) -> #REF! | G67: =#REF! -> #REF! | H67: =#REF! -> #REF! | I67: =#REF! -> #REF! | J67: =#REF! -> #REF! | K67: =#REF! -> #REF! | L67: =#REF! -> #REF! | M67: =VLOOKUP(#REF!,#REF!,3,FALSE) -> #REF! | N67: =VLOOKUP(#REF!,#REF!,3,FALSE) -> #REF! | O67: =IF(B67=$B$17,1,0) -> #REF! | P67: 1 | Q67: 0
O68: =IF(B68=$B$17,1,0) -> #REF!
A69: =VLOOKUP(#REF!,#REF!,3,FALSE) -> #REF! | G69: =SUM(G65:G68) -> #REF! | H69: =SUM(H65:H68) -> #REF! | I69: =SUM(I65:I68) -> #REF! | J69: =SUM(J65:J68) -> #REF! | K69: =SUM(K65:K68) -> #REF! | L69: =SUM(L65:L68) -> #REF! | O69: =IF(B69=$B$17,1,0) -> #REF!
A70: =VLOOKUP(#REF!,#REF!,3,FALSE) -> #REF! | O70: =IF(B70=$B$17,1,0) -> #REF!
D71: =VLOOKUP(#REF!,#REF!,3,FALSE) -> #REF! | F71: =VLOOKUP(#REF!,#REF!,3,FALSE) -> #REF! | M71: =VLOOKUP(#REF!,#REF!,2,FALSE) -> #REF! | O71: =IF(B71=$B$17,1,0) -> #REF!
O72: =IF(B72=$B$17,1,0) -> #REF!
A73: =VLOOKUP(#REF!,#REF!,3,FALSE) -> #REF! | G73: =SUM(G71:G72) -> 0 | H73: =SUM(H71:H72) -> 0 | I73: =SUM(I71:I72) -> 0 | J73: =SUM(J71:J72) -> 0 | K73: =SUM(K71:K72) -> 0 | L73: =SUM(L71:L72) -> 0 | O73: =IF(B73=$B$17,1,0) -> #REF!
B74: =VLOOKUP(#REF!,#REF!,3,FALSE) -> #REF! | C74: =A63 -> #REF! | G74: =G73+G69 -> #REF! | H74: =H73+H69 -> #REF! | I74: =I73+I69 -> #REF! | J74: =J73+J69 -> #REF! | K74: =K73+K69 -> #REF! | L74: =L73+L69 -> #REF! | O74: =IF(B74=$B$17,1,0) -> #REF!
O75: =IF(B75=$B$17,1,0) -> #REF!
A76: =VLOOKUP(#REF!,#REF!,3,FALSE) -> #REF! | G76: =G86 -> #REF! | H76: =H86 -> #REF! | I76: =I86 -> #REF! | J76: =J86 -> #REF! | K76: =K86 -> #REF! | L76: =L86 -> #REF!
A77: =VLOOKUP(#REF!,#REF!,3,FALSE) -> #REF! | O77: =IF(B77=$B$17,1,0) -> #REF!
A78: =#REF! -> #REF! | B78: =#REF! -> #REF! | C78: Орошение Дангаринской долины, фаза II | D78: =VLOOKUP(#REF!,#REF!,3,FALSE) -> #REF! | E78: =#REF! -> #REF! | F78: =VLOOKUP(#REF!,#REF!,3,FALSE) -> #REF! | G78: =#REF! -> #REF! | H78: =#REF! -> #REF! | I78: =#REF! -> #REF! | J78: =#REF! -> #REF! | K78: =#REF! -> #REF! | L78: =#REF! -> #REF! | M78: =VLOOKUP(#REF!,#REF!,3,FALSE) -> #REF! | N78: =VLOOKUP(#REF!,#REF!,3,FALSE) -> #REF! | O78: =IF(B78=$B$17,1,0) -> #REF! | P78: 1 | Q78: 0
A79: =#REF! -> #REF! | B79: =#REF! -> #REF! | C79: Строительство автодороги Куляб-Калайхумб | D79: =VLOOKUP(#REF!,#REF!,3,FALSE) -> #REF! | E79: =#REF! -> #REF! | F79: =VLOOKUP(#REF!,#REF!,3,FALSE) -> #REF! | G79: =#REF! -> #REF! | H79: =#REF! -> #REF! | I79: =#REF! -> #REF! | J79: =#REF! -> #REF! | K79: =#REF! -> #REF! | L79: =#REF! -> #REF! | M79: =VLOOKUP(#REF!,#REF!,3,FALSE) -> #REF! | N79: =VLOOKUP(#REF!,#REF!,3,FALSE) -> #REF! | O79: =IF(B79=$B$17,1,0) -> #REF! | P79: 1 | Q79: 0
O80: =IF(B80=$B$17,1,0) -> #REF!
A81: =VLOOKUP(#REF!,#REF!,3,FALSE) -> #REF! | G81: =SUM(G78:G80) -> #REF! | H81: =SUM(H78:H80) -> #REF! | I81: =SUM(I78:I80) -> #REF! | J81: =SUM(J78:J80) -> #REF! | K81: =SUM(K78:K80) -> #REF! | L81: =SUM(L78:L80) -> #REF! | O81: =IF(B81=$B$17,1,0) -> #REF!
A82: =VLOOKUP(#REF!,#REF!,3,FALSE) -> #REF! | O82: =IF(B82=$B$17,1,0) -> #REF!
D83: =VLOOKUP(#REF!,#REF!,3,FALSE) -> #REF! | F83: =VLOOKUP(#REF!,#REF!,3,FALSE) -> #REF! | M83: =VLOOKUP(#REF!,#REF!,2,FALSE) -> #REF! | O83: =IF(B83=$B$17,1,0) -> #REF!
O84: =IF(B84=$B$17,1,0) -> #REF!
A85: =VLOOKUP(#REF!,#REF!,3,FALSE) -> #REF! | G85: =SUM(G83:G84) -> 0 | H85: =SUM(H83:H84) -> 0 | I85: =SUM(I83:I84) -> 0 | J85: =SUM(J83:J84) -> 0 | K85: =SUM(K83:K84) -> 0 | L85: =SUM(L83:L84) -> 0 | O85: =IF(B85=$B$17,1,0) -> #REF!
B86: =VLOOKUP(#REF!,#REF!,3,FALSE) -> #REF! | C86: =A76 -> #REF! | G86: =G85+G81 -> #REF! | H86: =H85+H81 -> #REF! | I86: =I85+I81 -> #REF! | J86: =J85+J81 -> #REF! | K86: =K85+K81 -> #REF! | L86: =L85+L81 -> #REF! | O86: =IF(B86=$B$17,1,0) -> #REF!
O87: =IF(B87=$B$17,1,0) -> #REF!
A88: =VLOOKUP(#REF!,#REF!,3,FALSE) -> #REF! | G88: =G97 -> #REF! | H88: =H97 -> #REF! | I88: =I97 -> #REF! | J88: =J97 -> #REF! | K88: =K97 -> #REF! | L88: =L97 -> #REF!
A89: =VLOOKUP(#REF!,#REF!,3,FALSE) -> #REF! | O89: =IF(B89=$B$17,1,0) -> #REF!
A90: =#REF! -> #REF! | B90: =#REF! -> #REF! | C90: Строительство автодороги Куляб-Калайхумб | D90: =VLOOKUP(#REF!,#REF!,3,FALSE) -> #REF! | E90: =#REF! -> #REF! | F90: =VLOOKUP(#REF!,#REF!,3,FALSE) -> #REF! | G90: =#REF! -> #REF! | H90: =#REF! -> #REF! | I90: =#REF! -> #REF! | J90: =#REF! -> #REF! | K90: =#REF! -> #REF! | L90: =#REF! -> #REF! | M90: =VLOOKUP(#REF!,#REF!,3,FALSE) -> #REF! | N90: =VLOOKUP(#REF!,#REF!,3,FALSE) -> #REF! | O90: =IF(B90=$B$17,1,0) -> #REF!
O91: =IF(B91=$B$17,1,0) -> #REF!
A92: =VLOOKUP(#REF!,#REF!,3,FALSE) -> #REF! | G92: =SUM(G90:G91) -> #REF! | H92: =SUM(H90:H91) -> #REF! | I92: =SUM(I90:I91) -> #REF! | J92: =SUM(J90:J91) -> #REF! | K92: =SUM(K90:K91) -> #REF! | L92: =SUM(L90:L91) -> #REF! | O92: =IF(B92=$B$17,1,0) -> #REF!
A93: =VLOOKUP(#REF!,#REF!,3,FALSE) -> #REF! | O93: =IF(B93=$B$17,1,0) -> #REF!
D94: =VLOOKUP(#REF!,#REF!,3,FALSE) -> #REF! | F94: =VLOOKUP(#REF!,#REF!,3,FALSE) -> #REF! | M94: =VLOOKUP(#REF!,#REF!,3,FALSE) -> #REF! | N94: =VLOOKUP(#REF!,#REF!,3,FALSE) -> #REF! | O94: =IF(B94=$B$17,1,0) -> #REF!
O95: =IF(B95=$B$17,1,0) -> #REF!
A96: =VLOOKUP(#REF!,#REF!,3,FALSE) -> #REF! | G96: =SUM(G94:G95) -> 0 | H96: =SUM(H94:H95) -> 0 | I96: =SUM(I94:I95) -> 0 | J96: =SUM(J94:J95) -> 0 | K96: =SUM(K94:K95) -> 0 | L96: =SUM(L94:L95) -> 0 | O96: =IF(B96=$B$17,1,0) -> #REF!
B97: =VLOOKUP(#REF!,#REF!,3,FALSE) -> #REF! | C97: =A88 -> #REF! | G97: =G96+G92 -> #REF! | H97: =H96+H92 -> #REF! | I97: =I96+I92 -> #REF! | J97: =J96+J92 -> #REF! | K97: =K96+K92 -> #REF! | L97: =L96+L92 -> #REF! | O97: =IF(B97=$B$17,1,0) -> #REF!
O98: =IF(B98=$B$17,1,0) -> #REF!
A99: =VLOOKUP(#REF!,#REF!,3,FALSE) -> #REF! | G99: =G112 -> #REF! | H99: =H112 -> #REF! | I99: =I112 -> #REF! | J99: =J112 -> #REF! | K99: =K112 -> #REF! | L99: =L112 -> #REF!
A100: =VLOOKUP(#REF!,#REF!,3,FALSE) -> #REF! | O100: =IF(B100=$B$17,1,0) -> #REF!
A101: =#REF! -> #REF! | B101: =#REF! -> #REF! | C101: Строительство больницы общего профиля в г.Дангара | D101: =VLOOKUP(#REF!,#REF!,3,FALSE) -> #REF! | E101: =#REF! -> #REF! | F101: =VLOOKUP(#REF!,#REF!,3,FALSE) -> #REF! | G101: =#REF! -> #REF! | H101: =#REF! -> #REF! | I101: =#REF! -> #REF! | J101: =#REF! -> #REF! | K101: =#REF! -> #REF! | L101: =#REF! -> #REF! | M101: =VLOOKUP(#REF!,#REF!,3,FALSE) -> #REF! | N101: =VLOOKUP(#REF!,#REF!,3,FALSE) -> #REF! | O101: =IF(B101=$B$17,1,0) -> #REF! | P101: 1 | Q101: 0
...

Sheet Sectors (Eng)
A2: Программа государственных внешних заимствований Республики Таджикистан на 2013-2015гг
M4: (млн.долл.США)
A5: № п/п | B5: № кред. | C5: Наименование проектов по кредиторам | D5: Наимен. кредитора | E5: Сумма кредита в валюте подписания | G5: Сумма кредита в долл. США по сост. на 01.06.12г. | H5: Исполь-зовано до 01.01.2012г. | I5: Ожидаемое использо-вание в 2012 году | J5: Прогноз использования кредита на: | M5: Субъекты Республики Таджикистан, использующие кредит | N5: Сектор | O5: знак для сумма Итого | P5: для количества кредитов | R5: Ожидаемое использо-вание в 2013 году
J6: 2013г. | K6: 2014г. | L6: 2015г. | P6: действующие | Q6: новые
A7: =VLOOKUP(#REF!,#REF!,3,FALSE) -> #REF! | G7: =G23 -> #REF! | H7: =H23 -> #REF! | I7: =I23 -> #REF! | J7: =J23 -> #REF! | K7: =K23 -> #REF! | L7: =L23 -> #REF!
A8: =VLOOKUP(#REF!,#REF!,3,FALSE) -> #REF!
A9: =#REF! -> #REF! | B9: =#REF! -> #REF! | C9: Восстановление хлопкового сектора | D9: =VLOOKUP(#REF!,#REF!,3,FALSE) -> #REF! | E9: =#REF! -> #REF! | F9: =VLOOKUP(#REF!,#REF!,3,FALSE) -> #REF! | G9: =#REF! -> #REF! | H9: =#REF! -> #REF! | I9: =#REF! -> #REF! | J9: =#REF! -> #REF! | K9: =#REF! -> #REF! | L9: =#REF! -> #REF! | M9: =VLOOKUP(#REF!,#REF!,3,FALSE) -> #REF! | N9: =VLOOKUP(#REF!,#REF!,3,FALSE) -> #REF! | O9: =IF(B9=$B$23,1,0) -> #REF! | P9: 1 | Q9: 0
A10: =#REF! -> #REF! | B10: =#REF! -> #REF! | C10: Устойчивое развитие хлопкового сектора | D10: =VLOOKUP(#REF!,#REF!,3,FALSE) -> #REF! | E10: =#REF! -> #REF! | F10: =VLOOKUP(#REF!,#REF!,3,FALSE) -> #REF! | G10: =#REF! -> #REF! | H10: =#REF! -> #REF! | I10: =#REF! -> #REF! | J10: =#REF! -> #REF! | K10: =#REF! -> #REF! | L10: =#REF! -> #REF! | M10: =VLOOKUP(#REF!,#REF!,3,FALSE) -> #REF! | N10: =VLOOKUP(#REF!,#REF!,3,FALSE) -> #REF! | O10: =IF(B10=$B$23,1,0) -> #REF! | P10: 1 | Q10: 0
A11: =#REF! -> #REF! | B11: =#REF! -> #REF! | C11: Развитие сельской местности | D11: =VLOOKUP(#REF!,#REF!,3,FALSE) -> #REF! | E11: =#REF! -> #REF! | F11: =VLOOKUP(#REF!,#REF!,3,FALSE) -> #REF! | G11: =#REF! -> #REF! | H11: =#REF! -> #REF! | I11: =#REF! -> #REF! | J11: =#REF! -> #REF! | K11: =#REF! -> #REF! | L11: =#REF! -> #REF! | M11: =VLOOKUP(#REF!,#REF!,3,FALSE) -> #REF! | N11: =VLOOKUP(#REF!,#REF!,3,FALSE) -> #REF! | O11: =IF(B11=$B$23,1,0) -> #REF! | P11: 1 | Q11: 0
A12: =#REF! -> #REF! | B12: =#REF! -> #REF! | C12: Орошение Дангаринской долины, фаза II | D12: =VLOOKUP(#REF!,#REF!,3,FALSE) -> #REF! | E12: =#REF! -> #REF! | F12: =VLOOKUP(#REF!,#REF!,3,FALSE) -> #REF! | G12: =#REF! -> #REF! | H12: =#REF! -> #REF! | I12: =#REF! -> #REF! | J12: =#REF! -> #REF! | K12: =#REF! -> #REF! | L12: =#REF! -> #REF! | M12: =VLOOKUP(#REF!,#REF!,3,FALSE) -> #REF! | N12: =VLOOKUP(#REF!,#REF!,3,FALSE) -> #REF! | O12: =IF(B12=$B$23,1,0) -> #REF! | P12: 1 | Q12: 0
A13: =#REF! -> #REF! | B13: =#REF! -> #REF! | C13: Управление угрозой наводнений в Хатлонской области | D13: =VLOOKUP(#REF!,#REF!,3,FALSE) -> #REF! | E13: =#REF! -> #REF! | F13: =VLOOKUP(#REF!,#REF!,3,FALSE) -> #REF! | G13: =#REF! -> #REF! | H13: =#REF! -> #REF! | I13: =#REF! -> #REF! | J13: =#REF! -> #REF! | K13: =#REF! -> #REF! | L13: =#REF! -> #REF! | M13: =VLOOKUP(#REF!,#REF!,3,FALSE) -> #REF! | N13: =VLOOKUP(#REF!,#REF!,3,FALSE) -> #REF! | O13: =IF(B13=$B$23,1,0) -> #REF! | P13: 1 | Q13: 0
A14: =#REF! -> #REF! | B14: =#REF! -> #REF! | C14: Орошение Дангаринской долины, фаза II | D14: =VLOOKUP(#REF!,#REF!,3,FALSE) -> #REF! | E14: =#REF! -> #REF! | F14: =VLOOKUP(#REF!,#REF!,3,FALSE) -> #REF! | G14: =#REF! -> #REF! | H14: =#REF! -> #REF! | I14: =#REF! -> #REF! | J14: =#REF! -> #REF! | K14: =#REF! -> #REF! | L14: =#REF! -> #REF! | M14: =VLOOKUP(#REF!,#REF!,3,FALSE) -> #REF! | N14: =VLOOKUP(#REF!,#REF!,3,FALSE) -> #REF! | O14: =IF(B14=$B$23,1,0) -> #REF! | P14: 1 | Q14: 0
O15: =IF(B15=$B$23,1,0) -> #REF!
A16: =VLOOKUP(#REF!,#REF!,3,FALSE) -> #REF! | G16: =SUM(G9:G15) -> #REF! | H16: =SUM(H9:H15) -> #REF! | I16: =SUM(I9:I15) -> #REF! | J16: =SUM(J9:J15) -> #REF! | K16: =SUM(K9:K15) -> #REF! | L16: =SUM(L9:L15) -> #REF! | O16: =IF(B16=$B$23,1,0) -> #REF!
A17: =VLOOKUP(#REF!,#REF!,3,FALSE) -> #REF! | O17: =IF(B17=$B$23,1,0) -> #REF!
A18: =#REF! -> #REF! | B18: =#REF! -> #REF! | C18: Орошение Дангаринской долины, фаза III* | D18: =VLOOKUP(#REF!,#REF!,3,FALSE) -> #REF! | E18: =#REF! -> #REF! | F18: =VLOOKUP(#REF!,#REF!,3,FALSE) -> #REF! | G18: =#REF! -> #REF! | H18: =#REF! -> #REF! | I18: =#REF! -> #REF! | J18: =#REF! -> #REF! | K18: =#REF! -> #REF! | L18: =#REF! -> #REF! | M18: =VLOOKUP(#REF!,#REF!,3,FALSE) -> #REF! | N18: =VLOOKUP(#REF!,#REF!,3,FALSE) -> #REF! | O18: =IF(B18=$B$23,1,0) -> #REF! | P18: 0 | Q18: 1
A19: =#REF! -> #REF! | B19: =#REF! -> #REF! | C19: Реабилитация ирригационных систем* | D19: =VLOOKUP(#REF!,#REF!,3,FALSE) -> #REF! | E19: =#REF! -> #REF! | F19: =VLOOKUP(#REF!,#REF!,3,FALSE) -> #REF! | G19: =#REF! -> #REF! | H19: =#REF! -> #REF! | I19: =#REF! -> #REF! | J19: =#REF! -> #REF! | K19: =#REF! -> #REF! | L19: =#REF! -> #REF! | M19: =VLOOKUP(#REF!,#REF!,3,FALSE) -> #REF! | N19: =VLOOKUP(#REF!,#REF!,3,FALSE) -> #REF! | O19: =IF(B19=$B$23,1,0) -> #REF! | P19: 0 | Q19: 1
A20: =#REF! -> #REF! | B20: =#REF! -> #REF! | C20: Развитие водных сетей Дангаринской долины | D20: =VLOOKUP(#REF!,#REF!,3,FALSE) -> #REF! | E20: =#REF! -> #REF! | F20: =VLOOKUP(#REF!,#REF!,3,FALSE) -> #REF! | G20: =#REF! -> #REF! | H20: =#REF! -> #REF! | I20: =#REF! -> #REF! | J20: =#REF! -> #REF! | K20: =#REF! -> #REF! | L20: =#REF! -> #REF! | M20: =VLOOKUP(#REF!,#REF!,3,FALSE) -> #REF! | N20: =VLOOKUP(#REF!,#REF!,3,FALSE) -> #REF! | O20: =IF(B20=$B$23,1,0) -> #REF! | P20: 0 | Q20: 1
O21: =IF(B21=$B$23,1,0) -> #REF!
A22: =VLOOKUP(#REF!,#REF!,3,FALSE) -> #REF! | G22: =SUM(G18:G21) -> #REF! | H22: =SUM(H18:H21) -> #REF! | I22: =SUM(I18:I21) -> #REF! | J22: =SUM(J18:J21) -> #REF! | K22: =SUM(K18:K21) -> #REF! | L22: =SUM(L18:L21) -> #REF! | O22: =IF(B22=$B$23,1,0) -> #REF!
B23: =VLOOKUP(#REF!,#REF!,3,FALSE) -> #REF! | C23: =A7 -> #REF! | G23: =G22+G16 -> #REF! | H23: =H22+H16 -> #REF! | I23: =I22+I16 -> #REF! | J23: =J22+J16 -> #REF! | K23: =K22+K16 -> #REF! | L23: =L22+L16 -> #REF! | O23: =IF(B23=$B$23,1,0) -> #REF!
O24: =IF(B24=$B$23,1,0) -> #REF!
A25: =VLOOKUP(#REF!,#REF!,3,FALSE) -> #REF! | G25: =G36 -> #REF! | H25: =H36 -> #REF! | I25: =I36 -> #REF! | J25: =J36 -> #REF! | K25: =K36 -> #REF! | L25: =L36 -> #REF! | O25: =IF(B25=$B$23,1,0) -> #REF!
A26: =VLOOKUP(#REF!,#REF!,3,FALSE) -> #REF! | O26: =IF(B26=$B$23,1,0) -> #REF!
A27: =#REF! -> #REF! | B27: =#REF! -> #REF! | C27: Строительство больницы общего профиля в г.Дангара | D27: =VLOOKUP(#REF!,#REF!,3,FALSE) -> #REF! | E27: =#REF! -> #REF! | F27: =VLOOKUP(#REF!,#REF!,3,FALSE) -> #REF! | G27: =#REF! -> #REF! | H27: =#REF! -> #REF! | I27: =#REF! -> #REF! | J27: =#REF! -> #REF! | K27: =#REF! -> #REF! | L27: =#REF! -> #REF! | M27: =VLOOKUP(#REF!,#REF!,3,FALSE) -> #REF! | N27: =VLOOKUP(#REF!,#REF!,3,FALSE) -> #REF! | O27: =IF(B27=$B$23,1,0) -> #REF! | P27: 1 | Q27: 0
A28: =#REF! -> #REF! | B28: =#REF! -> #REF! | C28: Востановление больници материнства и детства в г. Худжанде | D28: =VLOOKUP(#REF!,#REF!,3,FALSE) -> #REF! | E28: =#REF! -> #REF! | F28: =VLOOKUP(#REF!,#REF!,3,FALSE) -> #REF! | G28: =#REF! -> #REF! | H28: =#REF! -> #REF! | I28: =#REF! -> #REF! | J28: =#REF! -> #REF! | K28: =#REF! -> #REF! | L28: =#REF! -> #REF! | M28: =VLOOKUP(#REF!,#REF!,3,FALSE) -> #REF! | N28: =VLOOKUP(#REF!,#REF!,3,FALSE) -> #REF! | O28: =IF(B28=$B$23,1,0) -> #REF! | P28: 1 | Q28: 0
A29: =#REF! -> #REF! | B29: =#REF! -> #REF! | C29: Строительство больницы общего профиля в г.Дангара | D29: =VLOOKUP(#REF!,#REF!,3,FALSE) -> #REF! | E29: =#REF! -> #REF! | F29: =VLOOKUP(#REF!,#REF!,3,FALSE) -> #REF! | G29: =#REF! -> #REF! | H29: =#REF! -> #REF! | I29: =#REF! -> #REF! | J29: =#REF! -> #REF! | K29: =#REF! -> #REF! | L29: =#REF! -> #REF! | M29: =VLOOKUP(#REF!,#REF!,3,FALSE) -> #REF! | N29: =VLOOKUP(#REF!,#REF!,3,FALSE) -> #REF! | O29: =IF(B29=$B$23,1,0) -> #REF! | P29: 1 | Q29: 0
O30: =IF(B30=$B$23,1,0) -> #REF!
A31: =VLOOKUP(#REF!,#REF!,3,FALSE) -> #REF! | G31: =SUM(G27:G30) -> #REF! | H31: =SUM(H27:H30) -> #REF! | I31: =SUM(I27:I30) -> #REF! | J31: =SUM(J27:J30) -> #REF! | K31: =SUM(K27:K30) -> #REF! | L31: =SUM(L27:L30) -> #REF! | O31: =IF(B31=$B$23,1,0) -> #REF!
A32: =VLOOKUP(#REF!,#REF!,3,FALSE) -> #REF! | O32: =IF(B32=$B$23,1,0) -> #REF!
A33: =#REF! -> #REF! | B33: =#REF! -> #REF! | C33: Строительство инфекционной больницы в Душанбе | D33: =VLOOKUP(#REF!,#REF!,3,FALSE) -> #REF! | E33: =#REF! -> #REF! | F33: =VLOOKUP(#REF!,#REF!,3,FALSE) -> #REF! | G33: =#REF! -> #REF! | H33: =#REF! -> #REF! | I33: =#REF! -> #REF! | J33: =#REF! -> #REF! | K33: =#REF! -> #REF! | L33: =#REF! -> #REF! | M33: =VLOOKUP(#REF!,#REF!,3,FALSE) -> #REF! | N33: =VLOOKUP(#REF!,#REF!,3,FALSE) -> #REF! | O33: =IF(B33=$B$23,1,0) -> #REF! | P33: 0 | Q33: 1
O34: =IF(B34=$B$23,1,0) -> #REF!
A35: =VLOOKUP(#REF!,#REF!,3,FALSE) -> #REF! | G35: =SUM(G33:G34) -> #REF! | H35: =SUM(H33:H34) -> #REF! | I35: =SUM(I33:I34) -> #REF! | J35: =SUM(J33:J34) -> #REF! | K35: =SUM(K33:K34) -> #REF! | L35: =SUM(L33:L34) -> #REF! | O35: =IF(B35=$B$23,1,0) -> #REF!
B36: =VLOOKUP(#REF!,#REF!,3,FALSE) -> #REF! | C36: =A25 -> #REF! | G36: =G31+G35 -> #REF! | H36: =H31+H35 -> #REF! | I36: =I31+I35 -> #REF! | J36: =J31+J35 -> #REF! | K36: =K31+K35 -> #REF! | L36: =L31+L35 -> #REF! | O36: =IF(B36=$B$23,1,0) -> #REF!
O37: =IF(B37=$B$23,1,0) -> #REF!
A38: =VLOOKUP(#REF!,#REF!,3,FALSE) -> #REF! | G38: =G48 -> #REF! | H38: =H48 -> #REF! | I38: =I48 -> #REF! | J38: =J48 -> #REF! | K38: =K48 -> #REF! | L38: =L48 -> #REF! | O38: =IF(B38=$B$23,1,0) -> #REF!
A39: =VLOOKUP(#REF!,#REF!,3,FALSE) -> #REF! | O39: =IF(B39=$B$23,1,0) -> #REF!
A40: =#REF! -> #REF! | B40: =#REF! -> #REF! | C40: Модернизация сектора образования | D40: =VLOOKUP(#REF!,#REF!,3,FALSE) -> #REF! | E40: =#REF! -> #REF! | F40: =VLOOKUP(#REF!,#REF!,3,FALSE) -> #REF! | G40: =#REF! -> #REF! | H40: =#REF! -> #REF! | I40: =#REF! -> #REF! | J40: =#REF! -> #REF! | K40: =#REF! -> #REF! | L40: =#REF! -> #REF! | M40: =VLOOKUP(#REF!,#REF!,3,FALSE) -> #REF! | N40: =VLOOKUP(#REF!,#REF!,3,FALSE) -> #REF! | O40: =IF(B40=$B$23,1,0) -> #REF! | P40: 1 | Q40: 0
A41: =#REF! -> #REF! | B41: =#REF! -> #REF! | C41: Строительство средних школ, фаза III | D41: =VLOOKUP(#REF!,#REF!,3,FALSE) -> #REF! | E41: =#REF! -> #REF! | F41: =VLOOKUP(#REF!,#REF!,3,FALSE) -> #REF! | G41: =#REF! -> #REF! | H41: =#REF! -> #REF! | I41: =#REF! -> #REF! | J41: =#REF! -> #REF! | K41: =#REF! -> #REF! | L41: =#REF! -> #REF! | M41: =VLOOKUP(#REF!,#REF!,3,FALSE) -> #REF! | N41: =VLOOKUP(#REF!,#REF!,3,FALSE) -> #REF! | O41: =IF(B41=$B$23,1,0) -> #REF! | P41: 1 | Q41: 0
A42: =#REF! -> #REF! | B42: =#REF! -> #REF! | C42: Строительство и оборудование 5 средних школ (фаза 2) | D42: =VLOOKUP(#REF!,#REF!,3,FALSE) -> #REF! | E42: =#REF! -> #REF! | F42: =VLOOKUP(#REF!,#REF!,3,FALSE) -> #REF! | G42: =#REF! -> #REF! | H42: =#REF! -> #REF! | I42: =#REF! -> #REF! | J42: =#REF! -> #REF! | K42: =#REF! -> #REF! | L42: =#REF! -> #REF! | M42: =VLOOKUP(#REF!,#REF!,3,FALSE) -> #REF! | N42: =VLOOKUP(#REF!,#REF!,3,FALSE) -> #REF! | O42: =IF(B42=$B$23,1,0) -> #REF! | P42: 1 | Q42: 0
O43: =IF(B43=$B$23,1,0) -> #REF!
A44: =VLOOKUP(#REF!,#REF!,3,FALSE) -> #REF! | G44: =SUM(G40:G43) -> #REF! | H44: =SUM(H40:H43) -> #REF! | I44: =SUM(I40:I43) -> #REF! | J44: =SUM(J40:J43) -> #REF! | K44: =SUM(K40:K43) -> #REF! | L44: =SUM(L40:L43) -> #REF! | O44: =IF(B44=$B$23,1,0) -> #REF!
A45: =VLOOKUP(#REF!,#REF!,3,FALSE) -> #REF! | O45: =IF(B45=$B$23,1,0) -> #REF!
O46: =IF(B46=$B$23,1,0) -> #REF!
A47: =VLOOKUP(#REF!,#REF!,3,FALSE) -> #REF! | G47: =SUM(G46:G46) -> 0 | H47: =SUM(H46:H46) -> 0 | I47: =SUM(I46:I46) -> 0 | J47: =SUM(J46:J46) -> 0 | K47: =SUM(K46:K46) -> 0 | L47: =SUM(L46:L46) -> 0 | O47: =IF(B47=$B$23,1,0) -> #REF!
B48: =VLOOKUP(#REF!,#REF!,3,FALSE) -> #REF! | C48: =A38 -> #REF! | G48: =G47+G44 -> #REF! | H48: =H47+H44 -> #REF! | I48: =I47+I44 -> #REF! | J48: =J47+J44 -> #REF! | K48: =K47+K44 -> #REF! | L48: =L47+L44 -> #REF! | O48: =IF(B48=$B$23,1,0) -> #REF!
O49: =IF(B49=$B$23,1,0) -> #REF!
A50: =VLOOKUP(#REF!,#REF!,3,FALSE) -> #REF! | G50: =G74 -> #REF! | H50: =H74 -> #REF! | I50: =I74 -> #REF! | J50: =J74 -> #REF! | K50: =K74 -> #REF! | L50: =L74 -> #REF! | O50: =IF(B50=$B$23,1,0) -> #REF!
A51: =VLOOKUP(#REF!,#REF!,3,FALSE) -> #REF! | O51: =IF(B51=$B$23,1,0) -> #REF!
A52: =#REF! -> #REF! | B52: =#REF! -> #REF! | C52: Проект энергетического сектора Памир ГЭС | D52: =VLOOKUP(#REF!,#REF!,3,FALSE) -> #REF! | E52: =#REF! -> #REF! | F52: =VLOOKUP(#REF!,#REF!,3,FALSE) -> #REF! | G52: =#REF! -> #REF! | H52: =#REF! -> #REF! | I52: =#REF! -> #REF! | J52: =#REF! -> #REF! | K52: =#REF! -> #REF! | L52: =#REF! -> #REF! | M52: =VLOOKUP(#REF!,#REF!,3,FALSE) -> #REF! | N52: =VLOOKUP(#REF!,#REF!,3,FALSE) -> #REF! | O52: =IF(B52=$B$23,1,0) -> #REF! | P52: 1 | Q52: 0
A53: =#REF! -> #REF! | B53: =#REF! -> #REF! | C53: Региональный проект по строительству линий электропередач (Таджикистан -Афганистан) | D53: =VLOOKUP(#REF!,#REF!,3,FALSE) -> #REF! | E53: =#REF! -> #REF! | F53: =VLOOKUP(#REF!,#REF!,3,FALSE) -> #REF! | G53: =#REF! -> #REF! | H53: =#REF! -> #REF! | I53: =#REF! -> #REF! | J53: =#REF! -> #REF! | K53: =#REF! -> #REF! | L53: =#REF! -> #REF! | M53: =VLOOKUP(#REF!,#REF!,3,FALSE) -> #REF! | N53: =VLOOKUP(#REF!,#REF!,3,FALSE) -> #REF! | O53: =IF(B53=$B$23,1,0) -> #REF! | P53: 1 | Q53: 0
A54: =#REF! -> #REF! | B54: =#REF! -> #REF! | C54: Региональный проект по строительству линий электропередач (Таджикистан -Афганистан) | D54: =VLOOKUP(#REF!,#REF!,3,FALSE) -> #REF! | E54: =#REF! -> #REF! | F54: =VLOOKUP(#REF!,#REF!,3,FALSE) -> #REF! | G54: =#REF! -> #REF! | H54: =#REF! -> #REF! | I54: =#REF! -> #REF! | J54: =#REF! -> #REF! | K54: =#REF! -> #REF! | L54: =#REF! -> #REF! | M54: =VLOOKUP(#REF!,#REF!,3,FALSE) -> #REF! | N54: =VLOOKUP(#REF!,#REF!,3,FALSE) -> #REF! | O54: =IF(B54=$B$23,1,0) -> #REF! | P54: 1 | Q54: 0
A55: =#REF! -> #REF! | B55: =#REF! -> #REF! | C55: Региональный проект по строительству линий электропередач (Таджикистан -Афганистан) | D55: =VLOOKUP(#REF!,#REF!,3,FALSE) -> #REF! | E55: =#REF! -> #REF! | F55: =VLOOKUP(#REF!,#REF!,3,FALSE) -> #REF! | G55: =#REF! -> #REF! | H55: =#REF! -> #REF! | I55: =#REF! -> #REF! | J55: =#REF! -> #REF! | K55: =#REF! -> #REF! | L55: =#REF! -> #REF! | M55: =VLOOKUP(#REF!,#REF!,3,FALSE) -> #REF! | N55: =VLOOKUP(#REF!,#REF!,3,FALSE) -> #REF! | O55: =IF(B55=$B$23,1,0) -> #REF! | P55: 1 | Q55: 0
A56: =#REF! -> #REF! | B56: =#REF! -> #REF! | C56: Снижение потерь электрической энергии в Сугдской Области | D56: =VLOOKUP(#REF!,#REF!,3,FALSE) -> #REF! | E56: =#REF! -> #REF! | F56: =VLOOKUP(#REF!,#REF!,3,FALSE) -> #REF! | G56: =#REF! -> #REF! | H56: =#REF! -> #REF! | I56: =#REF! -> #REF! | J56: =#REF! -> #REF! | K56: =#REF! -> #REF! | L56: =#REF! -> #REF! | M56: =VLOOKUP(#REF!,#REF!,3,FALSE) -> #REF! | N56: =VLOOKUP(#REF!,#REF!,3,FALSE) -> #REF! | O56: =IF(B56=$B$23,1,0) -> #REF! | P56: 1 | Q56: 0
A57: =#REF! -> #REF! | B57: =#REF! -> #REF! | C57: Строительство ЛЭП 220 кВ "Худжанд-Айни" | D57: =VLOOKUP(#REF!,#REF!,3,FALSE) -> #REF! | E57: =#REF! -> #REF! | F57: =VLOOKUP(#REF!,#REF!,3,FALSE) -> #REF! | G57: =#REF! -> #REF! | H57: =#REF! -> #REF! | I57: =#REF! -> #REF! | J57: =#REF! -> #REF! | K57: =#REF! -> #REF! | L57: =#REF! -> #REF! | M57: =VLOOKUP(#REF!,#REF!,3,FALSE) -> #REF! | N57: =VLOOKUP(#REF!,#REF!,3,FALSE) -> #REF! | O57: =IF(B57=$B$23,1,0) -> #REF! | P57: 1 | Q57: 0
A58: =#REF! -> #REF! | B58: =#REF! -> #REF! | C58: Создание единой электросистемы севера РТ | D58: =VLOOKUP(#REF!,#REF!,3,FALSE) -> #REF! | E58: =#REF! -> #REF! | F58: =VLOOKUP(#REF!,#REF!,3,FALSE) -> #REF! | G58: =#REF! -> #REF! | H58: =#REF! -> #REF! | I58: =#REF! -> #REF! | J58: =#REF! -> #REF! | K58: =#REF! -> #REF! | L58: =#REF! -> #REF! | M58: =VLOOKUP(#REF!,#REF!,3,FALSE) -> #REF! | N58: =VLOOKUP(#REF!,#REF!,3,FALSE) -> #REF! | O58: =IF(B58=$B$23,1,0) -> #REF! | P58: 1 | Q58: 0
A59: =#REF! -> #REF! | B59: =#REF! -> #REF! | C59: Замена распределительного устройства 220 кВт на Нурекской ГЭС | D59: =VLOOKUP(#REF!,#REF!,3,FALSE) -> #REF! | E59: =#REF! -> #REF! | F59: =VLOOKUP(#REF!,#REF!,3,FALSE) -> #REF! | G59: =#REF! -> #REF! | H59: =#REF! -> #REF! | I59: =#REF! -> #REF! | J59: =#REF! -> #REF! | K59: =#REF! -> #REF! | L59: =#REF! -> #REF! | M59: =VLOOKUP(#REF!,#REF!,3,FALSE) -> #REF! | N59: =VLOOKUP(#REF!,#REF!,3,FALSE) -> #REF! | O59: =IF(B59=$B$23,1,0) -> #REF! | P59: 1 | Q59: 0
A60: =#REF! -> #REF! | B60: =#REF! -> #REF! | C60: Снижение потерь электрической энергии в Сугдской Области | D60: =VLOOKUP(#REF!,#REF!,3,FALSE) -> #REF! | E60: =#REF! -> #REF! | F60: =VLOOKUP(#REF!,#REF!,3,FALSE) -> #REF! | G60: =#REF! -> #REF! | H60: =#REF! -> #REF! | I60: =#REF! -> #REF! | J60: =#REF! -> #REF! | K60: =#REF! -> #REF! | L60: =#REF! -> #REF! | M60: =VLOOKUP(#REF!,#REF!,3,FALSE) -> #REF! | N60: =VLOOKUP(#REF!,#REF!,3,FALSE) -> #REF! | O60: =IF(B60=$B$23,1,0) -> #REF! | P60: 1 | Q60: 0
O61: =IF(B61=$B$23,1,0) -> #REF!
A62: =VLOOKUP(#REF!,#REF!,3,FALSE) -> #REF! | G62: =SUM(G52:G61) -> #REF! | H62: =SUM(H52:H61) -> #REF! | I62: =SUM(I52:I61) -> #REF! | J62: =SUM(J52:J61) -> #REF! | K62: =SUM(K52:K61) -> #REF! | L62: =SUM(L52:L61) -> #REF! | O62: =IF(B62=$B$23,1,0) -> #REF!
A63: =VLOOKUP(#REF!,#REF!,3,FALSE) -> #REF! | O63: =IF(B63=$B$23,1,0) -> #REF!
A64: =#REF! -> #REF! | B64: =#REF! -> #REF! | C64: Проект "зеленая энергия" | D64: =VLOOKUP(#REF!,#REF!,3,FALSE) -> #REF! | E64: =#REF! -> #REF! | F64: =VLOOKUP(#REF!,#REF!,3,FALSE) -> #REF! | G64: =#REF! -> #REF! | H64: =#REF! -> #REF! | I64: =#REF! -> #REF! | J64: =#REF! -> #REF! | K64: =#REF! -> #REF! | L64: =#REF! -> #REF! | M64: =VLOOKUP(#REF!,#REF!,3,FALSE) -> #REF! | N64: =VLOOKUP(#REF!,#REF!,3,FALSE) -> #REF! | O64: =IF(B64=$B$23,1,0) -> #REF! | P64: 0 | Q64: 1
A65: =#REF! -> #REF! | B65: =#REF! -> #REF! | C65: Линия электропередач 500 кВ "Север-Юг" (Худжанд-Датка)* | D65: =VLOOKUP(#REF!,#REF!,3,FALSE) -> #REF! | E65: =#REF! -> #REF! | F65: =VLOOKUP(#REF!,#REF!,3,FALSE) -> #REF! | G65: =#REF! -> #REF! | H65: =#REF! -> #REF! | I65: =#REF! -> #REF! | J65: =#REF! -> #REF! | K65: =#REF! -> #REF! | L65: =#REF! -> #REF! | M65: =VLOOKUP(#REF!,#REF!,3,FALSE) -> #REF! | N65: =VLOOKUP(#REF!,#REF!,3,FALSE) -> #REF! | O65: =IF(B65=$B$23,1,0) -> #REF! | P65: 0 | Q65: 1
A66: =#REF! -> #REF! | B66: =#REF! -> #REF! | C66: Проект развития комерческих связей в энергетическом секторе | D66: =VLOOKUP(#REF!,#REF!,3,FALSE) -> #REF! | E66: =#REF! -> #REF! | F66: =VLOOKUP(#REF!,#REF!,3,FALSE) -> #REF! | G66: =#REF! -> #REF! | H66: =#REF! -> #REF! | I66: =#REF! -> #REF! | J66: =#REF! -> #REF! | K66: =#REF! -> #REF! | L66: =#REF! -> #REF! | M66: =VLOOKUP(#REF!,#REF!,3,FALSE) -> #REF! | N66: =VLOOKUP(#REF!,#REF!,3,FALSE) -> #REF! | O66: =IF(B66=$B$23,1,0) -> #REF! | P66: 0 | Q66: 1
A67: =#REF! -> #REF! | B67: =#REF! -> #REF! | C67: Проект CASA (фаза I и фаза II) | D67: =VLOOKUP(#REF!,#REF!,3,FALSE) -> #REF! | E67: =#REF! -> #REF! | F67: =VLOOKUP(#REF!,#REF!,3,FALSE) -> #REF! | G67: =#REF! -> #REF! | H67: =#REF! -> #REF! | I67: =#REF! -> #REF! | J67: =#REF! -> #REF! | K67: =#REF! -> #REF! | L67: =#REF! -> #REF! | M67: =VLOOKUP(#REF!,#REF!,3,FALSE) -> #REF! | N67: =VLOOKUP(#REF!,#REF!,3,FALSE) -> #REF! | O67: =IF(B67=$B$23,1,0) -> #REF! | P67: 0 | Q67: 1
A68: =#REF! -> #REF! | B68: =#REF! -> #REF! | C68: Строительство дамбы для Байпазинской ГЭС | D68: =VLOOKUP(#REF!,#REF!,3,FALSE) -> #REF! | E68: =#REF! -> #REF! | F68: =VLOOKUP(#REF!,#REF!,3,FALSE) -> #REF! | G68: =#REF! -> #REF! | H68: =#REF! -> #REF! | I68: =#REF! -> #REF! | J68: =#REF! -> #REF! | K68: =#REF! -> #REF! | L68: =#REF! -> #REF! | M68: =VLOOKUP(#REF!,#REF!,3,FALSE) -> #REF! | N68: =VLOOKUP(#REF!,#REF!,3,FALSE) -> #REF! | O68: =IF(B68=$B$23,1,0) -> #REF! | P68: 0 | Q68: 1
A69: =#REF! -> #REF! | B69: =#REF! -> #REF! | C69: Востановление ГЭС Кайракума фазза 1 | D69: =VLOOKUP(#REF!,#REF!,3,FALSE) -> #REF! | E69: =#REF! -> #REF! | F69: =VLOOKUP(#REF!,#REF!,3,FALSE) -> #REF! | G69: =#REF! -> #REF! | H69: =#REF! -> #REF! | I69: =#REF! -> #REF! | J69: =#REF! -> #REF! | K69: =#REF! -> #REF! | L69: =#REF! -> #REF! | M69: =VLOOKUP(#REF!,#REF!,3,FALSE) -> #REF! | N69: =VLOOKUP(#REF!,#REF!,3,FALSE) -> #REF! | O69: =IF(B69=$B$23,1,0) -> #REF! | P69: 0 | Q69: 1
A70: =#REF! -> #REF! | B70: =#REF! -> #REF! | C70: Реабилитация и строительство ЛЭП 500 кВ в РРП | D70: =VLOOKUP(#REF!,#REF!,3,FALSE) -> #REF! | E70: =#REF! -> #REF! | F70: =VLOOKUP(#REF!,#REF!,3,FALSE) -> #REF! | G70: =#REF! -> #REF! | H70: =#REF! -> #REF! | I70: =#REF! -> #REF! | J70: =#REF! -> #REF! | K70: =#REF! -> #REF! | L70: =#REF! -> #REF! | M70: =VLOOKUP(#REF!,#REF!,3,FALSE) -> #REF! | N70: =VLOOKUP(#REF!,#REF!,3,FALSE) -> #REF! | O70: =IF(B70=$B$23,1,0) -> #REF! | P70: 0 | Q70: 1
A71: =#REF! -> #REF! | B71: =#REF! -> #REF! | C71: Востановление ГЭС Кайракума фазза 1 | D71: =VLOOKUP(#REF!,#REF!,3,FALSE) -> #REF! | E71: =#REF! -> #REF! | F71: =VLOOKUP(#REF!,#REF!,3,FALSE) -> #REF! | G71: =#REF! -> #REF! | H71: =#REF! -> #REF! | I71: =#REF! -> #REF! | J71: =#REF! -> #REF! | K71: =#REF! -> #REF! | L71: =#REF! -> #REF! | M71: =VLOOKUP(#REF!,#REF!,3,FALSE) -> #REF! | N71: =VLOOKUP(#REF!,#REF!,3,FALSE) -> #REF! | O71: =IF(B71=$B$23,1,0) -> #REF! | P71: 0 | Q71: 1
O72: =IF(B72=$B$23,1,0) -> #REF!
A73: =VLOOKUP(#REF!,#REF!,3,FALSE) -> #REF! | G73: =SUM(G64:G72) -> #REF! | H73: =SUM(H64:H72) -> #REF! | I73: =SUM(I64:I72) -> #REF! | J73: =SUM(J64:J72) -> #REF! | K73: =SUM(K64:K72) -> #REF! | L73: =SUM(L64:L72) -> #REF! | O73: =IF(B73=$B$23,1,0) -> #REF!
B74: =VLOOKUP(#REF!,#REF!,3,FALSE) -> #REF! | C74: =A50 -> #REF! | G74: =G73+G62 -> #REF! | H74: =H73+H62 -> #REF! | I74: =I73+I62 -> #REF! | J74: =J73+J62 -> #REF! | K74: =K73+K62 -> #REF! | L74: =L73+L62 -> #REF! | O74: =IF(B74=$B$23,1,0) -> #REF!
O75: =IF(B75=$B$23,1,0) -> #REF!
A76: =VLOOKUP(#REF!,#REF!,3,FALSE) -> #REF! | G76: =G104 -> #REF! | H76: =H104 -> #REF! | I76: =I104 -> #REF! | J76: =J104 -> #REF! | K76: =K104 -> #REF! | L76: =L104 -> #REF! | O76: =IF(B76=$B$23,1,0) -> #REF!
A77: =VLOOKUP(#REF!,#REF!,3,FALSE) -> #REF! | O77: =IF(B77=$B$23,1,0) -> #REF!
A78: =#REF! -> #REF! | B78: =#REF! -> #REF! | C78: Улучшение дорожного коридора Душанбе граница Киргизистан ЦАРЭС, фаза III | D78: =VLOOKUP(#REF!,#REF!,3,FALSE) -> #REF! | E78: =#REF! -> #REF! | F78: =VLOOKUP(#REF!,#REF!,3,FALSE) -> #REF! | G78: =#REF! -> #REF! | H78: =#REF! -> #REF! | I78: =#REF! -> #REF! | J78: =#REF! -> #REF! | K78: =#REF! -> #REF! | L78: =#REF! -> #REF! | M78: =VLOOKUP(#REF!,#REF!,3,FALSE) -> #REF! | N78: =VLOOKUP(#REF!,#REF!,3,FALSE) -> #REF! | O78: =IF(B78=$B$23,1,0) -> #REF! | P78: 1 | Q78: 0
A79: =#REF! -> #REF! | B79: =#REF! -> #REF! | C79: Строительство автодороги в регионе Шагон-Зигар, фаза III | D79: =VLOOKUP(#REF!,#REF!,3,FALSE) -> #REF! | E79: =#REF! -> #REF! | F79: =VLOOKUP(#REF!,#REF!,3,FALSE) -> #REF! | G79: =#REF! -> #REF! | H79: =#REF! -> #REF! | I79: =#REF! -> #REF! | J79: =#REF! -> #REF! | K79: =#REF! -> #REF! | L79: =#REF! -> #REF! | M79: =VLOOKUP(#REF!,#REF!,3,FALSE) -> #REF! | N79: =VLOOKUP(#REF!,#REF!,3,FALSE) -> #REF! | O79: =IF(B79=$B$23,1,0) -> #REF! | P79: 1 | Q79: 0
A80: =#REF! -> #REF! | B80: =#REF! -> #REF! | C80: Строительство автодороги Куляб-Калайхумб | D80: =VLOOKUP(#REF!,#REF!,3,FALSE) -> #REF! | E80: =#REF! -> #REF! | F80: =VLOOKUP(#REF!,#REF!,3,FALSE) -> #REF! | G80: =#REF! -> #REF! | H80: =#REF! -> #REF! | I80: =#REF! -> #REF! | J80: =#REF! -> #REF! | K80: =#REF! -> #REF! | L80: =#REF! -> #REF! | M80: =VLOOKUP(#REF!,#REF!,3,FALSE) -> #REF! | N80: =VLOOKUP(#REF!,#REF!,3,FALSE) -> #REF! | O80: =IF(B80=$B$23,1,0) -> #REF! | P80: 1 | Q80: 0
A81: =#REF! -> #REF! | B81: =#REF! -> #REF! | C81: Строительство автодороги Куляб-Калайхумб | D81: =VLOOKUP(#REF!,#REF!,3,FALSE) -> #REF! | E81: =#REF! -> #REF! | F81: =VLOOKUP(#REF!,#REF!,3,FALSE) -> #REF! | G81: =#REF! -> #REF! | H81: =#REF! -> #REF! | I81: =#REF! -> #REF! | J81: =#REF! -> #REF! | K81: =#REF! -> #REF! | L81: =#REF! -> #REF! | M81: =VLOOKUP(#REF!,#REF!,3,FALSE) -> #REF! | N81: =VLOOKUP(#REF!,#REF!,3,FALSE) -> #REF! | O81: =IF(B81=$B$23,1,0) -> #REF! | P81: 1 | Q81: 0
A82: =#REF! -> #REF! | B82: =#REF! -> #REF! | C82: Строительство автодороги Куляб-Калайхумб | D82: =VLOOKUP(#REF!,#REF!,3,FALSE) -> #REF! | E82: =#REF! -> #REF! | F82: =VLOOKUP(#REF!,#REF!,3,FALSE) -> #REF! | G82: =#REF! -> #REF! | H82: =#REF! -> #REF! | I82: =#REF! -> #REF! | J82: =#REF! -> #REF! | K82: =#REF! -> #REF! | L82: =#REF! -> #REF! | M82: =VLOOKUP(#REF!,#REF!,3,FALSE) -> #REF! | N82: =VLOOKUP(#REF!,#REF!,3,FALSE) -> #REF! | O82: =IF(B82=$B$23,1,0) -> #REF! | P82: 1 | Q82: 0
A83: =#REF! -> #REF! | B83: =#REF! -> #REF! | C83: Строительство автодороги Куляб-Калайхумб | D83: =VLOOKUP(#REF!,#REF!,3,FALSE) -> #REF! | E83: =#REF! -> #REF! | F83: =VLOOKUP(#REF!,#REF!,3,FALSE) -> #REF! | G83: =#REF! -> #REF! | H83: =#REF! -> #REF! | I83: =#REF! -> #REF! | J83: =#REF! -> #REF! | K83: =#REF! -> #REF! | L83: =#REF! -> #REF! | M83: =VLOOKUP(#REF!,#REF!,3,FALSE) -> #REF! | N83: =VLOOKUP(#REF!,#REF!,3,FALSE) -> #REF! | O83: =IF(B83=$B$23,1,0) -> #REF! | P83: 1 | Q83: 0
A84: =#REF! -> #REF! | B84: =#REF! -> #REF! | C84: Реабилитация автодороги Душанбе - граница с Кыргызстаном, фаза II | D84: =VLOOKUP(#REF!,#REF!,3,FALSE) -> #REF! | E84: =#REF! -> #REF! | F84: =VLOOKUP(#REF!,#REF!,3,FALSE) -> #REF! | G84: =#REF! -> #REF! | H84: =#REF! -> #REF! | I84: =#REF! -> #REF! | J84: =#REF! -> #REF! | K84: =#REF! -> #REF! | L84: =#REF! -> #REF! | M84: =VLOOKUP(#REF!,#REF!,3,FALSE) -> #REF! | N84: =VLOOKUP(#REF!,#REF!,3,FALSE) -> #REF! | O84: =IF(B84=$B$23,1,0) -> #REF! | P84: 1 | Q84: 0
A85: =#REF! -> #REF! | B85: =#REF! -> #REF! | C85: Строительство автодороги Куляб-Калайхумб | D85: =VLOOKUP(#REF!,#REF!,3,FALSE) -> #REF! | E85: =#REF! -> #REF! | F85: =VLOOKUP(#REF!,#REF!,3,FALSE) -> #REF! | G85: =#REF! -> #REF! | H85: =#REF! -> #REF! | I85: =#REF! -> #REF! | J85: =#REF! -> #REF! | K85: =#REF! -> #REF! | L85: =#REF! -> #REF! | M85: =VLOOKUP(#REF!,#REF!,3,FALSE) -> #REF! | N85: =VLOOKUP(#REF!,#REF!,3,FALSE) -> #REF! | O85: =IF(B85=$B$23,1,0) -> #REF! | P85: 1 | Q85: 0
A86: =#REF! -> #REF! | B86: =#REF! -> #REF! | C86: Развитие общественного транспорта г. Душанбе | D86: =VLOOKUP(#REF!,#REF!,3,FALSE) -> #REF! | E86: =#REF! -> #REF! | F86: =VLOOKUP(#REF!,#REF!,3,FALSE) -> #REF! | G86: =#REF! -> #REF! | H86: =#REF! -> #REF! | I86: =#REF! -> #REF! | J86: =#REF! -> #REF! | K86: =#REF! -> #REF! | L86: =#REF! -> #REF! | M86: =VLOOKUP(#REF!,#REF!,3,FALSE) -> #REF! | N86: =VLOOKUP(#REF!,#REF!,3,FALSE) -> #REF! | O86: =IF(B86=$B$23,1,0) -> #REF! | P86: 1 | Q86: 0
A87: =#REF! -> #REF! | B87: =#REF! -> #REF! | C87: Строительство автомобильной дороги Душанбе-Турсунзаде (граница Узбекистана) | D87: =VLOOKUP(#REF!,#REF!,3,FALSE) -> #REF! | E87: =#REF! -> #REF! | F87: =VLOOKUP(#REF!,#REF!,3,FALSE) -> #REF! | G87: =#REF! -> #REF! | H87: =#REF! -> #REF! | I87: =#REF! -> #REF! | J87: =#REF! -> #REF! | K87: =#REF! -> #REF! | L87: =#REF! -> #REF! | M87: =VLOOKUP(#REF!,#REF!,3,FALSE) -> #REF! | N87: =VLOOKUP(#REF!,#REF!,3,FALSE) -> #REF! | O87: =IF(B87=$B$23,1,0) -> #REF! | P87: 1 | Q87: 0
A88: =#REF! -> #REF! | B88: =#REF! -> #REF! | C88: Реабилитация автодороги (Душанбе - Бустан Чанак) | D88: =VLOOKUP(#REF!,#REF!,3,FALSE) -> #REF! | E88: =#REF! -> #REF! | F88: =VLOOKUP(#REF!,#REF!,3,FALSE) -> #REF! | G88: =#REF! -> #REF! | H88: =#REF! -> #REF! | I88: =#REF! -> #REF! | J88: =#REF! -> #REF! | K88: =#REF! -> #REF! | L88: =#REF! -> #REF! | M88: =VLOOKUP(#REF!,#REF!,3,FALSE) -> #REF! | N88: =VLOOKUP(#REF!,#REF!,3,FALSE) -> #REF! | O88: =IF(B88=$B$23,1,0) -> #REF! | P88: 1 | Q88: 0
A89: =#REF! -> #REF! | B89: =#REF! -> #REF! | C89: Реабилитация автомобильной дороги Душанбе-Дангара, фаза I этап 1 | D89: =VLOOKUP(#REF!,#REF!,3,FALSE) -> #REF! | E89: =#REF! -> #REF! | F89: =VLOOKUP(#REF!,#REF!,3,FALSE) -> #REF! | G89: =#REF! -> #REF! | H89: =#REF! -> #REF! | I89: =#REF! -> #REF! | J89: =#REF! -> #REF! | K89: =#REF! -> #REF! | L89: =#REF! -> #REF! | M89: =VLOOKUP(#REF!,#REF!,3,FALSE) -> #REF! | N89: =VLOOKUP(#REF!,#REF!,3,FALSE) -> #REF! | O89: =IF(B89=$B$23,1,0) -> #REF! | P89: 1 | Q89: 0
... A92: =#REF! -> #REF! | B92: =#REF! -> #REF! | C92: Строительство аэровокзала Душанбинского международного аэропорта | D92: =VLOOKUP(#REF!,#REF!,3,FALSE) -> #REF! | E92: =#REF! -> #REF! | F92: =VLOOKUP(#REF!,#REF!,3,FALSE) -> #REF! | G92: =#REF! -> #REF! | H92: =#REF! -> #REF! | I92: =#REF! -> #REF! | J92: =#REF! -> #REF! | K92: =#REF! -> #REF! | L92: =#REF! -> #REF! | M92: =VLOOKUP(#REF!,#REF!,3,FALSE) -> #REF! | N92: =VLOOKUP(#REF!,#REF!,3,FALSE) -> #REF! | O92: =IF(B92=$B$23,1,0) -> #REF! | P92: 1 | Q92: 0
O93: =IF(B93=$B$23,1,0) -> #REF!
A94: =VLOOKUP(#REF!,#REF!,3,FALSE) -> #REF! | G94: =SUM(G78:G93) -> #REF! | H94: =SUM(H78:H93) -> #REF! | I94: =SUM(I78:I93) -> #REF! | J94: =SUM(J78:J93) -> #REF! | K94: =SUM(K78:K93) -> #REF! | L94: =SUM(L78:L93) -> #REF! | O94: =IF(B94=$B$23,1,0) -> #REF!
A95: =#REF! -> #REF! | O95: =IF(B95=$B$23,1,0) -> #REF!
A96: =#REF! -> #REF! | B96: =#REF! -> #REF! | C96: Автоматическая система управления транспорта в г. Душанбе | D96: =VLOOKUP(#REF!,#REF!,3,FALSE) -> #REF! | E96: =#REF! -> #REF! | F96: =VLOOKUP(#REF!,#REF!,3,FALSE) -> #REF! | G96: =#REF! -> #REF! | H96: =#REF! -> #REF! | I96: =#REF! -> #REF! | J96: =#REF! -> #REF! | K96: =#REF! -> #REF! | L96: =#REF! -> #REF! | M96: =VLOOKUP(#REF!,#REF!,3,FALSE) -> #REF! | N96: =VLOOKUP(#REF!,#REF!,3,FALSE) -> #REF! | O96: =IF(B96=$B$23,1,0) -> #REF! | P96: 0 | Q96: 1
A97: =#REF! -> #REF! | B97: =#REF! -> #REF! | C97: Строительство туннеля железной дороги Душанбе - Курган-Тюбе (на участке Вахдат-Яван)* | D97: =VLOOKUP(#REF!,#REF!,3,FALSE) -> #REF! | E97: =#REF! -> #REF! | F97: =VLOOKUP(#REF!,#REF!,3,FALSE) -> #REF! | G97: =#REF! -> #REF! | H97: =#REF! -> #REF! | I97: =#REF! -> #REF! | J97: =#REF! -> #REF! | K97: =#REF! -> #REF! | L97: =#REF! -> #REF! | M97: =VLOOKUP(#REF!,#REF!,3,FALSE) -> #REF! | N97: =VLOOKUP(#REF!,#REF!,3,FALSE) -> #REF! | O97: =IF(B97=$B$23,1,0) -> #REF! | P97: 0 | Q97: 1
A98: =#REF! -> #REF! | B98: =#REF! -> #REF! | C98: Строительство автодороги Айни-Пенджикент (граница Узбекистана) фаза I | D98: =VLOOKUP(#REF!,#REF!,3,FALSE) -> #REF! | E98: =#REF! -> #REF! | F98: =VLOOKUP(#REF!,#REF!,3,FALSE) -> #REF! | G98: =#REF! -> #REF! | H98: =#REF! -> #REF! | I98: =#REF! -> #REF! | J98: =#REF! -> #REF! | K98: =#REF! -> #REF! | L98: =#REF! -> #REF! | M98: =VLOOKUP(#REF!,#REF!,3,FALSE) -> #REF! | N98: =VLOOKUP(#REF!,#REF!,3,FALSE) -> #REF! | O98: =IF(B98=$B$23,1,0) -> #REF! | P98: 0 | Q98: 1
A99: =#REF! -> #REF! | B99: =#REF! -> #REF! | C99: Строительство железной дороги Вахдат - Яван | D99: =VLOOKUP(#REF!,#REF!,3,FALSE) -> #REF! | E99: =#REF! -> #REF! | F99: =VLOOKUP(#REF!,#REF!,3,FALSE) -> #REF! | G99: =#REF! -> #REF! | H99: =#REF! -> #REF! | I99: =#REF! -> #REF! | J99: =#REF! -> #REF! | K99: =#REF! -> #REF! | L99: =#REF! -> #REF! | M99: =VLOOKUP(#REF!,#REF!,3,FALSE) -> #REF! | N99: =VLOOKUP(#REF!,#REF!,3,FALSE) -> #REF! | O99: =IF(B99=$B$23,1,0) -> #REF! | P99: 0 | Q99: 1
A100: =#REF! -> #REF! | B100: =#REF! -> #REF! | C100: Строительство и реконструкция автодороги Лабичар-Тавилдара-Калаихумб | D100: =VLOOKUP(#REF!,#REF!,3,FALSE) -> #REF! | E100: =#REF! -> #REF! | F100: =VLOOKUP(#REF!,#REF!,3,FALSE) -> #REF! | G100: =#REF! -> #REF! | H100: =#REF! -> #REF! | I100: =#REF! -> #REF! | J100: =#REF! -> #REF! | K100: =#REF! -> #REF! | L100: =#REF! -> #REF! | M100: =VLOOKUP(#REF!,#REF!,3,FALSE) -> #REF! | N100: =VLOOKUP(#REF!,#REF!,3,FALSE) -> #REF! | O100: =IF(B100=$B$23,1,0) -> #REF! | P100: 0 | Q100: 1
A101: =#REF! -> #REF! | B101: =#REF! -> #REF! | C101: Строительство железной дороги соединяющей с Афганистаном и Туркменистаном ( на участке Айвач-Хулм) | D101: =VLOOKUP(#REF!,#REF!,3,FALSE) -> #REF! | E101: =#REF! -> #REF! | F101: =VLOOKUP(#REF!,#REF!,3,FALSE) -> #REF! | G101: =#REF! -> #REF! | H101: =#REF! -> #REF! | I101: =#REF! -> #REF! | J101: =#REF! -> #REF! | K101: =#REF! -> #REF! | L101: =#REF! -> #REF! | M101: =VLOOKUP(#REF!,#REF!,3,FALSE) -> #REF! | N101: =VLOOKUP(#REF!,#REF!,3,FALSE) -> #REF! | O101: =IF(B101=$B$23,1,0) -> #REF! | P101: 0 | Q101: 1
O102: =IF(B102=$B$23,1,0) -> #REF!
A103: =VLOOKUP(#REF!,#REF!,3,FALSE) -> #REF! | G103: =SUM(G96:G102) -> #REF! | H103: =SUM(H96:H102) -> #REF! | I103: =SUM(I96:I102) -> #REF! | J103: =SUM(J96:J102) -> #REF! | K103: =SUM(K96:K102) -> #REF! | L103: =SUM(L96:L102) -> #REF! | O103: =IF(B103=$B$23,1,0) -> #REF!
B104: =VLOOKUP(#REF!,#REF!,3,FALSE) -> #REF! | C104: =A76 -> #REF! | G104: =G103+G94 -> #REF! | H104: =H103+H94 -> #REF! | I104: =I103+I94 -> #REF! | J104: =J103+J94 -> #REF! | K104: =K103+K94 -> #REF! | L104: =L103+L94 -> #REF! | O104: =IF(B104=$B$23,1,0) -> #REF!
...

Sheet Agregated Creditors (Eng)
A1: Программа государственных внешних заимствований Республики Таджикистан на 2013-2015гг
A4: № п/п | B4: № кредитора | C4: Наименование кредиторов | D4: Количество проектов | G4: Сумма кредита в долл. США по сост. на 01.06.12г. | H4: Исполь-зовано до 01.01.2012г. | I4: Ожидаемое использо-вание в 2012 году | J4: Прогноз использования кредита на: | O4: Ожидаемое использо-вание в 2013 году
D5: Действующие | E5: Новые | F5: Итого | J5: 2013г. | K5: 2014г. | L5: 2015г.
A7: 1 | B7: =#REF! -> #REF! | C7: =VLOOKUP(#REF!,#REF!,3,FALSE) -> #REF! | D7: =#REF! -> #REF! | E7: =#REF! -> #REF! | F7: =#REF! -> #REF! | G7: =#REF! -> #REF! | H7: =#REF! -> #REF! | I7: =#REF! -> #REF! | J7: =#REF! -> #REF! | K7: =#REF! -> #REF! | L7: =#REF! -> #REF!
A8: 2 | B8: =#REF! -> #REF! | C8: =VLOOKUP(#REF!,#REF!,3,FALSE) -> #REF! | D8: =#REF! -> #REF! | E8: =#REF! -> #REF! | F8: =#REF! -> #REF! | G8: =#REF! -> #REF! | H8: =#REF! -> #REF! | I8: =#REF! -> #REF! | J8: =#REF! -> #REF! | K8: =#REF! -> #REF! | L8: =#REF! -> #REF!
A9: 3 | B9: =#REF! -> #REF! | C9: =VLOOKUP(#REF!,#REF!,3,FALSE) -> #REF! | D9: =#REF! -> #REF! | E9: =#REF! -> #REF! | F9: =#REF! -> #REF! | G9: =#REF! -> #REF! | H9: =#REF! -> #REF! | I9: =#REF! -> #REF! | J9: =#REF! -> #REF! | K9: =#REF! -> #REF! | L9: =#REF! -> #REF!
A10: 4 | B10: =#REF! -> #REF! | C10: =VLOOKUP(#REF!,#REF!,3,FALSE) -> #REF! | D10: =#REF! -> #REF! | E10: =#REF! -> #REF! | F10: =#REF! -> #REF! | G10: =#REF! -> #REF! | H10: =#REF! -> #REF! | I10: =#REF! -> #REF! | J10: =#REF! -> #REF! | K10: =#REF! -> #REF! | L10: =#REF! -> #REF!
A11: 5 | B11: =#REF! -> #REF! | C11: =VLOOKUP(#REF!,#REF!,3,FALSE) -> #REF! | D11: =#REF! -> #REF! | E11: =#REF! -> #REF! | F11: =#REF! -> #REF! | G11: =#REF! -> #REF! | H11: =#REF! -> #REF! | I11: =#REF! -> #REF! | J11: =#REF! -> #REF! | K11: =#REF! -> #REF! | L11: =#REF! -> #REF!
A12: 6 | B12: =#REF! -> #REF! | C12: =VLOOKUP(#REF!,#REF!,3,FALSE) -> #REF! | D12: =#REF! -> #REF! | E12: =#REF! -> #REF! | F12: =#REF! -> #REF! | G12: =#REF! -> #REF! | H12: =#REF! -> #REF! | I12: =#REF! -> #REF! | J12: =#REF! -> #REF! | K12: =#REF! -> #REF! | L12: =#REF! -> #REF!
A13: 7 | B13: =#REF! -> #REF! | C13: =VLOOKUP(#REF!,#REF!,3,FALSE) -> #REF! | D13: =#REF! -> #REF! | E13: =#REF! -> #REF! | F13: =#REF! -> #REF! | G13: =#REF! -> #REF! | H13: =#REF! -> #REF! | I13: =#REF! -> #REF! | J13: =#REF! -> #REF! | K13: =#REF! -> #REF! | L13: =#REF! -> #REF!
A14: 8 | B14: =#REF! -> #REF! | C14: =VLOOKUP(#REF!,#REF!,3,FALSE) -> #REF! | D14: =#REF! -> #REF! | E14: =#REF! -> #REF! | F14: =#REF! -> #REF! | G14: =#REF! -> #REF! | H14: =#REF! -> #REF! | I14: =#REF! -> #REF! | J14: =#REF! -> #REF! | K14: =#REF! -> #REF! | L14: =#REF! -> #REF!
A15: 9 | B15: =#REF! -> #REF! | C15: =VLOOKUP(#REF!,#REF!,3,FALSE) -> #REF! | D15: =#REF! -> #REF! | E15: =#REF! -> #REF! | F15: =#REF! -> #REF! | G15: =#REF! -> #REF! | H15: =#REF! -> #REF! | I15: =#REF! -> #REF! | J15: =#REF! -> #REF! | K15: =#REF! -> #REF! | L15: =#REF! -> #REF!
A16: 10 | B16: =#REF! -> #REF! | C16: =VLOOKUP(#REF!,#REF!,3,FALSE) -> #REF! | D16: =#REF! -> #REF! | E16: =#REF! -> #REF! | F16: =#REF! -> #REF! | G16: =#REF! -> #REF! | H16: =#REF! -> #REF! | I16: =#REF! -> #REF! | J16: =#REF! -> #REF! | K16: =#REF! -> #REF! | L16: =#REF! -> #REF!
A17: 11 | B17: =#REF! -> #REF! | C17: =VLOOKUP(#REF!,#REF!,3,FALSE) -> #REF! | D17: =#REF! -> #REF! | E17: =#REF! -> #REF! | F17: =#REF! -> #REF! | G17: =#REF! -> #REF! | H17: =#REF! -> #REF! | I17: =#REF! -> #REF! | J17: =#REF! -> #REF! | K17: =#REF! -> #REF! | L17: =#REF! -> #REF!
A18: 12 | B18: =#REF! -> #REF! | C18: =VLOOKUP(#REF!,#REF!,3,FALSE) -> #REF! | D18: =#REF! -> #REF! | E18: =#REF! -> #REF! | F18: =#REF! -> #REF! | G18: =#REF! -> #REF! | H18: =#REF! -> #REF! | I18: =#REF! -> #REF! | J18: =#REF! -> #REF! | K18: =#REF! -> #REF! | L18: =#REF! -> #REF!
A21: =VLOOKUP(#REF!,#REF!,3,FALSE) -> #REF! | D21: =SUM(D7:D20) -> #REF! | E21: =SUM(E7:E20) -> #REF! | F21: =SUM(F7:F20) -> #REF! | G21: =SUM(G7:G20) -> #REF! | H21: =SUM(H7:H20) -> #REF! | I21: =SUM(I7:I20) -> #REF! | J21: =SUM(J7:J20) -> #REF! | K21: =SUM(K7:K20) -> #REF! | L21: =SUM(L7:L20) -> #REF!
A22: =VLOOKUP(#REF!,#REF!,3,FALSE) -> #REF! | I22: =I21/I23*100 -> #REF! | J22: =J21/J23*100 -> #REF! | K22: =K21/K23*100 -> #REF! | L22: =L21/L23*100 -> #REF!
A23: ВВП (в долл.США) | I23: =I25/I26 -> 6287.5 | J23: =J25/J26 -> 7086 | K23: =K25/K26 -> 8234.375 | L23: =L25/L26 -> 9633.0798
B25: Примечание: * прогнозный проект | G25: ВВП ( в сомони) - | I25: ='[1]by creditors'!$I$119 -> 30180 | J25: ='[1]by creditors'!$J$119 -> 35430 | K25: ='[1]by creditors'!$K$119 -> 42160 | L25: ='[1]by creditors'!$L$119 -> 50670
C26: **-выделение кредита в равных долях ЕБРР и ЕИБ | G26: Курс( $ к сомони) - | I26: ='[1]by creditors'!$I$120 -> 4.8 | J26: 5 | K26: ='[1]by creditors'!$K$120 -> 5.12 | L26: ='[1]by creditors'!$L$120 -> 5.26
C27: *** - Планируемая к подписанию сумма
B28: Дол. США - Доллар Соединенных Штатов Америки
B29: СПЗ - Специальные Права Заимствования | G29: =#REF!+#REF!+#REF!+#REF!+#REF!+#REF!+#REF!+#REF!+#REF!+#REF!+#REF! -> #REF!
B30: ИД - Исламский Динар
B31: СР - Саудовский Риал
B32: КД - Кувейтский Динар
B33: ОАЭД-Дирхам ОАЭ
B34: қарз | G34: 1345956 | J34: 151771 | K34: 144242 | L34: 113601

Sheet Agregated Sectors (Eng)
A1: Программа государственных внешних заимствований Республики Таджикистан на 2013-2015гг
A4: № п/п | B4: № сектора | C4: Наименование кредиторов | D4: Количество проектов | G4: Сумма кредита в долл. США по сост. на 01.06.12г. | H4: Исполь-зовано до 01.01.2012г. | I4: Ожидаемое использо-вание в 2012 году | J4: Прогноз использования кредита на: | O4: Ожидаемое использо-вание в 2013 году
D5: Действующие | E5: Новые | F5: Итого | J5: 2013г. | K5: 2014г. | L5: 2015г.
A7: =#REF! -> #REF! | B7: =#REF! -> #REF! | C7: =VLOOKUP(#REF!,#REF!,3,FALSE) -> #REF! | D7: =#REF! -> #REF! | E7: =#REF! -> #REF! | F7: =#REF! -> #REF! | G7: =#REF! -> #REF! | H7: =#REF! -> #REF! | I7: =#REF! -> #REF! | J7: =#REF! -> #REF! | K7: =#REF! -> #REF! | L7: =#REF! -> #REF!
A8: =#REF! -> #REF! | B8: =#REF! -> #REF! | C8: =VLOOKUP(#REF!,#REF!,3,FALSE) -> #REF! | D8: =#REF! -> #REF! | E8: =#REF! -> #REF! | F8: =#REF! -> #REF! | G8: =#REF! -> #REF! | H8: =#REF! -> #REF! | I8: =#REF! -> #REF! | J8: =#REF! -> #REF! | K8: =#REF! -> #REF! | L8: =#REF! -> #REF!
A9: =#REF! -> #REF! | B9: =#REF! -> #REF! | C9: =VLOOKUP(#REF!,#REF!,3,FALSE) -> #REF! | D9: =#REF! -> #REF! | E9: =#REF! -> #REF! | F9: =#REF! -> #REF! | G9: =#REF! -> #REF! | H9: =#REF! -> #REF! | I9: =#REF! -> #REF! | J9: =#REF! -> #REF! | K9: =#REF! -> #REF! | L9: =#REF! -> #REF!
A10: =#REF! -> #REF! | B10: =#REF! -> #REF! | C10: =VLOOKUP(#REF!,#REF!,3,FALSE) -> #REF! | D10: =#REF! -> #REF! | E10: =#REF! -> #REF! | F10: =#REF! -> #REF! | G10: =#REF! -> #REF! | H10: =#REF! -> #REF! | I10: =#REF! -> #REF! | J10: =#REF! -> #REF! | K10: =#REF! -> #REF! | L10: =#REF! -> #REF!
A11: =#REF! -> #REF! | B11: =#REF! -> #REF! | C11: =VLOOKUP(#REF!,#REF!,3,FALSE) -> #REF! | D11: =#REF! -> #REF! | E11: =#REF! -> #REF! | F11: =#REF! -> #REF! | G11: =#REF! -> #REF! | H11: =#REF! -> #REF! | I11: =#REF! -> #REF! | J11: =#REF! -> #REF! | K11: =#REF! -> #REF! | L11: =#REF! -> #REF!
A12: =#REF! -> #REF! | B12: =#REF! -> #REF! | C12: =VLOOKUP(#REF!,#REF!,3,FALSE) -> #REF! | D12: =#REF! -> #REF! | E12: =#REF! -> #REF! | F12: =#REF! -> #REF! | G12: =#REF! -> #REF! | H12: =#REF! -> #REF! | I12: =#REF! -> #REF! | J12: =#REF! -> #REF! | K12: =#REF! -> #REF! | L12: =#REF! -> #REF!
A13: =#REF! -> #REF! | B13: =#REF! -> #REF! | C13: =VLOOKUP(#REF!,#REF!,3,FALSE) -> #REF! | D13: =#REF! -> #REF! | E13: =#REF! -> #REF! | F13: =#REF! -> #REF! | G13: =#REF! -> #REF! | H13: =#REF! -> #REF! | I13: =#REF! -> #REF! | J13: =#REF! -> #REF! | K13: =#REF! -> #REF! | L13: =#REF! -> #REF!
A15: =VLOOKUP(#REF!,#REF!,3,FALSE) -> #REF! | D15: =SUM(D7:D14) -> #REF! | E15: =SUM(E7:E14) -> #REF! | F15: =SUM(F7:F14) -> #REF! | G15: =SUM(G7:G14) -> #REF! | H15: =SUM(H7:H14) -> #REF! | I15: =SUM(I7:I14) -> #REF! | J15: =SUM(J7:J14) -> #REF! | K15: =SUM(K7:K14) -> #REF! | L15: =SUM(L7:L14) -> #REF!
A16: =VLOOKUP(#REF!,#REF!,3,FALSE) -> #REF! | I16: =I15/I17*100 -> #REF! | J16: =J15/J17*100 -> #REF! | K16: =K15/K17*100 -> #REF! | L16: =L15/L17*100 -> #REF!
A17: ВВП (в долл.США) | I17: =I19/I20 -> 6287.5 | J17: =J19/J20 -> 7086 | K17: =K19/K20 -> 8234.375 | L17: =L19/L20 -> 9633.0798
B19: Примечание: * прогнозный проект | G19: ВВП ( в сомони) - | I19: ='[1]by creditors'!$I$119 -> 30180 | J19: ='[1]by creditors'!$J$119 -> 35430 | K19: ='[1]by creditors'!$K$119 -> 42160 | L19: ='[1]by creditors'!$L$119 -> 50670
C20: **-выделение кредита в равных долях ЕБРР и ЕИБ | G20: Курс( $ к сомони) - | I20: ='[1]by creditors'!$I$120 -> 4.8 | J20: 5 | K20: ='[1]by creditors'!$K$120 -> 5.12 | L20: ='[1]by creditors'!$L$120 -> 5.26
C21: *** - Планируемая к подписанию сумма
B22: Дол. США - Доллар Соединенных Штатов Америки
B23: СПЗ - Специальные Права Заимствования
B24: ИД - Исламский Динар
B25: СР - Саудовский Риал
B26: КД - Кувейтский Динар
B27: ОАЭД-Дирхам ОАЭ
B28: қарз | G28: 1345956 | J28: 151771 | K28: 144242 | L28: 113601

Sheet Грант-Сектор
B2: Барномаи давлатии қарзгирии берунаи Ҷумҳурии Тоҷикистон барои солҳои 2013-2015
A4: № Т/Т | B4: № лоиҳа | C4: Номгўи лоиҳаҳо аз рўи қарздиҳандаҳо | D4: Номгўи қарзди-ҳандаҳо | E4: Маблағи қарз бо асъори баимзорасида | G4: Маблағи қарз бо доллари ШМА тибќи ҳолати то 01.06.с.12. | H4: Пешбинии истифодабарии қарз барои солҳои: | K4: Соҳа | L4: знак для сумма Итого | M4: для количества кредитов
H5: 2013 | I5: 2014 | J5: 2015 | M5: действующие | N5: новые
A6: Соҳаи ҳокимият ва идоракунии давлатӣ
A7: =VLOOKUP(#REF!,#REF!,2,FALSE) -> #REF!
A8: =#REF! -> #REF! | B8: №Н463 TJ | C8: Лоиҳаи мукаммалгардонии идоракунии молияи давлатӣ | D8: Гранти Бонки Умумиҷаҳонӣ | E8: =ГРАНТ!E8 -> 3.4 | F8: =VLOOKUP(#REF!,#REF!,2,FALSE) -> #REF! | G8: =ГРАНТ!G8 -> 5.121 | H8: 1.891 | I8: 0.59 | J8: 0 | K8: Соҳаи ҳокимият ва идоракунии давлатӣ | L8: =IF(B8=$B$19,1,0) -> #REF! | M8: 1 | N8: 0 | P8: =J8+I8+H8 -> 2.481
A9: =#REF! -> #REF! | D9: Гранти PHRD (Хукумати Япония) | E9: 0.972 | F9: Доллари ШМА | G9: 0.972 | H9: 1.2 | I9: 0.25 | J9: 0 | K9: Соҳаи ҳокимият ва идоракунии давлатӣ | L9: =IF(B9=$B$19,1,0) -> #REF! | M9: 1 | N9: 0 | P9: =J9+I9+H9 -> 1.45
A10: =#REF! -> #REF! | D10: Гранти ЕК ва Гранти DFID | E10: 4.698 | F10: Доллари ШМА | G10: 4.698 | H10: 1.649 | I10: 0.99 | J10: 0 | K10: Соҳаи ҳокимият ва идоракунии давлатӣ | L10: =IF(B10=$B$19,1,0) -> #REF! | M10: 1 | N10: 0 | P10: =J10+I10+H10 -> 2.639
A11: 4 | C11: Баланд бардоштани ракобатнокии бахши хусуси | D11: Гранти Бонки Умумиҷаҳонӣ | E11: 6.5 | F11: ҲМҚ | G11: 10 | H11: 3 | I11: 2 | J11: 4 | K11: Соҳаи ҳокимият ва идоракунии давлатӣ | L11: =IF(B11=$B$19,1,0) -> #REF! | M11: 1 | N11: 0 | P11: =J11+I11+H11 -> 9
A13: =VLOOKUP(#REF!,#REF!,2,FALSE) -> #REF! | G13: =SUM(G8:G12) -> 20.791 | H13: =SUM(H8:H12) -> 7.74 | I13: =SUM(I8:I12) -> 3.83 | J13: =SUM(J8:J12) -> 4
A14: =VLOOKUP(#REF!,#REF!,2,FALSE) -> #REF!
A15: =#REF! -> #REF! | C15: Гранти БОР | D15: Гранти Бонки Осиёгии рушд | E15: 3 | F15: Доллари ШМА | G15: 3 | H15: 0 | I15: 1 | J15: 1 | K15: Соҳаи ҳокимият ва идоракунии давлатӣ | L15: =IF(B15=$B$19,1,0) -> #REF! | M15: 0 | N15: 1 | P15: =J15+I15+H15 -> 2
A16: =#REF! -> #REF! | C16: Маъмуркунонии андоз | D16: Гранти Бонки Умумиҷаҳонӣ | E16: =#REF! -> #REF! | F16: - | G16: 15 | H16: 0 | I16: 3 | J16: 3 | K16: Соҳаи ҳокимият ва идоракунии давлатӣ | L16: =IF(B16=$B$19,1,0) -> #REF! | M16: 0 | N16: 1 | P16: =J16+I16+H16 -> 6
A18: =VLOOKUP(#REF!,#REF!,2,FALSE) -> #REF! | G18: =SUM(G15:G17) -> 18 | H18: =SUM(H15:H17) -> 0 | I18: =SUM(I15:I17) -> 4 | J18: =SUM(J15:J17) -> 4
B19: =VLOOKUP(#REF!,#REF!,2,FALSE) -> #REF! | C19: =A6 -> Соҳаи ҳокимият ва идоракунии давлатӣ | G19: =G18+G13 -> 38.791 | H19: =H18+H13 -> 7.74 | I19: =I18+I13 -> 7.83 | J19: =J18+J13 -> 8
A21: Соҳаи маориф
A22: =VLOOKUP(#REF!,#REF!,2,FALSE) -> #REF!
A23: =#REF! -> #REF! | B23: №H037-TJ | C23: Лоиҳаи модернизатсияи соҳаи маориф | D23: Гранти Бонки Умумиҷаҳонӣ | E23: 5.2 | F23: ҲМҚ | G23: 7.888 | H23: 0 | I23: 0 | J23: 0 | K23: Соҳаи маориф | L23: =IF(B23=$B$19,1,0) -> #REF! | M23: 1 | N23: 0 | P23: =J23+I23+H23 -> 0
A24: =#REF! -> #REF! | C24: Лоиҳаи модернизатсияи соҳаи маориф (маблағгузории иловагӣ) | D24: Гранти Бонки Умумиҷаҳонӣ | E24: 1.4 | F24: ҲМҚ | G24: 2 | H24: 1.074 | I24: 0 | J24: 0 | K24: Соҳаи маориф | L24: =IF(B24=$B$19,1,0) -> #REF! | M24: 1 | N24: 0 | P24: =J24+I24+H24 -> 1.074
A25: =#REF! -> #REF! | C25: Лоиҳаи маркази миллии тести (маблағгузории иловагӣ) | D25: Гранти Бонки Умумиҷаҳонӣ | E25: 3.4 | F25: Доллари ШМА | G25: 3.4 | H25: 1.3 | I25: 1.024 | J25: 0 | K25: Соҳаи маориф | L25: =IF(B25=$B$19,1,0) -> #REF! | M25: 1 | N25: 0 | P25: =J25+I25+H25 -> 2.324
C26: Ташаббуси рушди босуръат марҳилаи 3 | D26: Гранти Фонди Котоликии муттаҳида | E26: 13.5 | F26: Доллари ШМА | G26: 13.5 | H26: 3.5 | I26: 0 | J26: 0 | K26: Соҳаи маориф | L26: 0 | M26: 1 | N26: 0 | P26: =J26+I26+H26 -> 3.5
C27: Барномаи мусоидати рушди таҳсилоти ибтидоӣ ва инфраструктураи ҷамоавӣ - марҳилаи 2 (БМИМТ) | D27: Гранти бонки KfW (Олмон) | E27: 11 | F27: Евро | G27: 15.4 | H27: 2.587 | I27: 0 | J27: 0 | K27: Соҳаи маориф | L27: 0 | M27: 1 | N27: 0 | P27: =J27+I27+H27 -> 2.587
A29: =VLOOKUP(#REF!,#REF!,2,FALSE) -> #REF! | G29: =SUM(G23:G28) -> 42.188 | H29: =SUM(H23:H28) -> 8.461 | I29: =SUM(I23:I28) -> 1.024 | J29: =SUM(J23:J28) -> 0
B30: =VLOOKUP(#REF!,#REF!,2,FALSE) -> #REF! | C30: =A21 -> Соҳаи маориф | G30: =G29 -> 42.188 | H30: =H29 -> 8.461 | I30: =I29 -> 1.024 | J30: =J29 -> 0
A32: Соҳаи тандурустӣ
A33: =VLOOKUP(#REF!,#REF!,2,FALSE) -> #REF!
A34: =#REF! -> #REF! | B34: №H195-TJ | C34: Лоиҳаи тандурустии асосӣ ва ҷамоавӣ | D34: Гранти Бонки Умумиҷаҳонӣ | E34: 6.9 | F34: =VLOOKUP(#REF!,#REF!,2,FALSE) -> #REF! | G34: 10.615 | H34: 0 | I34: 0 | J34: 0 | K34: Соҳаи тандурустӣ | L34: =IF(B34=$B$19,1,0) -> #REF! | M34: 1 | N34: 0 | P34: =J34+I34+H34 -> 0
A35: =#REF! -> #REF! | B35: TF#056448 | D35: Гранти SIDA | E35: 47.04 | F35: КШ | G35: 6.682 | H35: 0 | I35: 0 | J35: 0 | L35: =IF(B35=$B$19,1,0) -> #REF! | M35: 1 | N35: 0 | P35: =J35+I35+H35 -> 0
A36: 3 | B36: №Н460 | D36: Гранти Бонки Умумиҷаҳонӣ | E36: - | F36: - | G36: 9.195 | H36: 0 | I36: 0 | J36: 0 | L36: 0 | M36: 1 | N36: 0 | P36: =J36+I36+H36 -> 0
A37: 4 | B37: №90142 | C37: Лоиҳаи тандурустии асосӣ ва ҷамоавӣ | D37: Гранти SDC (Намояндагии Рушд ва ҳамкории Швейтсария)№90142 | E37: - | F37: - | G37: 1.176 | H37: 0 | I37: 0 | J37: 0 | K37: Соҳаи тандурустӣ | L37: 0 | M37: 1 | N37: 0 | P37: =J37+I37+H37 -> 0
A38: 5 | C38: Лоиҳаи тандурустии асосӣ ва ҷамоавӣ | D38: Гранти Фонди ҶопонииРушди Иҷтимоӣ | E38: - | F38: - | G38: 2.8 | H38: 0.531 | I38: 0 | J38: 0 | K38: Соҳаи тандурустӣ | L38: 0 | M38: 1 | N38: 0 | P38: =J38+I38+H38 -> 0.531
A39: 6 | D39: Гранти БУ (маб.иловаги | E39: - | F39: - | G39: 3 | H39: 0.058 | I39: 0 | J39: 0 | L39: =IF(B39=$B$19,1,0) -> #REF! | M39: 1 | N39: 0 | P39: =J39+I39+H39 -> 0.058
A41: =VLOOKUP(#REF!,#REF!,2,FALSE) -> #REF! | G41: =SUM(G34:G40) -> 33.468 | H41: =SUM(H34:H40) -> 0.589 | I41: =SUM(I34:I40) -> 0 | J41: =SUM(J34:J40) -> 0
A42: =VLOOKUP(#REF!,#REF!,2,FALSE) -> #REF!
C43: Маблаггузории тандурусти дар асоси натичахо | D43: Гранти Бонки Умумиҷаҳонӣ | E43: 15 | F43: Доллари ШМА | G43: 15 | H43: 1.5 | I43: 1.5 | J43: 2.693 | K43: Соҳаи тандурустӣ | L43: 0 | M43: 0 | N43: 1 | P43: =J43+I43+H43 -> 5.693
A44: =VLOOKUP(#REF!,#REF!,2,FALSE) -> #REF! | G44: =G43 -> 15 | H44: =H43 -> 1.5 | I44: =I43 -> 1.5 | J44: =J43 -> 2.693
B45: =VLOOKUP(#REF!,#REF!,2,FALSE) -> #REF! | C45: =A32 -> Соҳаи тандурустӣ | G45: =G44+G41 -> 48.468 | H45: =H44+H41 -> 2.089 | I45: =I44+I41 -> 1.5 | J45: =J44+J41 -> 2.693
A47: Соҳаи ҳифзи иҷтимоӣ
A48: =VLOOKUP(#REF!,#REF!,2,FALSE) -> #REF!
A49: =#REF! -> #REF! | C49: Лоиҳа оиди мустаҳкам намудани системаи ҳифзи иҷтимоӣ | D49: Гранти Бонки Умумиҷаҳонӣ | E49: 210 | F49: ҲМҚ | G49: 3.2 | H49: 1.166 | I49: 1.284 | J49: 0.66 | K49: Соҳаи ҳифзи иҷтимоӣ | L49: =IF(B49=$B$19,1,0) -> #REF! | M49: 1 | N49: 0 | P49: =J49+I49+H49 -> 3.11
A50: =VLOOKUP(#REF!,#REF!,2,FALSE) -> #REF! | G50: =SUM(G49:G49) -> 3.2 | H50: =SUM(H49:H49) -> 1.166 | I50: =SUM(I49:I49) -> 1.284 | J50: =SUM(J49:J49) -> 0.66
A51: =VLOOKUP(#REF!,#REF!,2,FALSE) -> #REF!
A52: =#REF! -> #REF! | C52: Кӯмаки техникӣ барои чораҳои ҳифзи иҷтимоӣ | D52: Гранти Бонки Умумиҷаҳонӣ | E52: 2 | F52: Доллари ШМА | G52: 2 | H52: 0 | I52: 0.5 | J52: 0.5 | K52: Соҳаи ҳифзи иҷтимоӣ | L52: =IF(B52=$B$19,1,0) -> #REF! | M52: 0 | N52: 1 | P52: =J52+I52+H52 -> 1
A53: =#REF! -> #REF! | D53: Гранти Фонди таассур ба мушкилотҳои иҷтимоӣ | E53: 2.5 | F53: Доллари ШМА | G53: 2.5 | H53: 0 | I53: 0.5 | J53: 1 | K53: Соҳаи ҳифзи иҷтимоӣ | L53: =IF(B53=$B$19,1,0) -> #REF! | M53: 0 | N53: 1 | P53: =J53+I53+H53 -> 1.5
A54: =#REF! -> #REF! | C54: Рушди маҳоратҳои ҳаётан муҳим барои муҳоҷирон | D54: Гранти Бонки Умумиҷаҳонӣ | E54: 10 | F54: Доллари ШМА | G54: 10 | H54: 0 | I54: 2 | J54: 5 | K54: Соҳаи ҳифзи иҷтимоӣ | L54: =IF(B54=$B$19,1,0) -> #REF! | M54: 0 | N54: 1 | P54: =J54+I54+H54 -> 7
A55: =VLOOKUP(#REF!,#REF!,2,FALSE) -> #REF! | G55: =SUM(G52:G54) -> 14.5 | H55: =SUM(H52:H54) -> 0 | I55: =SUM(I52:I54) -> 3 | J55: =SUM(J52:J54) -> 6.5
B56: =VLOOKUP(#REF!,#REF!,2,FALSE) -> #REF! | C56: =A47 -> Соҳаи ҳифзи иҷтимоӣ | G56: =G55+G50 -> 17.7 | H56: =H55+H50 -> 1.166 | I56: =I55+I50 -> 4.284 | J56: =J55+J50 -> 7.16
A58: Соҳаи комуналӣ ва обтаъминкунӣ
A59: =VLOOKUP(#REF!,#REF!,2,FALSE) -> #REF!
A60: =#REF! -> #REF! | C60: Лоиҳаи беҳсозии системаи обтаъминкунии ш. Хуҷанд(Мархилаи 2) | D60: Гранти БАТР | E60: 0.765 | F60: Евро | G60: 1.071 | H60: 0.251 | I60: 0 | J60: 0 | K60: Соҳаи комуналӣ ва обтаъминкунӣ | L60: =IF(B60=$B$19,1,0) -> #REF! | M60: 1 | N60: 0 | P60: =J60+I60+H60 -> 0.251
A61: =#REF! -> #REF! | D61: Гранти Швейтсария(SECO) | E61: 3.5 | F61: Евро | G61: 5.712 | H61: 1.652 | I61: 0 | J61: 0 | L61: =IF(B61=$B$19,1,0) -> #REF! | M61: 1 | N61: 0 | P61: =J61+I61+H61 -> 1.652
A62: 3 | C62: Лоихаи бо оби нушокӣ таъмин намудани ноҳияи Мир Сайид Алии Ҳамадонӣ | D62: Гранти ҳукумати Япония JICA | E62: - | F62: Йенаи Ҷ | G62: 4.481 | H62: 0 | I62: 0 | J62: 0 | K62: Соҳаи комуналӣ ва обтаъминкунӣ | L62: =IF(B62=$B$19,1,0) -> #REF! | M62: 1 | N62: 0 | P62: =J62+I62+H62 -> 0
A63: 4 | D63: Гранти ҳукумати Япония JICA(мабл. иловагӣ) | E63: 779 | F63: Йенаи Ҷ | G63: 9.7 | H63: 1.498 | I63: 0 | J63: 0 | L63: =IF(B63=$B$19,1,0) -> #REF! | M63: 1 | N63: 0 | P63: =J63+I63+H63 -> 1.498
A64: 5 | C64: Беҳсозии системахои обтаъминкунии шаҳру нохияҳои шимоли ҷумҳурӣ ва ш. Хоруг | D64: Гранти БАТР (Швейтсария SECO) | E64: 10 | F64: Доллари ШМА | G64: 10 | H64: 5.2 | I64: 0.9 | J64: 0 | K64: Соҳаи комуналӣ ва обтаъминкунӣ | L64: =IF(B64=$B$19,1,0) -> #REF! | M64: 1 | N64: 0 | P64: =J64+I64+H64 -> 6.1
A65: 6 | D65: Гранти Фонди Глобалии Экологи | E65: 2.727 | F65: Доллари ШМА | G65: 2.727 | H65: 0.8 | I65: 1.127 | J65: 0 | L65: =IF(B65=$B$19,1,0) -> #REF! | M65: 1 | N65: 0 | P65: =J65+I65+H65 -> 1.927
A66: 7 | C66: Барқарорсозии системаи обтаъминкунии ш. Душанбе (мархилаи 2) | D66: Гранти Бонки Умумиҷаҳонӣ | E66: 10.1 | F66: ҲМҚ | G66: 16 | H66: 5.043 | I66: 7.18 | J66: 3.319 | K66: Соҳаи комуналӣ ва обтаъминкунӣ | L66: =IF(B66=$B$19,1,0) -> #REF! | M66: 1 | N66: 0 | P66: =J66+I66+H66 -> 15.542
A67: 8 | C67: Таҷдиди хидматрасонии гидрометеорологӣ дар Осиёи Марказӣ | D67: Гранти Бонки Умумиҷаҳонӣ | E67: 3.9 | F67: ҲМҚ | G67: 13 | H67: 3.661 | I67: 2.992 | J67: 0.898 | K67: Соҳаи комуналӣ ва обтаъминкунӣ | L67: =IF(B67=$B$19,1,0) -> #REF! | M67: 1 | N67: 0 | P67: =J67+I67+H67 -> 7.551
A68: 9 | C68: Лоиҳаи идоракунии партовҳои сахти маишии ш. Хуҷанд | D68: Гранти БАТР | E68: 2.5 | F68: Доллари ШМА | G68: 2.5 | H68: 0.75 | I68: 1 | J68: 0.5 | K68: Соҳаи комуналӣ ва обтаъминкунӣ | L68: =IF(B68=$B$19,1,0) -> #REF! | M68: 1 | N68: 0 | P68: =J68+I68+H68 -> 2.25
A69: 10 | D69: Кумаки техникии БАТР | E69: 0.94 | F69: Доллари ШМА | G69: 0.94 | H69: 0.24 | I69: 0 | J69: 0 | P69: =J69+I69+H69 -> 0.24
A70: 11 | C70: Лоиҳаи обтаъминкунии шаҳрҳои марказииТоҷикистон (Турсунзода, Ҳисор, Сомониён) | D70: Гранти БАТР (SECO) | E70: 6 | F70: Евро | G70: 7.5 | H70: 2 | I70: 1 | J70: 1.5 | K70: Соҳаи комуналӣ ва обтаъминкунӣ | L70: =IF(B70=$B$19,1,0) -> #REF! | M70: 1 | N70: 0 | P70: =J70+I70+H70 -> 4.5
A71: 12 | C71: Лоиҳаи обтаъминкунии шаҳрҳои марказииТоҷикистон (Турсунзода, Ҳисор, Сомониён) | D71: Гранти БАТР | E71: 2.6 | F71: Доллари ШМА | G71: 2.6 | H71: 1 | I71: 1 | J71: 0 | K71: Соҳаи комуналӣ ва обтаъминкунӣ | L71: =IF(B71=$B$19,1,0) -> #REF! | M71: 1 | N71: 0 | P71: =J71+I71+H71 -> 2
A72: 13 | D72: Кумаки техникии БАТР | E72: 2.6 | F72: Доллари ШМА | G72: 2.6 | H72: 1 | I72: 0 | J72: 0 | L72: 0 | M72: 1 | N72: 0 | P72: =J72+I72+H72 -> 1
A73: 14 | C73: Лоиҳаи рушди инфрасохтори маҳаллӣ (комуналӣ) | D73: Гранти БУ (маблағгузории иловагӣ) | E73: 11.85 | F73: Доллари ШМА | G73: 11.85 | H73: 5.98 | I73: 4.09 | J73: 1.78 | K73: Соҳаи комуналӣ ва обтаъминкунӣ | L73: =IF(B73=$B$19,1,0) -> #REF! | M73: 1 | N73: 0 | P73: =J73+I73+H73 -> 11.85
A75: =VLOOKUP(#REF!,#REF!,2,FALSE) -> #REF! | G75: =SUM(G60:G74) -> 90.681 | H75: =SUM(H60:H74) -> 29.075 | I75: =SUM(I60:I74) -> 19.289 | J75: =SUM(J60:J74) -> 7.997
A76: =VLOOKUP(#REF!,#REF!,2,FALSE) -> #REF!
A77: =#REF! -> #REF! | C77: Лоиҳаи идоракунии партовҳои доимии органикӣ | D77: Гранти ФГЭ (бо воситаи БҶ) | E77: 4 | F77: Доллари ШМА | G77: 4 | H77: 0 | I77: 1 | J77: 1 | K77: Соҳаи комуналӣ ва обтаъминкунӣ | L77: =IF(B77=$B$19,1,0) -> #REF! | M77: 0 | N77: 1 | P77: =J77+I77+H77 -> 2
A78: =#REF! -> #REF! | C78: Лоиҳаи идоракунии партовҳои сахти маишии шаҳрҳои ҷануби Тоҷикистон (Данғара, Кулоб, Қурғонтеппа) | D78: Гранти БАТР | F78: - | G78: 3 | H78: 0 | I78: 0.75 | J78: 0.75 | K78: Соҳаи комуналӣ ва обтаъминкунӣ | L78: =IF(B78=$B$19,1,0) -> #REF! | M78: 0 | N78: 1 | P78: =J78+I78+H78 -> 1.5
A79: =#REF! -> #REF! | C79: Лоиҳаи обтаъминкунии ш. Душанбе | D79: Гранти Иттиходи Аврупо (ба вос.БАТР) | F79: - | G79: 7.8 | H79: 0 | I79: 1 | J79: 2 | K79: Соҳаи комуналӣ ва обтаъминкунӣ | L79: =IF(B79=$B$19,1,0) -> #REF! | M79: 0 | N79: 1 | P79: =J79+I79+H79 -> 3
A80: =#REF! -> #REF! | C80: Лоихаи бехсозии обтаъминкунии шахрхои шимоли Точикистон (мархилаи 2) | D80: Гранти БАТР | E80: 8 | F80: Доллари ШМА | G80: 8 | H80: 0 | I80: 2 | J80: 3 | K80: Соҳаи комуналӣ ва обтаъминкунӣ | L80: =IF(B80=$B$19,1,0) -> #REF! | M80: 0 | N80: 1 | P80: =J80+I80+H80 -> 5
A81: =#REF! -> #REF! | C81: Лоихаи идоракунии партовхои сахти маишии шахри Кургонтеппа | D81: Гранти БАТР | F81: - | G81: 2 | H81: 0 | I81: 1 | J81: 1 | K81: Соҳаи комуналӣ ва обтаъминкунӣ | L81: =IF(B81=$B$19,1,0) -> #REF! | M81: 0 | N81: 1 | P81: =J81+I81+H81 -> 2
A82: 6 | D82: Кумаки техникии БАТР | F82: - | G82: 1.4 | H82: 0 | I82: 1 | J82: 0.4 | L82: 0 | M82: 0 | N82: 1 | P82: =J82+I82+H82 -> 1.4
A83: 7 | C83: Лоихаи идоракунии партовхои сахти маишии шахри Турсунзода | D83: Гранти БАТР | F83: - | G83: 2 | H83: 0 | I83: 1 | J83: 1 | K83: Соҳаи комуналӣ ва обтаъминкунӣ | L83: 0 | M83: 0 | N83: 1 | P83: =J83+I83+H83 -> 2
A84: 8 | D84: Кумаки техникии БАТР | F84: - | G84: 1.4 | H84: 0 | I84: 1 | J84: 0.4 | L84: 0 | M84: 0 | N84: 1 | P84: =J84+I84+H84 -> 1.4
A85: 9 | C85: Лоихаи бехсозии обтаъминкуни шахрхои вилояти Хатлон(Норак,Ёвон,Ховалинг,Руми) | D85: Гранти БАТР | F85: - | G85: 2.7 | H85: 0 | I85: 1.35 | J85: 1.35 | K85: Соҳаи комуналӣ ва обтаъминкунӣ | L85: 0 | M85: 0 | N85: 1 | P85: =J85+I85+H85 -> 2.7
A86: 10 | D86: Фонди БАТР | F86: - | G86: 8 | H86: 0 | I86: 2 | J86: 4 | L86: 0 | M86: 0 | N86: 1 | P86: =J86+I86+H86 -> 6
A87: 11 | C87: Фонди рушди хизматрасони комунали | D87: Гранти Бонки Умумиҷаҳонӣ | F87: - | G87: 20 | H87: 0 | I87: 5 | J87: 8 | K87: Соҳаи комуналӣ ва обтаъминкунӣ | L87: 0 | M87: 0 | N87: 1 | P87: =J87+I87+H87 -> 13
A88: 12 | C88: Мутобиксози ба тагйирёбии иклим дар дарёи Панч | D88: Гранти Бонки Осиёгии рушд | E88: 15.3 | F88: Доллари ШМА | G88: 15.3 | H88: 0 | I88: 2 | J88: 5 | K88: Соҳаи комуналӣ ва обтаъминкунӣ | L88: 0 | M88: 0 | N88: 1 | P88: =J88+I88+H88 -> 7
A89: 13 | C89: Идоракуни экологии захирахои замини ва пешбурди хочагии кишлок дар Точикистон | D89: Гранти ГЭФ | F89: - | G89: 5.4 | H89: 0 | I89: 1 | J89: 2 | K89: Соҳаи комуналӣ ва обтаъминкунӣ | L89: 0 | M89: 0 | N89: 1 | P89: =J89+I89+H89 -> 3
A90: 14 | D90: Гранти ППАИК | F90: - | G90: 9.45 | H90: 0 | I90: 1 | J90: 2 | L90: 0 | M90: 0 | N90: 1 | P90: =J90+I90+H90 -> 3
A92: =VLOOKUP(#REF!,#REF!,2,FALSE) -> #REF! | G92: =SUM(G77:G91) -> 90.45 | H92: =SUM(H77:H91) -> 0 | I92: =SUM(I77:I91) -> 21.1 | J92: =SUM(J77:J91) -> 31.9
B93: =VLOOKUP(#REF!,#REF!,2,FALSE) -> #REF! | C93: =A58 -> Соҳаи комуналӣ ва обтаъминкунӣ | G93: =G92+G75 -> 181.131 | H93: =H92+H75 -> 29.075 | I93: =I92+I75 -> 40.389 | J93: =J92+J75 -> 39.897
A95: Соҳааи энергетика
A96: =VLOOKUP(#REF!,#REF!,2,FALSE) -> #REF!
A97: =#REF! -> #REF! | C97: Лоихаи иваз намудани дастгоҳи тақсимотии 220кВт дар НБО-и Норак | D97: Гранти KfW (Бонки Олмон) | E97: 7 | F97: Евро | G97: 9.779 | H97: 1.38 | I97: 0 | J97: 0 | K97: Соҳаи энергетика | L97: =IF(B97=$B$19,1,0) -> #REF! | M97: 1 | N97: 0 | P97: =J97+I97+H97 -> 1.38
A98: =#REF! -> #REF! | C98: Лихаи иваз намудани таҷҳизоти тақсимкунандаи умумии 500кВ(ОРУ)дар НБО-и Норак | D98: Гранти Бонки Осиёгии рушд | E98: 54.77 | F98: Доллари ШМА | G98: 54.77 | H98: 12 | I98: 28.731 | J98: 0 | K98: Соҳаи энергетика | L98: =IF(B98=$B$19,1,0) -> #REF! | M98: 1 | N98: 0 | P98: =J98+I98+H98 -> 40.731
A99: =#REF! -> #REF! | B99: №0213-TAJ(SF) | C99: Лоиҳаи минтақавии энергетикӣ | D99: Гранти Бонки Осиёгии рушд | E99: 122 | F99: Доллари ШМА | G99: 122 | H99: 35 | I99: 64.752 | J99: 0 | K99: Соҳаи энергетика | L99: =IF(B99=$B$19,1,0) -> #REF! | M99: 1 | N99: 0 | P99: =J99+I99+H99 -> 99.752
A100: =#REF! -> #REF! | C100: Паст кардани талафоти қувваи барқ дар в. Суғд | D100: Гранти Иттиҳоди Аврупо | E100: 7 | F100: Евро | G100: 10 | H100: 3 | I100: 6 | J100: 1 | K100: Соҳаи энергетика | L100: =IF(B100=$B$19,1,0) -> #REF! | M100: 1 | N100: 0 | P100: =J100+I100+H100 -> 10
A101: 5 | C101: Паст намудани талафоти қувваи барқ | D101: Гранти БЧ (маблаггузории иловаги) | E101: 11.7 | F101: ҲМҚ | G101: 18 | H101: 5.312 | I101: 5 | J101: 5 | K101: Соҳаи энергетика | L101: 0 | M101: 1 | N101: 0 | P101: =J101+I101+H101 -> 15.312
A102: 6 | C102: Лоихаи дастраси ба маблаггузории сабз | D102: Гранти Бонки Осиёгии рушд | E102: 6 | F102: Доллари ШМА | G102: 6 | H102: 1 | I102: 1 | J102: 3 | K102: Соҳаи энергетика | L102: 0 | M102: 1 | N102: 0 | P102: =J102+I102+H102 -> 5
A104: =VLOOKUP(#REF!,#REF!,2,FALSE) -> #REF! | G104: =SUM(G97:G103) -> 220.549 | H104: =SUM(H97:H103) -> 57.692 | I104: =SUM(I97:I103) -> 105.483 | J104: =SUM(J97:J103) -> 9
A105: =VLOOKUP(#REF!,#REF!,2,FALSE) -> #REF!
A106: 1 | C106: Лоихаи энергияи баркароршаванда | D106: Гранти Бонки Осиёгии рушд | E106: 69 | F106: Доллари ШМА | G106: 69 | H106: 0 | I106: 3.9 | J106: 5 | K106: Соҳаи энергетика | L106: =IF(B106=$B$19,1,0) -> #REF! | M106: 0 | N106: 1 | P106: =J106+I106+H106 -> 8.9
A107: 2 | C107: Азнавсозиии НБО Қайроққум (марҳилаи 1) | D107: Гранти Иттиҳоди Аврупо (ба вос.БАТР) | E107: 20 | F107: =VLOOKUP(#REF!,#REF!,2,FALSE) -> #REF! | G107: 20 | H107: 0 | I107: 5 | J107: 5 | K107: Соҳаи энергетика | L107: =IF(B107=$B$19,1,0) -> #REF! | M107: 0 | N107: 1 | P107: =J107+I107+H107 -> 10
A108: =#REF! -> #REF! | C108: Лоиҳаи алоқахои тиҷоратии минтақави дар соҳаи энергетика (CASA - 1000) | D108: Гранти Бонки Умумиҷаҳонӣ | F108: - | G108: 15 | H108: 0 | I108: 2 | J108: 0.8 | K108: Соҳаи энергетика | L108: =IF(B108=$B$19,1,0) -> #REF! | M108: 0 | N108: 1 | P108: =J108+I108+H108 -> 2.8
A109: =#REF! -> #REF! | C109: Лоихаи сохтмони хатти интиколи барки 500кВ (Хучанд-Датка) | D109: Кумаки техникии БИР (АТИ) | F109: - | G109: 0.25 | H109: 0 | I109: 0.1 | J109: 0.05 | K109: Соҳаи энергетика | L109: =IF(B109=$B$19,1,0) -> #REF! | M109: 0 | N109: 1 | P109: =J109+I109+H109 -> 0.15
A110: =#REF! -> #REF! | C110: Бехсозии барктаъминкуни дар чамоатхо | D110: Гранти БОР (ЯФСБ) | E110: 2.5 | F110: Доллари ШМА | G110: 2.5 | H110: 0 | I110: 1 | J110: 1.1 | K110: Соҳаи энергетика | L110: =IF(B110=$B$19,1,0) -> #REF! | M110: 0 | N110: 1 | P110: =J110+I110+H110 -> 2.1
A111: =VLOOKUP(#REF!,#REF!,2,FALSE) -> #REF! | G111: =SUM(G106:G110) -> 106.75 | H111: =SUM(H106:H110) -> 0 | I111: =SUM(I106:I110) -> 12 | J111: =SUM(J106:J110) -> 11.95
B112: =VLOOKUP(#REF!,#REF!,2,FALSE) -> #REF! | C112: =A95 -> Соҳааи энергетика | G112: =G111+G104 -> 327.299 | H112: =H111+H104 -> 57.692 | I112: =I111+I104 -> 117.483 | J112: =J111+J104 -> 20.95
L113: =IF(B113=$B$19,1,0) -> #REF!
A114: Соҳаи кишоварзӣ | L114: =IF(B114=$B$19,1,0) -> #REF!
...

Sheet ГРАНТ
A1: Барномаи давлатии қарзгирии берунаи Ҷумҳурии Тоҷикистон барои солҳои 2013-2015
K3: (млн.долл.ШМА)
A4: № Т/Т | B4: № лоиҳа | C4: Номгўи лоиҳаҳо аз рўи қарздиҳандаҳо | D4: Номгўи қарзди-ҳандаҳо | E4: Маблағи қарз бо асъори баимзорасида | G4: Маблағи қарз бо доллари ШМА тибќи ҳолати то 01.06.с.12. | H4: Пешбинии истифодабарии қарз барои солҳои: | K4: Сектор | L4: знак для сумма Итого | M4: для количества кредитов | O4: Ожидаемое использо-вание в 2013 году
H5: 2013 | I5: 2014 | J5: 2015 | M5: действующие | N5: новые
A6: =VLOOKUP(#REF!,#REF!,2,FALSE) -> #REF! | G6: =G39 -> 272.419 | H6: =H39 -> 43.816 | I6: =I39 -> 49.239 | J6: =J39 -> 45.081
A7: =VLOOKUP(#REF!,#REF!,2,FALSE) -> #REF!
A8: =#REF! -> #REF! | B8: №Н463 TJ | C8: Лоиҳаи мукамалгардонии идоракунии молияи давлатӣ | D8: =VLOOKUP(#REF!,#REF!,2,FALSE) -> #REF! | E8: 3.4 | F8: =VLOOKUP(#REF!,#REF!,2,FALSE) -> #REF! | G8: 5.121 | H8: 1.891 | I8: 0.59 | J8: 0 | K8: Соҳаи ҳокимият ва идоракунии давлатӣ | L8: =IF(B8=$B$39,1,0) -> #REF! | M8: 1 | N8: 0 | P8: =I8+H8 -> 2.481
A9: =#REF! -> #REF! | C9: Баланд бардоштани рақобатнокии бахши хусуси | D9: =VLOOKUP(#REF!,#REF!,2,FALSE) -> #REF! | E9: 6.5 | F9: =VLOOKUP(#REF!,#REF!,2,FALSE) -> #REF! | G9: 10 | H9: 3 | I9: 2 | J9: 4 | K9: Соҳаи ҳокимият ва идоракунии давлатӣ | L9: =IF(B9=$B$39,1,0) -> #REF! | M9: 1 | N9: 0 | P9: =I9+H9+J9 -> 9
A10: =#REF! -> #REF! | B10: №Н037-ТJ | C10: Лоиҳаи модернизатсияи соҳаи маориф | D10: =VLOOKUP(#REF!,#REF!,2,FALSE) -> #REF! | E10: 5.2 | F10: =VLOOKUP(#REF!,#REF!,2,FALSE) -> #REF! | G10: 7.888 | H10: 0 | I10: 0 | J10: 0 | K10: Соҳаи маориф | L10: =IF(B10=$B$39,1,0) -> #REF! | M10: 1 | N10: 0 | P10: =I10+H10+J10 -> 0
A11: 4 | C11: Лоиҳаи модернизатсияи соҳаи маориф (маблағгузории иловагӣ) | D11: Бонки Умумиҷаҳонӣ | E11: 1.4 | F11: ҲМҚ | G11: 2 | H11: 1.074 | I11: 0 | J11: 0 | K11: Соҳаи маориф | L11: 0 | M11: 1 | N11: 0 | P11: =I11+H11+J11 -> 1.074
A12: 5 | C12: Лоиҳаи Маркази миллии тести (маблағгузории иловагӣ Институти Россия оид ба баҳодиҳии маориф) | D12: Бонки Умумиҷаҳонӣ | E12: 3.4 | F12: Доллари ШМА | G12: 3.4 | H12: 1.3 | I12: 1.024 | J12: 0 | K12: Соҳаи маориф | L12: 0 | M12: 1 | N12: 0 | P12: =I12+H12+J12 -> 2.324
A13: 6 | B13: №Н195-ТJ | C13: Лоиҳаи тандурустии асосӣ ва ҷамоавӣ | D13: Бонки Умумиҷаҳонӣ | E13: 6.9 | F13: ҲМҚ | G13: 10.615 | H13: 0 | I13: 0 | J13: 0 | K13: Соҳаи тандурустӣ | L13: 0 | M13: 1 | N13: 0 | P13: =I13+H13+J13 -> 0
A14: 7 | B14: #Н461 | D14: Бонки Умумиҷаҳонӣ | E14: 0 | F14: - | G14: 9.195 | H14: 0 | I14: 0 | J14: 0 | L14: 0 | M14: 1 | N14: 0 | P14: =I14+H14+J14 -> 0
A15: 8 | C15: Лоиҳаи тандурустии асосӣ ва ҷамоавӣ (маблағгузории иловагӣ) | D15: Бонки Умумиҷаҳонӣ | E15: 0 | F15: - | G15: 3 | H15: 0.058 | I15: 0 | J15: 0 | K15: Соҳаи тандурустӣ | L15: 0 | M15: 1 | N15: 0 | P15: =I15+H15+J15 -> 0.058
A16: 9 | C16: Лоиҳа оиди мустаҳкамк намудани системаи ҳифҳи иҷтимоӣ | D16: Бонки Умумиҷаҳонӣ | E16: 2.1 | F16: ҲМҚ | G16: 3.2 | H16: 1.166 | I16: 1.284 | J16: 0.66 | K16: Соҳаи ҳифзи иҷтимоӣ | L16: 0 | M16: 1 | N16: 0 | P16: =I16+H16+J16 -> 3.11
A17: 10 | C17: Барқарорсозии системаи обтаъминкунии ш. Душанбе (марҳилаи 2) | D17: Бонки Умумиҷаҳонӣ | E17: 10.1 | F17: ҲМҚ | G17: 16 | H17: 5.043 | I17: 7.18 | J17: 3.319 | K17: Соҳаи комуналӣ ва обтаъминкунӣ | L17: 0 | M17: 1 | N17: 0 | P17: =I17+H17+J17 -> 15.542
A18: 11 | C18: Таҷдиди хидматрасонии гидрометеорологӣ дар Осиёи Марказӣ | D18: Бонки Умумиҷаҳонӣ | E18: 3.9 | F18: ҲМҚ | G18: 13 | H18: 3.661 | I18: 2.992 | J18: 0.898 | K18: Соҳаи комуналӣ ва обтаъминкунӣ | L18: 0 | M18: 1 | N18: 0 | P18: =I18+H18+J18 -> 7.551
A19: 12 | C19: Лоиҳаи рушди инфрасохтори маҳаллӣ (комуналӣ) (маблағгузории иловагӣ) | D19: Бонки Умумиҷаҳонӣ | E19: 11.85 | F19: Доллари ШМА | G19: 11.85 | H19: 5.98 | I19: 4.09 | J19: 1.78 | K19: Соҳаи комуналӣ ва обтаъминкунӣ | L19: 0 | M19: 1 | N19: 0 | P19: =I19+H19+J19 -> 11.85
A20: 13 | C20: Паст намудани талафоти қуввваи барқ (маблағгузории иловагӣ) | D20: Бонки Умумиҷаҳонӣ | E20: 11.7 | F20: ҲМҚ | G20: 18 | H20: 5.312 | I20: 5 | J20: 5 | K20: Соҳаи энергетика ва саноат | L20: 0 | M20: 1 | N20: 0 | P20: =I20+H20+J20 -> 15.312
A21: 14 | B21: №Н179 ТJ | C21: Лоиҳаи идоракунии захираҳои оби водии Фарғона | D21: Бонки Умумиҷаҳонӣ | E21: 6.7 | F21: ҲМҚ | G21: 13 | H21: 0.43 | I21: 0 | J21: 0 | K21: Соҳаи кишоварзӣ ва обёрӣ | L21: 0 | M21: 1 | N21: 0 | P21: =I21+H21+J21 -> 0.43
A22: 15 | B22: №Н576-ТJ | C22: Лоиҳаи идоракунии захираҳои оби водии Фарғона (маблағгузории иловагӣ) | D22: Бонки Умумиҷаҳонӣ | E22: 6.6 | F22: ҲМҚ | G22: 10 | H22: 4.119 | I22: 0.461 | J22: 0 | K22: Соҳаи кишоварзӣ ва обёрӣ | L22: 0 | M22: 1 | N22: 0 | P22: =I22+H22+J22 -> 4.58
A23: 16 | C23: Лоиҳаи таъҷилии таъминоти бехатарии озуқаворӣ ва воридоти маҳсулотҳои тухмӣ | D23: Бонки Умумиҷаҳонӣ (маб.илов) | E23: 6.25 | F23: Доллари ШМА | G23: 6.25 | H23: 0.442 | I23: 0 | J23: 0 | K23: Соҳаи кишоварзӣ ва обёрӣ | L23: 0 | M23: 1 | N23: 0 | P23: =I23+H23+J23 -> 0.442
A24: 17 | C24: Барномаи глобалии кишоварзӣ ва амнияти озуқаворӣ | D24: Бонки Умумиҷаҳонӣ | E24: 27.9 | F24: Доллари ШМА | G24: 27.9 | H24: 3.937 | I24: 7 | J24: 7 | K24: Соҳаи кишоварзӣ ва обёрӣ | L24: 0 | M24: 1 | N24: 0 | P24: =I24+H24+J24 -> 17.937
A25: 18 | C25: Системаи кадастри замин баҳри тарақиёти рушди устувори соҳаи кишоварзӣ (маблағгузории иловагӣ) | D25: Бонки Умумиҷаҳонӣ (маб.илов) | E25: 10 | F25: Доллари ШМА | G25: 10 | H25: 3.958 | I25: 2.618 | J25: 0.431 | K25: Соҳаи кишоварзӣ ва обёрӣ | L25: 0 | M25: 1 | N25: 0 | P25: =I25+H25+J25 -> 7.007
A26: 19 | C26: Лоиҳаи таъмини шуғли аҳолӣ барои устувории хоҷагии қишлоқ ва идоракунии захираҳои обӣ | D26: Бонки Умумиҷаҳонӣ | E26: 5 | F26: Доллари ШМА | G26: 5 | H26: 0.945 | I26: 0.5 | J26: 0 | K26: Соҳаи кишоварзӣ ва обёрӣ | L26: 0 | M26: 1 | N26: 0 | P26: =I26+H26+J26 -> 1.445
A28: =VLOOKUP(#REF!,#REF!,2,FALSE) -> #REF! | G28: =SUM(G8:G27) -> 185.419 | H28: =SUM(H8:H27) -> 42.316 | I28: =SUM(I8:I27) -> 34.739 | J28: =SUM(J8:J27) -> 23.088 | L28: =IF(B28=$B$39,1,0) -> #REF!
A29: =VLOOKUP(#REF!,#REF!,2,FALSE) -> #REF! | L29: =IF(B29=$B$39,1,0) -> #REF!
A30: 1 | C30: Лоиҳаи дуюми идоракунии кишоварзӣ ва истифодабарии табиат ҷиҳати таъминоти фаъолият дар минтакаҳои куҳӣ | D30: Бонки Умумиҷаҳонӣ | E30: 10 | F30: Доллари ШМА | G30: 10 | H30: 0 | I30: 0.5 | J30: 2 | K30: Соҳаи кишоварзӣ ва обёрӣ | L30: 0 | M30: 1 | N30: 0 | P30: =I30+H30+J30 -> 2.5
A31: 2 | C31: Маъмуркунонии андоз | D31: Бонки Умумиҷаҳонӣ | E31: 0 | F31: - | G31: 15 | H31: 0 | I31: 3 | J31: 3 | K31: Соҳаи ҳокимият ва идоракунии давлатӣ | L31: =IF(B31=$B$39,1,0) -> #REF! | M31: 0 | N31: 1 | P31: =I31+H31+J31 -> 6
A32: 3 | C32: Маблағгузории тандурусти дар асоси натиҷаҳо | D32: Бонки Умумиҷаҳонӣ | E32: 15 | F32: Доллари ШМА | G32: 15 | H32: 1.5 | I32: 1.5 | J32: 2.693 | K32: Соҳаи тандурустӣ | L32: 0 | M32: 0 | N32: 1 | P32: =I32+H32+J32 -> 5.693
A33: 4 | C33: Кӯмаки техникӣ барои чораҳои ҳифзи иҷтимоӣ | D33: Бонки Умумиҷаҳонӣ | E33: 2 | F33: Доллари ШМА | G33: 2 | H33: 0 | I33: 0.5 | J33: 0.5 | K33: Соҳаи ҳифзи иҷтимоӣ | L33: 0 | M33: 0 | N33: 1 | P33: =I33+H33+J33 -> 1
A34: 5 | C34: Рушди маҳоратҳои ҳаётан муҳим барои муҳочирон | D34: Бонки Умумиҷаҳонӣ | E34: 10 | F34: Доллари ШМА | G34: 10 | H34: 0 | I34: 2 | J34: 5 | K34: Соҳаи ҳифзи иҷтимоӣ | L34: 0 | M34: 0 | N34: 1 | P34: =I34+H34+J34 -> 7
A35: 6 | C35: Фонди рушди хизматрасонии комуналӣ | D35: Бонки Умумиҷаҳонӣ | E35: 0 | F35: - | G35: 20 | H35: 0 | I35: 5 | J35: 8 | K35: Соҳаи комуналӣ ва обтаъминкунӣ | L35: 0 | M35: 0 | N35: 1 | P35: =I35+H35+J35 -> 13
A36: 7 | C36: Лоиҳаи алоқахои тиҷоратии минтақави дар соҳаи энергетика (CASA - 1000) | D36: Бонки Умумиҷаҳонӣ | E36: 0 | F36: - | G36: 15 | H36: 0 | I36: 2 | J36: 0.8 | K36: Соҳаи энергетика ва саноат | L36: 0 | M36: 0 | N36: 1 | P36: =I36+H36+J36 -> 2.8
L37: =IF(B37=$B$39,1,0) -> #REF!
A38: =VLOOKUP(#REF!,#REF!,2,FALSE) -> #REF! | G38: =SUM(G30:G37) -> 87 | H38: =SUM(H30:H37) -> 1.5 | I38: =SUM(I30:I37) -> 14.5 | J38: =SUM(J30:J37) -> 21.993 | L38: =IF(B38=$B$39,1,0) -> #REF!
B39: =VLOOKUP(#REF!,#REF!,2,FALSE) -> #REF! | C39: =A6 -> #REF! | G39: =G38+G28 -> 272.419 | H39: =H38+H28 -> 43.816 | I39: =I38+I28 -> 49.239 | J39: =J38+J28 -> 45.081 | L39: =IF(B39=$B$39,1,0) -> #REF!
L40: =IF(B40=$B$39,1,0) -> #REF!
A41: Бонки Осиёгии Рушд | G41: =G62 -> 614.37 | H41: =H62 -> 122.737 | I41: =I62 -> 179.12 | J41: =J62 -> #REF!
A42: =VLOOKUP(#REF!,#REF!,2,FALSE) -> #REF! | L42: =IF(B42=$B$39,1,0) -> #REF!
A43: 1 | C43: Лихаи иваз намудани таҷҳизоти тақсимкунандаи умумии 500кВ(ОРУ)дар НБО-и Норак | D43: Бонки Осиёгии рушд | E43: 54.77 | F43: Доллари ШМА | G43: 54.77 | H43: 12 | I43: 28.731 | J43: 0 | K43: Соҳаи энергетика ва саноат | L43: =IF(B43=$B$39,1,0) -> #REF! | M43: 1 | N43: 0 | P43: =I43+H43+J43 -> 40.731
A44: 2 | B44: (№0213-TAJ(SF) | C44: Лоиҳаи минтақавии энергетикӣ | D44: =VLOOKUP(#REF!,#REF!,2,FALSE) -> #REF! | E44: 122 | F44: Доллари ШМА | G44: 122 | H44: 35 | I44: 64.752 | J44: =#REF! -> #REF! | K44: Соҳаи энергетика ва саноат | L44: =IF(B44=$B$39,1,0) -> #REF! | M44: 1 | N44: 0 | P44: =I44+H44+J44 -> #REF!
A45: 3 | C45: Лоихаи дастраси ба маблаггузории сабз | D45: =VLOOKUP(#REF!,#REF!,2,FALSE) -> #REF! | E45: 6 | F45: Доллари ШМА | G45: 6 | H45: 1 | I45: 1 | J45: 3 | K45: Соҳаи энергетика ва саноат | L45: =IF(B45=$B$39,1,0) -> #REF! | M45: 1 | N45: 0 | P45: =I45+H45+J45 -> 5
A46: 4 | B46: №0072-TAJ | C46: Лоихаи рушди деҳот | D46: =VLOOKUP(#REF!,#REF!,2,FALSE) -> #REF! | E46: 8.3 | F46: Доллари ШМА | G46: 8.3 | H46: 2.983 | I46: 0.577 | J46: 0 | K46: Соҳаи кишоварзӣ ва обёрӣ | L46: =IF(B46=$B$39,1,0) -> #REF! | M46: 1 | N46: 0 | P46: =I46+H46+J46 -> 3.56
A47: 5 | C47: Лоиҳаи дастрасӣ барои маблағгузорӣ | D47: Бонки Осиёгии рушд | E47: 25 | F47: Доллари ШМА | G47: 25 | H47: 1.695 | I47: 3.75 | J47: 0 | K47: Соҳаи кишоварзӣ ва обёрӣ | L47: 0 | M47: 1 | N47: 0 | P47: =I47+H47+J47 -> 5.445
A48: 6 | C48: Таҷдиди роҳи автомобилгарди Душанбе-сарҳади Қирғизистон (марҳилаи 2) | D48: Бонки Осиёгии рушд | E48: 0 | F48: - | G48: 20 | H48: 0 | I48: 0 | J48: 0 | K48: Соҳаи нақлиёт | L48: 0 | M48: 1 | N48: 0 | P48: =I48+H48+J48 -> 0
A49: 7 | C49: Таҷдиди роҳи автомобилгарди Душанбе - сарҳади Кирғизистон - CARES (марҳилаи 3) | D49: Бонки Осиёгии рушд | E49: 0 | F49: - | G49: 12.5 | H49: 0.84 | I49: 0 | J49: 0 | K49: Соҳаи нақлиёт | L49: 0 | M49: 1 | N49: 0 | P49: =I49+H49+J49 -> 0.84
A50: 8 | C50: Сохтмони рохи автомобилгарди Душанбе-Турсунзода(сархади Узбекистон) | D50: Бонки Осиёгии рушд | E50: 120 | F50: Доллари ШМА | G50: 120 | H50: 47.219 | I50: 27.41 | J50: 0.33 | K50: Соҳаи нақлиёт | L50: 0 | M50: 1 | N50: 0 | P50: =I50+H50+J50 -> 74.959
A51: 9 | C51: Бехсозии рохи мошингарди Айни-Панчакент -сархади Узбекистон (мархилаи 1) | D51: Бонки Осиёгии рушд | E51: 100 | F51: Доллари ШМА | G51: 100 | H51: 20 | I51: 40 | J51: 40 | K51: Соҳаи нақлиёт | L51: 0 | M51: 1 | N51: 0 | P51: =I51+H51+J51 -> 100
A52: 10 | C52: Бехсозии рохи мошингарди Айни-Панчакент -сархади Узбекистон (мархилаи 2) | D52: Бонки Осиёгии рушд | E52: 56 | F52: Доллари ШМА | G52: 56 | H52: 2 | I52: 5 | J52: 8 | K52: Соҳаи нақлиёт | L52: 0 | M52: 1 | N52: 0 | P52: =I52+H52+J52 -> 15
L53: =IF(B53=$B$39,1,0) -> #REF!
A54: =VLOOKUP(#REF!,#REF!,2,FALSE) -> #REF! | G54: =SUM(G43:G53) -> 524.57 | H54: =SUM(H43:H53) -> 122.737 | I54: =SUM(I43:I53) -> 171.22 | J54: =SUM(J43:J53) -> #REF! | L54: =IF(B54=$B$39,1,0) -> #REF!
A55: =VLOOKUP(#REF!,#REF!,2,FALSE) -> #REF! | L55: =IF(B55=$B$39,1,0) -> #REF!
A56: 1 | C56: гранти БОР | D56: Бонки Осиёгии рушд | E56: 3 | G56: 3 | H56: 0 | I56: 1 | J56: 1 | K56: Соҳаи ҳокимият ва идоракунии давлатӣ | L56: 0 | M56: 0 | N56: 1 | P56: =I56+H56+J56 -> 2
A57: 2 | C57: Мутобиксози ба тагйирёбии иклим дар дарёи Панч | D57: Бонки Осиёгии рушд | E57: 15.3 | F57: Доллари ШМА | G57: 15.3 | H57: 0 | I57: 2 | J57: 5 | K57: Соҳаи комуналӣ ва обтаъминкунӣ | L57: 0 | M57: 0 | N57: 1 | P57: =I57+H57+J57 -> 7
A58: 3 | C58: Лоихаи энергияи баркароршаванда | D58: Бонки Осиёгии рушд | E58: 69 | F58: Доллари ШМА | G58: 69 | H58: 0 | I58: 3.9 | J58: 5 | K58: Соҳаи энергетика ва саноат | L58: 0 | M58: 0 | N58: 1 | P58: =I58+H58+J58 -> 8.9
A59: 4 | C59: Бехсозии барқтаъминкуни дар ҷамоатҳо | D59: Гранти БОР (ЯФСБ) | E59: 2.5 | F59: Доллари ШМА | G59: 2.5 | H59: 0 | I59: 1 | J59: 1 | K59: Соҳаи энергетика ва саноат | L59: 0 | M59: 0 | N59: 1 | P59: =I59+H59+J59 -> 2
L60: =IF(B60=$B$39,1,0) -> #REF!
A61: =VLOOKUP(#REF!,#REF!,2,FALSE) -> #REF! | G61: =SUM(G56:G60) -> 89.8 | H61: =SUM(H56:H60) -> 0 | I61: =SUM(I56:I60) -> 7.9 | J61: =SUM(J56:J60) -> 12 | L61: =IF(B61=$B$39,1,0) -> #REF!
B62: =VLOOKUP(#REF!,#REF!,2,FALSE) -> #REF! | C62: Бонки Осиёгии рушд | G62: =G54+G61 -> 614.37 | H62: =H54+H61 -> 122.737 | I62: =I54+I61 -> 179.12 | J62: =J54+J61 -> #REF! | L62: =IF(B62=$B$39,1,0) -> #REF!
L63: =IF(B63=$B$39,1,0) -> #REF!
L64: =IF(B64=$B$39,1,0) -> #REF!
L65: =IF(B65=$B$39,1,0) -> #REF!
A66: =VLOOKUP(#REF!,#REF!,2,FALSE) -> #REF! | G66: =G90 -> 60.378 | H66: =H90 -> #REF! | I66: =I90 -> 15.8 | J66: =J90 -> 14.7
A67: =VLOOKUP(#REF!,#REF!,2,FALSE) -> #REF! | L67: =IF(B67=$B$39,1,0) -> #REF!
A68: 1 | C68: Лоиҳаи беҳсозии системаи обтаъминкунии ш. Хуљанд (марњилаи 2) | D68: Гранти БАТР | E68: 0.765 | F68: =VLOOKUP(#REF!,#REF!,2,FALSE) -> #REF! | G68: 1.071 | H68: 0.251 | I68: 0 | J68: 0 | K68: =VLOOKUP(#REF!,#REF!,2,FALSE) -> #REF! | L68: =IF(B68=$B$39,1,0) -> #REF! | M68: 1 | N68: 0 | P68: =J68+I68+H68 -> 0.251
A69: 2 | C69: Бењсозии системањои обтаъминкунии шањру ноњияњои шимоли љумњурї ва ш. Хоруѓ | D69: Гранти БАТР | E69: 10 | F69: =VLOOKUP(#REF!,#REF!,2,FALSE) -> #REF! | G69: 10 | H69: 5.2 | I69: 0.9 | J69: 0 | K69: Соҳаи хоҷагии манзилию коммуналӣ | L69: =IF(B69=$B$39,1,0) -> #REF! | M69: 1 | N69: 0 | P69: =J69+I69+H69 -> 6.1
A70: 3 | C70: Лоиҳаи идоракунии партовҳои сахти маишии ш. Хуҷанд | D70: Гранти БАТР | E70: 2.5 | F70: =VLOOKUP(#REF!,#REF!,2,FALSE) -> #REF! | G70: 2.5 | H70: 0.75 | I70: 1 | J70: 0.5 | K70: Соҳаи хоҷагии манзилию коммуналӣ | L70: =IF(B70=$B$39,1,0) -> #REF! | M70: 1 | N70: 0 | P70: =J70+I70+H70 -> 2.25
D71: Кумаки техникии БАТР | E71: 0.94 | F71: Доллари ШМА | G71: 0.94 | H71: 0.24 | I71: 0 | J71: 0 | L71: 0
A72: 4 | C72: Лоиҳаи обтаъминкунии шаҳрҳои марказии Тоҷикистон (Турсунзода, Ҳисор, Сомониён) (SECO) | D72: Гранти БАТР (SECO) | E72: 6 | F72: Евро | G72: 7.5 | H72: 2 | I72: 1 | J72: 1.5 | K72: =VLOOKUP(#REF!,#REF!,2,FALSE) -> #REF! | L72: =IF(B72=$B$39,1,0) -> #REF! | M72: 1 | N72: 0 | P72: =J72+I72+H72 -> 4.5
A73: 5 | D73: Гранти БАТР | E73: 2.6 | F73: =VLOOKUP(#REF!,#REF!,2,FALSE) -> #REF! | G73: 2.6 | H73: 1 | I73: 1 | J73: 0 | L73: =IF(B73=$B$39,1,0) -> #REF! | M73: 1 | N73: 0 | P73: =J73+I73+H73 -> 2
D74: Кумаки техникии БАТР | E74: 2.6 | F74: Доллари ШМА | G74: 2.6 | H74: 1 | I74: 0 | J74: 0 | L74: 0
A75: 6 | C75: Лоиҳаи рушди нақлиёти ҷамъиятии ш. Душанбе | D75: Гранти БАТР | F75: - | G75: 3.6 | H75: 1.4 | I75: 1.4 | J75: 0.8 | K75: Соҳаи нақлиёт | L75: 0 | M75: 1 | N75: 0 | P75: =J75+I75+H75 -> 3.6
D76: Кумаки техникии БАТР | F76: - | G76: 1.067 | H76: 0 | I76: 0 | J76: 0 | L76: 0
A78: =VLOOKUP(#REF!,#REF!,2,FALSE) -> #REF! | G78: =SUM(G68:G77) -> 31.878 | H78: =SUM(H68:H77) -> 11.841 | I78: =SUM(I68:I77) -> 5.3 | J78: =SUM(J68:J77) -> 2.8
A79: =VLOOKUP(#REF!,#REF!,2,FALSE) -> #REF!
A80: 1 | C80: Лоиҳаи идоракунии партовҳои сахти маишии шаҳрҳои љануби Тољикистон (Данғара, Кулоб, Қўрғонтеппа) | D80: Гранти БАТР | F80: - | G80: 3 | H80: =#REF! -> #REF! | I80: 0.75 | J80: 0.75 | K80: Соҳаи хоҷагии манзилию коммуналӣ | L80: =IF(B80=$B$39,1,0) -> #REF! | M80: 0 | N80: 1 | P80: =J80+I80+H80 -> #REF!
A81: 2 | C81: Лоихаи бехсозии обтаъминкунии шахрхои шимоли Точикистон (мархилаи 2) | D81: Гранти БАТР | E81: 8 | F81: Доллари ШМА | G81: 8 | H81: 0 | I81: 2 | J81: 3 | K81: =VLOOKUP(#REF!,#REF!,2,FALSE) -> #REF! | L81: =IF(B81=$B$39,1,0) -> #REF! | M81: 0 | N81: 1 | P81: =J81+I81+H81 -> 5
A82: 3 | C82: Лоихаи идоракунии партовхои сахти маишии шахри Кургонтеппа | D82: Гранти БАТР | F82: - | G82: 2 | H82: 0 | I82: 1 | J82: 1 | K82: =VLOOKUP(#REF!,#REF!,2,FALSE) -> #REF! | L82: =IF(B82=$B$39,1,0) -> #REF! | M82: 0 | N82: 1 | P82: =J82+I82+H82 -> 2
D83: Кумаки техникии БАТР | F83: - | G83: 1.4 | H83: 0 | I83: 1 | J83: 0.4 | L83: 0
A84: 4 | C84: Лоихаи идоракунии партовхои сахти маишии шахри Турсунзода | D84: Гранти БАТР | F84: - | G84: 2 | H84: 0 | I84: 1 | J84: 1 | K84: =VLOOKUP(#REF!,#REF!,2,FALSE) -> #REF! | L84: =IF(B84=$B$39,1,0) -> #REF! | M84: 0 | N84: 1 | P84: =J84+I84+H84 -> 2
D85: Кумаки техникии БАТР | F85: - | G85: 1.4 | H85: 0 | I85: 1 | J85: 0.4 | L85: 0 | P85: =J85+I85+H85 -> 1.4
A86: 5 | C86: Лоихаи бехсозии обтаъминкуни шахрхои вилояти Хатлон(Норак,Ёвон, Ховалинг,Руми) | D86: Гранти БАТР | F86: - | G86: 2.7 | H86: 0 | I86: 1.35 | J86: 1.35 | K86: =VLOOKUP(#REF!,#REF!,2,FALSE) -> #REF! | L86: =IF(B86=$B$39,1,0) -> #REF! | M86: 0 | N86: 1 | P86: =J86+I86+H86 -> 2.7
D87: Фонди БАТР | F87: - | G87: 8 | H87: 0 | I87: 2.4 | J87: 4 | P87: =J87+I87+H87 -> 6.4
L88: =IF(B88=$B$39,1,0) -> #REF!
A89: =VLOOKUP(#REF!,#REF!,2,FALSE) -> #REF! | G89: =SUM(G80:G88) -> 28.5 | H89: =SUM(H80:H88) -> #REF! | I89: =SUM(I80:I88) -> 10.5 | J89: =SUM(J80:J88) -> 11.9 | L89: =IF(B89=$B$39,1,0) -> #REF!
B90: =VLOOKUP(#REF!,#REF!,2,FALSE) -> #REF! | C90: =A66 -> #REF! | G90: =G89+G78 -> 60.378 | H90: =H89+H78 -> #REF! | I90: =I89+I78 -> 15.8 | J90: =J89+J78 -> 14.7 | L90: =IF(B90=$B$39,1,0) -> #REF!
L91: =IF(B91=$B$39,1,0) -> #REF!
A92: Ва ғайраҳо | G92: =G130 -> 205.097 | H92: =H130 -> 33.061 | I92: =I130 -> 26.712 | J92: =J130 -> 20.65
A93: =VLOOKUP(#REF!,#REF!,2,FALSE) -> #REF! | L93: =IF(B93=$B$39,1,0) -> #REF!
A94: 1 | C94: Лоиҳаи мукамалгардонии идоракунии молияи давлатӣ | D94: PHRD (Ҳукумати Япония) | E94: 0.972 | F94: =VLOOKUP(#REF!,#REF!,2,FALSE) -> #REF! | G94: 0.972 | H94: 1.2 | I94: 0.25 | J94: 0 | K94: Соҳаи ҳокимият ва идоракунии давлатӣ | L94: =IF(B94=$B$39,1,0) -> #REF! | M94: 1 | N94: 0 | P94: =J94+I94+H94 -> 1.45
A95: 2 | C95: Лоиҳаи мукамалгардонии идоракунии молияи давлатӣ | D95: Гранти ЕК ва DFID | E95: 4.698 | F95: =VLOOKUP(#REF!,#REF!,2,FALSE) -> #REF! | G95: 4.698 | H95: 1.649 | I95: 0.99 | J95: 0 | K95: Соҳаи ҳокимият ва идоракунии давлатӣ | L95: =IF(B95=$B$39,1,0) -> #REF! | M95: 1 | N95: 0 | P95: =J95+I95+H95 -> 2.639
A96: 3 | C96: "Ташаббуси рушди босуръат" (марҳилаи 3) | D96: Гранти Фонди Котоликии муттаҳида | E96: 13.5 | F96: =VLOOKUP(#REF!,#REF!,2,FALSE) -> #REF! | G96: 13.5 | H96: 3.5 | I96: 0 | J96: 0 | K96: Соҳаи маориф | L96: =IF(B96=$B$39,1,0) -> #REF! | M96: 1 | N96: 0 | P96: =J96+I96+H96 -> 3.5
A97: 4 | C97: Барномаи мусоидати рушди таҳсилоти ибтидоӣ ва инфраструктураи ҷамоавӣ - марҳилаи 2 (БМИМТ) | D97: Гранти KFW ( Олмон) | E97: 11 | F97: Евро | G97: 15.4 | H97: 2.587 | I97: 0 | J97: 0 | K97: Соҳаи маориф | L97: =IF(B97=$B$39,1,0) -> #REF! | M97: 1 | N97: 0 | P97: =J97+I97+H97 -> 2.587
A98: 5 | C98: Лоихаи иваз намудани дастгоҳи тақсимотии 220кВт дар НБО-и Норак | D98: Гранти KfW (Бонки Олмон) | E98: 7 | F98: Евро | G98: 7.779 | H98: 1.38 | I98: 0 | J98: 0 | K98: Сохаи энергетика | L98: 0 | M98: 1 | N98: 0 | P98: =J98+I98+H98 -> 1.38
A99: 6 | B99: TF#056448 | C99: Лоиҳаи тандурустии асосӣ ва ҷамоавӣ | D99: Гранти SIDA | E99: 47.04 | G99: 6.682 | H99: 0 | I99: 0 | J99: 0 | K99: Соҳаи тандурустӣ | L99: =IF(B99=$B$39,1,0) -> #REF! | M99: 1 | N99: 0 | P99: =J99+I99+H99 -> 0
A100: 7 | B100: №90141 | C100: Лоиҳаи тандурустии асосӣ ва ҷамоавӣ | D100: Гранти SDC (Намояндагии Рушд ва щамкории Швейтсария | G100: 1.176 | H100: 0 | I100: 0 | J100: 0 | K100: Соҳаи тандурустӣ | L100: 0 | M100: 1 | N100: 0 | P100: =J100+I100+H100 -> 0
A101: 8 | C101: Лоиҳаи тандурустии асосӣ ва ҷамоавӣ | D101: Гранти Фонди ҶопонииРушди Иҷтимоӣ | G101: 2.8 | H101: 0.531 | I101: 0 | J101: 0 | K101: Соҳаи тандурустӣ | L101: 0 | M101: 1 | N101: 0 | P101: =J101+I101+H101 -> 0.531
A102: 9 | C102: Лоиҳаи беҳсозии системаи обтаъминкунии ш. Хуҷанд(Мархилаи 2) | D102: гранти Швейтсария(SECO) | E102: 3.5 | F102: Евро | G102: 5.712 | H102: 1.652 | I102: 0 | J102: 0 | K102: Соҳаи комуналӣ ва обтаъминкунӣ | L102: 0 | M102: 1 | N102: 0 | P102: =J102+I102+H102 -> 1.652
A103: 10 | C103: Лоиҳаи бо оби нӯшокӣ таъмин намудани ноҳияи Мир Саид Алии Ҳамадонӣ | D103: Гранти Ҳукумати Япония JICA | F103: Йенаи Ҷ | G103: 4.481 | H103: 0 | I103: 0 | J103: 0 | K103: Соҳаи комуналӣ ва обтаъминкунӣ | L103: 0 | M103: 1 | N103: 0 | P103: =J103+I103+H103 -> 0
...

Sheet G.Creditors(Rus)
A2: Программа государственных внешних заимствований Республики Таджикистан на 2013-2015гг
M4: (млн.долл.США)
A5: № п/п | B5: № кред. | C5: Наименование проектов по кредиторам | D5: Наимен. кредитора | E5: Сумма кредита в валюте подписания | G5: Сумма кредита в долл. США по сост. на 01.06.12г. | H5: Исполь-зовано до 01.01.2012г. | I5: Ожидаемое использо-вание в 2012 году | J5: Прогноз использования кредита на: | M5: Субъекты Республики Таджикистан, использующие кредит | N5: Сектор | O5: знак для сумма Итого | P5: для количества кредитов | R5: Ожидаемое использо-вание в 2013 году
J6: 2013г. | K6: 2014г. | L6: 2015г. | P6: действующие | Q6: новые
A7: Всемирный Банк | G7: =G18 -> #REF! | H7: =H18 -> 37.812892 | I7: =I18 -> #REF! | J7: =J18 -> 0.317 | K7: =K18 -> 0 | L7: =L18 -> 0
A8: =#REF! -> #REF!
A9: 1 | B9: 37590 | C9: Модернизация сектора образования | D9: Всемирный Банк | E9: 9.5 | F9: СПЗ | G9: =E9*VLOOKUP(F9,#REF!,4,FALSE) -> #REF! | H9: 13.393749 | I9: =G9-H9 -> #REF! | J9: 0 | K9: 0 | L9: 0 | M9: Министерство образования Республики Таджикистан | N9: Сектор образования | O9: =IF(B9=$B$18,1,0) -> #REF! | P9: 1 | Q9: 0 | S9: =I9+H9 -> #REF!
A10: 2 | B10: 36820 | C10: Проект энергетического сектора Памир ГЭС | D10: Всемирный Банк | E10: 7.9 | F10: СПЗ | G10: =E10*VLOOKUP(F10,#REF!,4,FALSE) -> #REF! | H10: 11.102055 | I10: =G10-H10 -> #REF! | J10: 0 | K10: 0 | L10: 0 | M10: Министерство энергетики и промышленности Республики Таджикистан | N10: Энергетический и промышленный сектор | O10: =IF(B10=$B$18,1,0) -> #REF! | P10: 1 | Q10: 0
A11: 3 | B11: 43140 | C11: Восстановление хлопкового сектора | D11: Всемирный Банк | E11: 10 | F11: СПЗ | G11: =E11*VLOOKUP(F11,#REF!,4,FALSE) -> #REF! | H11: 13.317088 | I11: 1.4332612 | J11: 0.317 | K11: 0 | L11: 0 | M11: Министерство сельского хозяйства Республики Таджикистан | N11: Сельско-хозяйственный сектор и мелиорация | O11: =IF(B11=$B$18,1,0) -> #REF! | P11: 1 | Q11: 0 | S11: =J11+I11+H11 -> 15.067349
O12: =IF(B12=$B$18,1,0) -> #REF!
A13: =#REF! -> #REF! | G13: =SUM(G9:G12) -> #REF! | H13: =SUM(H9:H12) -> 37.812892 | I13: =SUM(I9:I12) -> #REF! | J13: =SUM(J9:J12) -> 0.317 | K13: =SUM(K9:K12) -> 0 | L13: =SUM(L9:L12) -> 0 | O13: =IF(B13=$B$18,1,0) -> #REF!
A14: =#REF! -> #REF! | O14: =IF(B14=$B$18,1,0) -> #REF!
D15: выберите кредитора | F15: выберите валюту | M15: Выберите пользователя | O15: =IF(B15=$B$18,1,0) -> #REF!
O16: =IF(B16=$B$18,1,0) -> #REF!
A17: =#REF! -> #REF! | G17: =SUM(G14:G16) -> 0 | H17: =SUM(H14:H16) -> 0 | I17: =SUM(I14:I16) -> 0 | J17: =SUM(J14:J16) -> 0 | K17: =SUM(K14:K16) -> 0 | L17: =SUM(L14:L16) -> 0 | O17: =IF(B17=$B$18,1,0) -> #REF!
B18: =#REF! -> #REF! | C18: =A7 -> Всемирный Банк | G18: =G17+G13 -> #REF! | H18: =H17+H13 -> 37.812892 | I18: =I17+I13 -> #REF! | J18: =J17+J13 -> 0.317 | K18: =K17+K13 -> 0 | L18: =L17+L13 -> 0 | O18: =IF(B18=$B$18,1,0) -> #REF!
O19: =IF(B19=$B$18,1,0) -> #REF!
A20: Азиатский Банк Развития | G20: =G31 -> #REF! | H20: =H31 -> 60.406421 | I20: =I31 -> #REF! | J20: =J31 -> 6.175 | K20: =K31 -> 0.516 | L20: =L31 -> 0 | O20: =IF(B20=$B$18,1,0) -> #REF!
A21: =#REF! -> #REF! | O21: =IF(B21=$B$18,1,0) -> #REF!
A22: 4 | B22: 2271 | C22: Устойчивое развитие хлопкового сектора | D22: Азиатский Банк Развития | E22: 3.712 | F22: СПЗ | G22: =E22*VLOOKUP(F22,#REF!,4,FALSE) -> #REF! | H22: 2.851139 | I22: 2.74 | J22: 0 | K22: 0 | L22: 0 | M22: Министерство сельского хозяйства Республики Таджикистан | N22: Сельско-хозяйственный сектор и мелиорация | O22: =IF(B22=$B$18,1,0) -> #REF! | P22: 1 | Q22: 0
A23: 5 | B23: 2313 | C23: Развитие сельской местности | D23: Азиатский Банк Развития | E23: 5.92 | F23: СПЗ | G23: =E23*VLOOKUP(F23,#REF!,4,FALSE) -> #REF! | H23: 0.20389079 | I23: =G23-H23-J23-K23 -> #REF! | J23: 3.252 | K23: 0.516 | L23: 0 | M23: Министерство сельского хозяйства Республики Таджикистан | N23: Сельско-хозяйственный сектор и мелиорация | O23: =IF(B23=$B$18,1,0) -> #REF! | P23: 1 | Q23: 0 | S23: =K23+J23+I23+H23 -> #REF!
A24: 6 | B24: 2356 | C24: Управление угрозой наводнений в Хатлонской области | D24: Азиатский Банк Развития | E24: 14.403 | F24: СПЗ | G24: =E24*VLOOKUP(F24,#REF!,4,FALSE) -> #REF! | H24: 19.621391 | I24: =G24-H24-J24 -> #REF! | J24: 0.729 | K24: 0 | L24: 0 | M24: Министерство мелиорации и водных ресурсов Республики Таджикистан | N24: Сельско-хозяйственный сектор и мелиорация | O24: =IF(B24=$B$18,1,0) -> #REF! | P24: 1 | Q24: 0
A25: 7 | B25: 2359 | C25: Улучшение дорожного коридора Душанбе граница Киргизистан ЦАРЭС, фаза 3 | D25: Азиатский Банк Развития | E25: 26.453 | F25: СПЗ | G25: =E25*VLOOKUP(F25,#REF!,4,FALSE) -> #REF! | H25: 37.73 | I25: 0 | J25: 2.194 | K25: 0 | L25: 0 | M25: Министерство транспорта и коммуникаций Республики Таджикистан | N25: Сектор транспорта и коммуникации | O25: =IF(B25=$B$18,1,0) -> #REF! | P25: 1 | Q25: 0 | S25: =J25+H25 -> 39.924
O26: =IF(B26=$B$18,1,0) -> #REF!
A27: =#REF! -> #REF! | G27: =SUM(G22:G26) -> #REF! | H27: =SUM(H22:H26) -> 60.406421 | I27: =SUM(I22:I26) -> #REF! | J27: =SUM(J22:J26) -> 6.175 | K27: =SUM(K22:K26) -> 0.516 | L27: =SUM(L22:L26) -> 0 | O27: =IF(B27=$B$18,1,0) -> #REF!
A28: =#REF! -> #REF! | O28: =IF(B28=$B$18,1,0) -> #REF!
O29: =IF(B29=$B$18,1,0) -> #REF!
A30: =#REF! -> #REF! | G30: =SUM(G29:G29) -> 0 | H30: =SUM(H29:H29) -> 0 | I30: =SUM(I29:I29) -> 0 | J30: =SUM(J29:J29) -> 0 | K30: =SUM(K29:K29) -> 0 | L30: =SUM(L29:L29) -> 0 | O30: =IF(B30=$B$18,1,0) -> #REF!
B31: =#REF! -> #REF! | C31: =A20 -> Азиатский Банк Развития | G31: =G27+G30 -> #REF! | H31: =H27+H30 -> 60.406421 | I31: =I27+I30 -> #REF! | J31: =J27+J30 -> 6.175 | K31: =K27+K30 -> 0.516 | L31: =L27+L30 -> 0 | O31: =IF(B31=$B$18,1,0) -> #REF!
O32: =IF(B32=$B$18,1,0) -> #REF!
A33: Исламский Банк Развития | G33: =G62 -> #REF! | H33: =H62 -> 30.897877 | I33: =I62 -> #REF! | J33: =J62 -> 22.181 | K33: =K62 -> 48.824 | L33: =L62 -> 55.344 | O33: =IF(B33=$B$18,1,0) -> #REF!
A34: =#REF! -> #REF! | O34: =IF(B34=$B$18,1,0) -> #REF!
A35: 9 | B35: 3008 | C35: Водоснабжение г.Душанбе | D35: Исламский Банк Развития | E35: =7000000/1000000 -> 7 | F35: Исламский динар | G35: =E35*VLOOKUP(F35,#REF!,4,FALSE) -> #REF! | H35: 8.8521293 | I35: =1691270.7/1000000 -> 1.6912707 | J35: 0 | K35: 0 | L35: 0 | M35: Исполнительный орган государственной власти г. Душанбе | N35: Сектор жилищно-коммунального хозяйства | O35: =IF(B35=$B$18,1,0) -> #REF! | P35: 1 | Q35: 0
A36: 11 | B36: TAD_0091 | C36: Строительство средних школ, фаза 3 | D36: Исламский Банк Развития | E36: 11.34 | F36: Исламский динар | G36: =E36*VLOOKUP(F36,#REF!,4,FALSE) -> #REF! | H36: 0 | I36: =G36-J36-K36-L36 -> #REF! | J36: 0.273 | K36: 6.733 | L36: 7.883 | M36: Министерство образования Республики Таджикистан | N36: Сектор образования | O36: =IF(B36=$B$18,1,0) -> #REF! | P36: 1 | Q36: 0 | S36: =L36+K36+J36+I36 -> #REF!
A37: 12 | B37: 2TAD0032 | C37: Орошение Дангаринской долины, фаза 2 | D37: Исламский Банк Развития | E37: =8500000/1000000 -> 8.5 | F37: Исламский динар | G37: =E37*VLOOKUP(F37,#REF!,4,FALSE) -> #REF! | H37: 2.9423686 | I37: =G37-H37-J37-K37-L37 -> #REF! | J37: =4100000/1000000 -> 4.1 | K37: =3350000/1000000 -> 3.35 | L37: =1612000/1000000 -> 1.612 | M37: Министерство мелиорации и водных ресурсов Республики Таджикистан | N37: Сельско-хозяйственный сектор и мелиорация | O37: =IF(B37=$B$18,1,0) -> #REF! | P37: 1 | Q37: 0
A38: 13 | B38: 1428H | C38: Региональный проект по строительству линий электропередач (Таджикистан -Афганистан) | D38: Исламский Банк Развития | E38: =9550000/1000000 -> 9.55 | F38: Исламский динар | G38: =E38*VLOOKUP(F38,#REF!,4,FALSE) -> #REF! | H38: 5.8011331 | I38: =G38-H38 -> #REF! | J38: 0 | K38: 0 | L38: 0 | M38: Министерство энергетики и промышленности Республики Таджикистан | N38: Энергетический и промышленный сектор | O38: =IF(B38=$B$18,1,0) -> #REF! | P38: 1 | Q38: 0
A39: 14 | B39: 1428H (Доп.сумма) | C39: Региональный проект по строительству линий электропередач (Таджикистан -Афганистан) | D39: Исламский Банк Развития | E39: =1280000/1000000 -> 1.28 | F39: Исламский динар | G39: =E39*VLOOKUP(F39,#REF!,4,FALSE) -> #REF! | H39: 0.963968 | I39: =1927936/1000000/2 -> 0.963968 | J39: 0 | K39: 0 | L39: 0 | M39: Министерство энергетики и промышленности Республики Таджикистан | N39: Энергетический и промышленный сектор | O39: =IF(B39=$B$18,1,0) -> #REF! | P39: 1 | Q39: 0
A40: 15 | B40: 3011 | C40: Строительство больницы общего профиля в г.Дангара | D40: Исламский Банк Развития | E40: =7000000/1000000 -> 7 | F40: Исламский динар | G40: =E40*VLOOKUP(F40,#REF!,4,FALSE) -> #REF! | H40: 7.28701 | I40: =G40-H40-J40 -> #REF! | J40: =1148000/1000000 -> 1.148 | K40: 0 | L40: 0 | M40: Министерство здравоохранения Республики Таджикистан | N40: Сектор здравоохранения | O40: =IF(B40=$B$18,1,0) -> #REF! | P40: 1 | Q40: 0 | S40: =J40+I40+H40 -> #REF!
A41: 16 | B41: ='[2]by creditors'!$B$31 -> TAD-0041 | C41: Строительство автодороги в регионе Шагон-Зигар, фаза 3 | D41: Исламский Банк Развития | E41: ='[2]by creditors'!$E$31 -> 12.46 | F41: Исламский динар | G41: =E41*VLOOKUP(F41,#REF!,4,FALSE) -> #REF! | H41: 5.0512683 | I41: =G41-H41-J41-K41 -> #REF! | J41: =6700000/1000000 -> 6.7 | K41: =1963000/1000000 -> 1.963 | L41: 0 | M41: Министерство транспорта и коммуникаций Республики Таджикистан | N41: Сектор транспорта и коммуникации | O41: =IF(B41=$B$18,1,0) -> #REF! | P41: 1 | Q41: 0
A42: 17 | B42: TAD035 | C42: Строительство автодороги Куляб-Калайхумб | D42: Исламский Банк Развития | E42: =13220000/1000000 -> 13.22 | F42: Исламский динар | G42: =E42*VLOOKUP(F42,#REF!,4,FALSE) -> #REF! | H42: 0 | I42: =G42-J42-K42 -> #REF! | J42: =7960000/1000000 -> 7.96 | K42: =5840000/1000000 -> 5.84 | L42: 0 | M42: Министерство транспорта и коммуникаций Республики Таджикистан | N42: Сектор транспорта и коммуникации | O42: =IF(B42=$B$18,1,0) -> #REF! | P42: 1 | Q42: 0
O43: =IF(B43=$B$18,1,0) -> #REF!
A44: =#REF! -> #REF! | G44: =SUM(G35:G43) -> #REF! | H44: =SUM(H35:H43) -> 30.897877 | I44: =SUM(I35:I43) -> #REF! | J44: =SUM(J35:J43) -> 20.181 | K44: =SUM(K35:K43) -> 17.886 | L44: =SUM(L35:L43) -> 9.495 | O44: =IF(B44=$B$18,1,0) -> #REF!
A45: =#REF! -> #REF! | O45: =IF(B45=$B$18,1,0) -> #REF!
A46: 18 | C46: Развитие подачи питьевой воды в сельской местности (в Хатлонской и Согдийской областях и в РРП)* | D46: Исламский Банк Развития | F46: Исламский динар | G46: 10 | H46: 0 | I46: 0 | J46: 0 | K46: =1000000/1000000 -> 1 | L46: =3000000/1000000 -> 3 | M46: Министерство мелиорации и водных ресурсов Республики Таджикистан | N46: Сектор жилищно-коммунального хозяйства | O46: =IF(B46=$B$18,1,0) -> #REF! | P46: 0 | Q46: 1
A47: 19 | C47: Орошение Дангаринской долины, фаза 3 | D47: Исламский Банк Развития | F47: Исламский динар | G47: 10 | H47: 0 | I47: 0 | J47: 0 | K47: =1000000/1000000 -> 1 | L47: =3000000/1000000 -> 3 | M47: Министерство мелиорации и водных ресурсов Республики Таджикистан | N47: Сельско-хозяйственный сектор и мелиорация | O47: =IF(B47=$B$18,1,0) -> #REF! | P47: 0 | Q47: 1
A48: 20 | C48: Линия электропередач 500 кВ "Север-Юг" (Худжанд-Датка) | D48: Исламский Банк Развития | F48: Исламский динар | G48: 10 | H48: 0 | I48: 0 | J48: 0 | K48: =1000000/1000000 -> 1 | L48: 5 | M48: Министерство энергетики и промышленности Республики Таджикистан | N48: Энергетический и промышленный сектор | O48: =IF(B48=$B$18,1,0) -> #REF! | P48: 0 | Q48: 1
A49: 21 | C49: Строительство железной дороги Вахдат - Яван | D49: Исламский Банк Развития | F49: Исламский динар | G49: 10.4 | H49: 0 | I49: 0 | J49: 0 | K49: =4000000/1000000 -> 4 | L49: =6400000/1000000 -> 6.4 | M49: ГУП " железные дороги Таджикистана" | N49: Сектор транспорта и коммуникации | O49: =IF(B49=$B$18,1,0) -> #REF! | P49: 0 | Q49: 1
A50: 22 | C50: Реабилитация ирригационных систем | D50: Исламский Банк Развития | F50: Исламский динар | G50: 3.3 | H50: 0 | I50: 0 | J50: 0 | K50: =1000000/1000000 -> 1 | L50: =500000/1000000 -> 0.5 | M50: Министерство мелиорации и водных ресурсов Республики Таджикистан | N50: Сельско-хозяйственный сектор и мелиорация | O50: =IF(B50=$B$18,1,0) -> #REF! | P50: 0 | Q50: 1
A51: 23 | C51: Межгосударственное сотрудничество по частному сектору | D51: Исламский Банк Развития | F51: Исламский динар | G51: 45 | H51: 0 | I51: 0 | J51: 0 | K51: 0.938 | L51: 1.795 | M51: Исполнительный орган государственной власти г. Душанбе | N51: Прочи | O51: =IF(B51=$B$18,1,0) -> #REF! | P51: 0 | Q51: 1
A52: 24 | C52: Строительство инфекционной больницы в Душанбе | D52: Исламский Банк Развития | F52: Исламский динар | G52: 8 | H52: 0 | I52: 0 | J52: 0 | K52: 2 | L52: 2.154 | M52: Исполнительный орган государственной власти г. Душанбе | N52: Сектор здравоохранения | O52: =IF(B52=$B$18,1,0) -> #REF! | P52: 0 | Q52: 1
A53: 25 | C53: Проект развития комерческих связей в энергетическом секторе | D53: Исламский Банк Развития | F53: Исламский динар | G53: 12.5 | H53: 0 | I53: 0 | J53: 0 | K53: 2 | L53: 3 | M53: Министерство энергетики и промышленности Республики Таджикистан | N53: Энергетический и промышленный сектор | O53: =IF(B53=$B$18,1,0) -> #REF! | P53: 0 | Q53: 1
A54: 26 | C54: Проект CASA (фаза 1 и фаза 2) | D54: Исламский Банк Развития | F54: Исламский динар | G54: 25 | H54: 0 | I54: 0 | J54: 0 | K54: 4 | L54: 3 | M54: Министерство энергетики и промышленности Республики Таджикистан | N54: Энергетический и промышленный сектор | O54: =IF(B54=$B$18,1,0) -> #REF! | P54: 0 | Q54: 1
A55: 27 | C55: Строительство дамбы для Байпазинской ГЭС | D55: Исламский Банк Развития | F55: Исламский динар | G55: 10 | H55: 0 | I55: 0 | J55: 0 | K55: 4 | L55: 3 | M55: Министерство энергетики и промышленности Республики Таджикистан | N55: Энергетический и промышленный сектор | O55: =IF(B55=$B$18,1,0) -> #REF! | P55: 0 | Q55: 1
A56: 28 | C56: Развитие водных сетей Дангаринской долины | D56: Исламский Банк Развития | F56: Исламский динар | G56: 15 | H56: 0 | I56: 0 | J56: 0 | K56: 3 | L56: 5 | M56: Министерство мелиорации и водных ресурсов Республики Таджикистан | N56: Сельско-хозяйственный сектор и мелиорация | O56: =IF(B56=$B$18,1,0) -> #REF! | P56: 0 | Q56: 1
A57: 29 | C57: Строительство и реконструкция автодороги Лабичар-Тавилдара-Калаихумб | D57: Исламский Банк Развития | F57: Исламский динар | G57: 12 | H57: 0 | I57: 0 | J57: 0 | K57: 4 | L57: 5 | M57: Министерство транспорта и коммуникаций Республики Таджикистан | N57: Сектор транспорта и коммуникации | O57: =IF(B57=$B$18,1,0) -> #REF! | P57: 0 | Q57: 1
A58: 30 | C58: Строительство железной дороги соединяющей с Афганистаном и Туркменистаном ( на участке Айвач-Хулм) | D58: Исламский Банк Развития | F58: Исламский динар | G58: 10 | H58: 0 | I58: 0 | J58: 0 | K58: 3 | L58: 5 | M58: Министерство транспорта и коммуникаций Республики Таджикистан | N58: Сектор транспорта и коммуникации | O58: =IF(B58=$B$18,1,0) -> #REF! | P58: 0 | Q58: 1
A59: 31 | C59: Водоснабжение г.Душанбе (дополнительный кредит) | D59: Исламский Банк Развития | E59: =1400000/1000000 -> 1.4 | F59: Исламский динар | G59: =E59*VLOOKUP(F59,#REF!,4,FALSE) -> #REF! | H59: 0 | I59: =G59-J59 -> #REF! | J59: =2000000/1000000 -> 2 | K59: 0 | L59: 0 | M59: Исполнительный орган государственной власти г. Душанбе | N59: Сектор жилищно-коммунального хозяйства | O59: =IF(B59=$B$18,1,0) -> #REF! | P59: 0 | Q59: 1
O60: =IF(B60=$B$18,1,0) -> #REF!
A61: =#REF! -> #REF! | G61: =SUM(G46:G60) -> #REF! | H61: =SUM(H46:H60) -> 0 | I61: =SUM(I46:I60) -> #REF! | J61: =SUM(J46:J60) -> 2 | K61: =SUM(K46:K60) -> 30.938 | L61: =SUM(L46:L60) -> 45.849 | O61: =IF(B61=$B$18,1,0) -> #REF!
B62: =#REF! -> #REF! | C62: =A33 -> Исламский Банк Развития | G62: =G61+G44 -> #REF! | H62: =H61+H44 -> 30.897877 | I62: =I61+I44 -> #REF! | J62: =J61+J44 -> 22.181 | K62: =K61+K44 -> 48.824 | L62: =L61+L44 -> 55.344 | O62: =IF(B62=$B$18,1,0) -> #REF!
O63: =IF(B63=$B$18,1,0) -> #REF!
A64: Саудовский Фонд Развития | G64: =G75 -> #REF! | H64: =H75 -> 0.93827551 | I64: =I75 -> #REF! | J64: =J75 -> 12.623 | K64: =K75 -> 6.72 | L64: =L75 -> 0 | O64: =IF(B64=$B$18,1,0) -> #REF!
A65: =#REF! -> #REF! | O65: =IF(B65=$B$18,1,0) -> #REF!
A66: 31 | B66: 5/481 | C66: Строительство и оборудование 5 средних школ (фаза 2) | D66: Саудовский Фонд Развития | E66: =45000000/1000000 -> 45 | F66: Саудовский риал | G66: =E66*VLOOKUP(F66,#REF!,4,FALSE) -> #REF! | H66: 0.82481938 | I66: 5.71 | J66: =4843000/1000000 -> 4.843 | K66: =600000/1000000 -> 0.6 | L66: 0 | M66: Министерство образования Республики Таджикистан | N66: Сектор образования | O66: =IF(B66=$B$18,1,0) -> #REF! | P66: 1 | Q66: 0
A67: 32 | B67: 6/496 | C67: Востановление больници материнства и детства в г. Худжанде | D67: Саудовский Фонд Развития | E67: =36750000/1000000 -> 36.75 | F67: Саудовский риал | G67: =E67*VLOOKUP(F67,#REF!,4,FALSE) -> #REF! | H67: 0 | I67: 0 | J67: 0.1 | K67: 0 | L67: 0 | M67: Министерство здравоохранения Республики Таджикистан | N67: Сектор здравоохранения | O67: =IF(B67=$B$18,1,0) -> #REF! | P67: 1 | Q67: 0
A68: 33 | B68: 7/522 | C68: Строительство автодороги Куляб-Калайхумб | D68: Саудовский Фонд Развития | E68: =75000000/1000000 -> 75 | F68: Саудовский риал | G68: =E68*VLOOKUP(F68,#REF!,4,FALSE) -> #REF! | H68: 0.11345613 | I68: =G68-H68-J68-K68 -> #REF! | J68: =7680000/1000000 -> 7.68 | K68: =6120000/1000000 -> 6.12 | L68: 0 | M68: Министерство транспорта и коммуникаций Республики Таджикистан | N68: Сектор транспорта и коммуникации | O68: =IF(B68=$B$18,1,0) -> #REF! | P68: 1 | Q68: 0
O69: =IF(B69=$B$18,1,0) -> #REF!
A70: =#REF! -> #REF! | G70: =SUM(G66:G69) -> #REF! | H70: =SUM(H66:H69) -> 0.93827551 | I70: =SUM(I66:I69) -> #REF! | J70: =SUM(J66:J69) -> 12.623 | K70: =SUM(K66:K69) -> 6.72 | L70: =SUM(L66:L69) -> 0 | O70: =IF(B70=$B$18,1,0) -> #REF!
A71: =#REF! -> #REF! | O71: =IF(B71=$B$18,1,0) -> #REF!
D72: выберите кредитора | F72: выберите валюту | M72: Выберите пользователя | O72: =IF(B72=$B$18,1,0) -> #REF!
O73: =IF(B73=$B$18,1,0) -> #REF!
A74: =#REF! -> #REF! | G74: =SUM(G72:G73) -> 0 | H74: =SUM(H72:H73) -> 0 | I74: =SUM(I72:I73) -> 0 | J74: =SUM(J72:J73) -> 0 | K74: =SUM(K72:K73) -> 0 | L74: =SUM(L72:L73) -> 0 | O74: =IF(B74=$B$18,1,0) -> #REF!
B75: =#REF! -> #REF! | C75: =A64 -> Саудовский Фонд Развития | G75: =G74+G70 -> #REF! | H75: =H74+H70 -> 0.93827551 | I75: =I74+I70 -> #REF! | J75: =J74+J70 -> 12.623 | K75: =K74+K70 -> 6.72 | L75: =L74+L70 -> 0 | O75: =IF(B75=$B$18,1,0) -> #REF!
O76: =IF(B76=$B$18,1,0) -> #REF!
A77: Кувейтский Фонд | G77: =G87 -> #REF! | H77: =H87 -> 4.1964857 | I77: =I87 -> 6.331986 | J77: =J87 -> 10.246 | K77: =K87 -> 7.184 | L77: =L87 -> 0.582 | O77: =IF(B77=$B$18,1,0) -> #REF!
A78: =#REF! -> #REF! | O78: =IF(B78=$B$18,1,0) -> #REF!
A79: 34 | B79: 743 | C79: Орошение Дангаринской долины, фаза 2 | D79: Кувейтский Фонд | E79: 4 | F79: Кувейтский динар | G79: =E79*VLOOKUP(F79,#REF!,4,FALSE) -> #REF! | H79: 0.92009565 | I79: ='[1]by creditors'!$I$54 -> 2.521986 | J79: 3.7 | K79: 3 | L79: 0.582 | M79: Министерство мелиорации и водных ресурсов Республики Таджикистан | N79: Сельско-хозяйственный сектор и мелиорация | O79: =IF(B79=$B$18,1,0) -> #REF! | P79: 1 | Q79: 0
A80: 35 | B80: 806 | C80: Строительство автодороги Куляб-Калайхумб | D80: Кувейтский Фонд | E80: 5 | F80: Кувейтский динар | G80: =E80*VLOOKUP(F80,#REF!,4,FALSE) -> #REF! | H80: 3.27639 | I80: 3.81 | J80: 6.546 | K80: 4.184 | L80: 0 | M80: Министерство транспорта и коммуникаций Республики Таджикистан | N80: Сектор транспорта и коммуникации | O80: =IF(B80=$B$18,1,0) -> #REF! | P80: 1 | Q80: 0
O81: =IF(B81=$B$18,1,0) -> #REF!
A82: =#REF! -> #REF! | G82: =SUM(G79:G81) -> #REF! | H82: =SUM(H79:H81) -> 4.1964857 | I82: =SUM(I79:I81) -> 6.331986 | J82: =SUM(J79:J81) -> 10.246 | K82: =SUM(K79:K81) -> 7.184 | L82: =SUM(L79:L81) -> 0.582 | O82: =IF(B82=$B$18,1,0) -> #REF!
A83: =#REF! -> #REF! | O83: =IF(B83=$B$18,1,0) -> #REF!
D84: выберите кредитора | F84: выберите валюту | M84: Выберите пользователя | O84: =IF(B84=$B$18,1,0) -> #REF!
O85: =IF(B85=$B$18,1,0) -> #REF!
A86: =#REF! -> #REF! | G86: =SUM(G84:G85) -> 0 | H86: =SUM(H84:H85) -> 0 | I86: =SUM(I84:I85) -> 0 | J86: =SUM(J84:J85) -> 0 | K86: =SUM(K84:K85) -> 0 | L86: =SUM(L84:L85) -> 0 | O86: =IF(B86=$B$18,1,0) -> #REF!
B87: =#REF! -> #REF! | C87: =A77 -> Кувейтский Фонд | G87: =G86+G82 -> #REF! | H87: =H86+H82 -> 4.1964857 | I87: =I86+I82 -> 6.331986 | J87: =J86+J82 -> 10.246 | K87: =K86+K82 -> 7.184 | L87: =L86+L82 -> 0.582 | O87: =IF(B87=$B$18,1,0) -> #REF!
O88: =IF(B88=$B$18,1,0) -> #REF!
A89: Фонд Абу-Даби | G89: =G98 -> #REF! | H89: =H98 -> 0 | I89: =I98 -> 0 | J89: =J98 -> 5.97 | K89: =K98 -> 4.38 | L89: =L98 -> 0 | O89: =IF(B89=$B$18,1,0) -> #REF!
A90: =#REF! -> #REF! | O90: =IF(B90=$B$18,1,0) -> #REF!
A91: 36 | B91: 30021 | C91: Строительство автодороги Куляб-Калайхумб | D91: Фонд Абу-Даби | E91: 55.1 | F91: Дирам ОАЭ | G91: =E91*VLOOKUP(F91,#REF!,4,FALSE) -> #REF! | H91: 0 | I91: 0 | J91: 5.97 | K91: 4.38 | L91: 0 | M91: Министерство транспорта и коммуникаций Республики Таджикистан | N91: Сектор транспорта и коммуникации | O91: =IF(B91=$B$18,1,0) -> #REF! | P91: 1 | Q91: 0 | S91: =K91+J91 -> 10.35
O92: =IF(B92=$B$18,1,0) -> #REF!
A93: =#REF! -> #REF! | G93: =SUM(G91:G92) -> #REF! | H93: =SUM(H91:H92) -> 0 | I93: =SUM(I91:I92) -> 0 | J93: =SUM(J91:J92) -> 5.97 | K93: =SUM(K91:K92) -> 4.38 | L93: =SUM(L91:L92) -> 0 | O93: =IF(B93=$B$18,1,0) -> #REF!
A94: =#REF! -> #REF! | O94: =IF(B94=$B$18,1,0) -> #REF!
D95: выберите кредитора | F95: выберите валюту | M95: Выберите пользователя | O95: =IF(B95=$B$18,1,0) -> #REF!
O96: =IF(B96=$B$18,1,0) -> #REF!
A97: =#REF! -> #REF! | G97: =SUM(G95:G96) -> 0 | H97: =SUM(H95:H96) -> 0 | I97: =SUM(I95:I96) -> 0 | J97: =SUM(J95:J96) -> 0 | K97: =SUM(K95:K96) -> 0 | L97: =SUM(L95:L96) -> 0 | O97: =IF(B97=$B$18,1,0) -> #REF!
B98: =#REF! -> #REF! | C98: =A89 -> Фонд Абу-Даби | G98: =G97+G93 -> #REF! | H98: =H97+H93 -> 0 | I98: =I97+I93 -> 0 | J98: =J97+J93 -> 5.97 | K98: =K97+K93 -> 4.38 | L98: =L97+L93 -> 0 | O98: =IF(B98=$B$18,1,0) -> #REF!
O99: =IF(B99=$B$18,1,0) -> #REF!
A100: Фонд ОПЕК | G100: =G112 -> #REF! | H100: =H112 -> 9.175172 | I100: =I112 -> 2.8248282 | J100: =J112 -> 16.52 | K100: =K112 -> 9.8 | L100: =L112 -> 5 | O100: =IF(B100=$B$18,1,0) -> #REF!
A101: =#REF! -> #REF! | O101: =IF(B101=$B$18,1,0) -> #REF!
A102: 37 | B102: 1069Р | C102: Строительство больницы общего профиля в г.Дангара | D102: Фонд ОПЕК | E102: 8.35 | F102: Долар США | G102: =E102*VLOOKUP(F102,#REF!,4,FALSE) -> #REF! | H102: 0 | I102: 0 | J102: 8.35 | K102: 0 | L102: 0 | M102: Министерство здравоохранения Республики Таджикистан | N102: Сектор здравоохранения | O102: =IF(B102=$B$18,1,0) -> #REF! | P102: 1 | Q102: 0
...

Sheet G.Sectors (Rus)
A2: Программа государственных внешних заимствований Республики Таджикистан на 2013-2015гг
M4: (млн.долл.США)
A5: № п/п | B5: № кред. | C5: Наименование проектов по кредиторам | D5: Наимен. кредитора | E5: Сумма кредита в валюте подписания | G5: Сумма кредита в долл. США по сост. на 01.06.12г. | H5: Исполь-зовано до 01.01.2012г. | I5: Ожидаемое использо-вание в 2012 году | J5: Прогноз использования кредита на: | M5: Субъекты Республики Таджикистан, использующие кредит | N5: Сектор | O5: знак для сумма Итого | R5: Ожидаемое использо-вание в 2013 году
J6: 2013г. | K6: 2014г. | L6: 2015г.
A7: Сельско-хозяйственный сектор и мелиорация | G7: =G23 -> #REF! | H7: =H23 -> 39.855974 | I7: =I23 -> #REF! | J7: =J23 -> 12.098 | K7: =K23 -> 11.866 | L7: =L23 -> 10.694 | R7: =IF(H7='Sectors (Taj)'!H7,1,"Лож") -> Лож | U7: =IF(H7='Sectors (Taj)'!H7,1,wrong) -> #NAME?
A8: =#REF! -> #REF! | U8: =IF(H8='Sectors (Taj)'!H8,1,wrong) -> 1
A9: 1 | B9: 43140 | C9: Восстановление хлопкового сектора | D9: Всемирный Банк | E9: 10 | F9: СПЗ | G9: =E9*VLOOKUP(F9,#REF!,4,FALSE) -> #REF! | H9: 13.317088 | I9: 1.4332612 | J9: 0.317 | K9: 0 | L9: 0 | M9: Министерство сельского хозяйства Республики Таджикистан | N9: Сельско-хозяйственный сектор и мелиорация | O9: =IF(B9=$B$23,1,0) -> #REF! | P9: 1 | S9: =J9+I9+H9 -> 15.067349 | U9: =IF(H9='Sectors (Taj)'!#REF!,1,wrong) -> #REF!
A10: 2 | B10: 2271 | C10: Устойчивое развитие хлопкового сектора | D10: Азиатский Банк Развития | E10: 3.712 | F10: СПЗ | G10: =E10*VLOOKUP(F10,#REF!,4,FALSE) -> #REF! | H10: 2.851139 | I10: 2.74 | J10: 0 | K10: 0 | L10: 0 | M10: Министерство сельского хозяйства Республики Таджикистан | N10: Сельско-хозяйственный сектор и мелиорация | O10: =IF(B10=$B$23,1,0) -> #REF! | P10: 1 | U10: =IF(H10='Sectors (Taj)'!#REF!,1,wrong) -> #REF!
A11: 3 | B11: 2313 | C11: Развитие сельской местности | D11: Азиатский Банк Развития | E11: 5.92 | F11: СПЗ | G11: =E11*VLOOKUP(F11,#REF!,4,FALSE) -> #REF! | H11: 0.20389079 | I11: =G11-H11-J11-K11 -> #REF! | J11: 3.252 | K11: 0.516 | L11: 0 | M11: Министерство сельского хозяйства Республики Таджикистан | N11: Сельско-хозяйственный сектор и мелиорация | O11: =IF(B11=$B$23,1,0) -> #REF! | P11: 1 | U11: =IF(H11='Sectors (Taj)'!#REF!,1,wrong) -> #REF!
A12: 4 | B12: 743 | C12: Орошение Дангаринской долины, фаза 2 | D12: Кувейтский Фонд | E12: 4 | F12: Кувейтский динар | G12: =E12*VLOOKUP(F12,#REF!,4,FALSE) -> #REF! | H12: 0.92009565 | I12: ='[1]by creditors'!$I$54 -> 2.521986 | J12: 3.7 | K12: 3 | L12: 0.582 | M12: Министерство мелиорации и водных ресурсов Республики Таджикистан | N12: Сельско-хозяйственный сектор и мелиорация | O12: =IF(B12=$B$23,1,0) -> #REF! | P12: 1 | U12: =IF(H12='Sectors (Taj)'!#REF!,1,wrong) -> #REF!
A13: 5 | B13: 2356 | C13: Управление угрозой наводнений в Хатлонской области | D13: Азиатский Банк Развития | E13: 14.403 | F13: СПЗ | G13: =E13*VLOOKUP(F13,#REF!,4,FALSE) -> #REF! | H13: 19.621391 | I13: =G13-H13-J13 -> #REF! | J13: 0.729 | K13: 0 | L13: 0 | M13: Министерство мелиорации и водных ресурсов Республики Таджикистан | N13: Сельско-хозяйственный сектор и мелиорация | O13: =IF(B13=$B$23,1,0) -> #REF! | P13: 1 | U13: =IF(H13='Sectors (Taj)'!#REF!,1,wrong) -> #REF!
A14: 6 | B14: 2TAD0032 | C14: Орошение Дангаринской долины, фаза 2 | D14: Исламский Банк Развития | E14: =8500000/1000000 -> 8.5 | F14: Исламский динар | G14: =E14*VLOOKUP(F14,#REF!,4,FALSE) -> #REF! | H14: 2.9423686 | I14: =G14-H14-J14-K14-L14 -> #REF! | J14: =4100000/1000000 -> 4.1 | K14: =3350000/1000000 -> 3.35 | L14: =1612000/1000000 -> 1.612 | M14: Министерство мелиорации и водных ресурсов Республики Таджикистан | N14: Сельско-хозяйственный сектор и мелиорация | O14: =IF(B14=$B$23,1,0) -> #REF! | P14: 1 | U14: =IF(H14='Sectors (Taj)'!#REF!,1,wrong) -> #REF!
O15: =IF(B15=$B$23,1,0) -> #REF! | U15: =IF(H15='Sectors (Taj)'!H17,1,wrong) -> 1
A16: =#REF! -> #REF! | G16: =SUM(G9:G15) -> #REF! | H16: =SUM(H9:H15) -> 39.855974 | I16: =SUM(I9:I15) -> #REF! | J16: =SUM(J9:J15) -> 12.098 | K16: =SUM(K9:K15) -> 6.866 | L16: =SUM(L9:L15) -> 2.194 | O16: =IF(B16=$B$23,1,0) -> #REF! | U16: =IF(H16='Sectors (Taj)'!H18,1,wrong) -> #NAME?
A17: =#REF! -> #REF! | O17: =IF(B17=$B$23,1,0) -> #REF! | U17: =IF(H17='Sectors (Taj)'!H19,1,wrong) -> 1
A18: 1 | C18: Орошение Дангаринской долины, фаза 3 | D18: Исламский Банк Развития | F18: Исламский динар | G18: 10 | H18: 0 | I18: 0 | J18: 0 | K18: 1 | L18: 3 | M18: Министерство мелиорации и водных ресурсов Республики Таджикистан | N18: Сельско-хозяйственный сектор и мелиорация | O18: =IF(B18=$B$23,1,0) -> #REF! | Q18: 1 | U18: =IF(H18='Sectors (Taj)'!#REF!,1,wrong) -> #REF!
A19: 2 | C19: Реабилитация ирригационных систем | D19: Исламский Банк Развития | F19: Исламский динар | G19: 3.3 | H19: 0 | I19: 0 | J19: 0 | K19: 1 | L19: 0.5 | M19: Министерство мелиорации и водных ресурсов Республики Таджикистан | N19: Сельско-хозяйственный сектор и мелиорация | O19: =IF(B19=$B$23,1,0) -> #REF! | Q19: 1 | U19: =IF(H19='Sectors (Taj)'!H20,1,wrong) -> 1
A20: 3 | C20: Развитие водных сетей Дангаринской долины | D20: Исламский Банк Развития | F20: Исламский динар | G20: 15 | H20: 0 | I20: 0 | J20: 0 | K20: 3 | L20: 5 | M20: Министерство мелиорации и водных ресурсов Республики Таджикистан | N20: Сельско-хозяйственный сектор и мелиорация | O20: =IF(B20=$B$23,1,0) -> #REF! | Q20: 1 | U20: =IF(H20='Sectors (Taj)'!#REF!,1,wrong) -> #REF!
O21: =IF(B21=$B$23,1,0) -> #REF! | U21: =IF(H21='Sectors (Taj)'!H30,1,wrong) -> 1
A22: =#REF! -> #REF! | G22: =SUM(G18:G21) -> 28.3 | H22: =SUM(H18:H21) -> 0 | I22: =SUM(I18:I21) -> 0 | J22: =SUM(J18:J21) -> 0 | K22: =SUM(K18:K21) -> 5 | L22: =SUM(L18:L21) -> 8.5 | O22: =IF(B22=$B$23,1,0) -> #REF! | U22: =IF(H22='Sectors (Taj)'!H31,1,wrong) -> 1
B23: =#REF! -> #REF! | C23: =A7 -> Сельско-хозяйственный сектор и мелиорация | G23: =G22+G16 -> #REF! | H23: =H22+H16 -> 39.855974 | I23: =I22+I16 -> #REF! | J23: =J22+J16 -> 12.098 | K23: =K22+K16 -> 11.866 | L23: =L22+L16 -> 10.694 | O23: =IF(B23=$B$23,1,0) -> #REF! | U23: =IF(H23='Sectors (Taj)'!H32,1,wrong) -> #NAME?
O24: =IF(B24=$B$23,1,0) -> #REF! | U24: =IF(H24='Sectors (Taj)'!H33,1,wrong) -> 1
A25: Сектор здравоохранения | G25: =G36 -> #REF! | H25: =H36 -> 7.28701 | I25: =I36 -> #REF! | J25: =J36 -> 9.598 | K25: =K36 -> 2 | L25: =L36 -> 2.154 | O25: =IF(B25=$B$23,1,0) -> #REF! | U25: =IF(H25='Sectors (Taj)'!H34,1,wrong) -> #NAME?
A26: =#REF! -> #REF! | O26: =IF(B26=$B$23,1,0) -> #REF! | U26: =IF(H26='Sectors (Taj)'!H35,1,wrong) -> 1
A27: 1 | B27: 3011 | C27: Строительство больницы общего профиля в г.Дангара | D27: Исламский Банк Развития | E27: 7 | F27: Исламский динар | G27: =E27*VLOOKUP(F27,#REF!,4,FALSE) -> #REF! | H27: 7.28701 | I27: =G27-H27-J27 -> #REF! | J27: =1148000/1000000 -> 1.148 | K27: 0 | L27: 0 | M27: Министерство здравоохранения Республики Таджикистан | N27: Сектор здравоохранения | O27: =IF(B27=$B$23,1,0) -> #REF! | P27: 1 | S27: =J27+I27+H27 -> #REF! | U27: =IF(H27='Sectors (Taj)'!#REF!,1,wrong) -> #REF!
A28: 2 | B28: 6/496 | C28: Востановление больници материнства и детства в г. Худжанде | D28: Саудовский Фонд Развития | E28: 36.75 | F28: Саудовский риал | G28: 9.7840659 | H28: 0 | I28: 0 | J28: 0.1 | K28: 0 | L28: 0 | M28: Министерство здравоохранения Республики Таджикистан | N28: Сектор здравоохранения | O28: =IF(B28=$B$23,1,0) -> #REF! | P28: 1 | U28: =IF(H28='Sectors (Taj)'!#REF!,1,wrong) -> #REF!
A29: 3 | B29: 1069Р | C29: Строительство больницы общего профиля в г.Дангара | D29: Фонд ОПЕК | E29: 8.35 | F29: Долар США | G29: 8.35 | H29: 0 | I29: 0 | J29: 8.35 | K29: 0 | L29: 0 | M29: Министерство здравоохранения Республики Таджикистан | N29: Сектор здравоохранения | O29: =IF(B29=$B$23,1,0) -> #REF! | P29: 1 | U29: =IF(H29='Sectors (Taj)'!#REF!,1,wrong) -> #REF!
O30: =IF(B30=$B$23,1,0) -> #REF! | U30: =IF(H30='Sectors (Taj)'!H36,1,wrong) -> #NAME?
A31: =#REF! -> #REF! | G31: =SUM(G27:G30) -> #REF! | H31: =SUM(H27:H30) -> 7.28701 | I31: =SUM(I27:I30) -> #REF! | J31: =SUM(J27:J30) -> 9.598 | K31: =SUM(K27:K30) -> 0 | L31: =SUM(L27:L30) -> 0 | O31: =IF(B31=$B$23,1,0) -> #REF! | U31: =IF(H31='Sectors (Taj)'!H38,1,wrong) -> #NAME?
A32: =#REF! -> #REF! | O32: =IF(B32=$B$23,1,0) -> #REF! | U32: =IF(H32='Sectors (Taj)'!H39,1,wrong) -> 1
A33: 1 | C33: Строительство инфекционной больницы в Душанбе | D33: Исламский Банк Развития | F33: Исламский динар | G33: 8 | H33: 0 | I33: 0 | J33: 0 | K33: 2 | L33: 2.154 | M33: Исполнительный орган государственной власти г. Душанбе | N33: Сектор здравоохранения | O33: =IF(B33=$B$23,1,0) -> #REF! | Q33: 1 | U33: =IF(H33='Sectors (Taj)'!H40,1,wrong) -> 1
O34: =IF(B34=$B$23,1,0) -> #REF! | U34: =IF(H34='Sectors (Taj)'!H44,1,wrong) -> 1
A35: =#REF! -> #REF! | G35: =SUM(G33:G34) -> 8 | H35: =SUM(H33:H34) -> 0 | I35: =SUM(I33:I34) -> 0 | J35: =SUM(J33:J34) -> 0 | K35: =SUM(K33:K34) -> 2 | L35: =SUM(L33:L34) -> 2.154 | O35: =IF(B35=$B$23,1,0) -> #REF! | U35: =IF(H35='Sectors (Taj)'!H45,1,wrong) -> 1
B36: =#REF! -> #REF! | C36: =A25 -> Сектор здравоохранения | G36: =G31+G35 -> #REF! | H36: =H31+H35 -> 7.28701 | I36: =I31+I35 -> #REF! | J36: =J31+J35 -> 9.598 | K36: =K31+K35 -> 2 | L36: =L31+L35 -> 2.154 | O36: =IF(B36=$B$23,1,0) -> #REF! | U36: =IF(H36='Sectors (Taj)'!H46,1,wrong) -> #NAME?
O37: =IF(B37=$B$23,1,0) -> #REF! | U37: =IF(H37='Sectors (Taj)'!H47,1,wrong) -> 1
A38: Сектор образования | G38: =G48 -> 43.369697 | H38: =H48 -> 14.218568 | I38: =I48 -> 8.816459 | J38: =J48 -> 5.116 | K38: =K48 -> 7.333 | L38: =L48 -> 7.883 | O38: =IF(B38=$B$23,1,0) -> #REF! | U38: =IF(H38='Sectors (Taj)'!H48,1,wrong) -> #NAME?
A39: =#REF! -> #REF! | O39: =IF(B39=$B$23,1,0) -> #REF! | U39: =IF(H39='Sectors (Taj)'!H49,1,wrong) -> 1
A40: 1 | B40: 37590 | C40: Модернизация сектора образования | D40: Всемирный Банк | E40: 9.5 | F40: СПЗ | G40: 14.3089 | H40: 13.393749 | I40: 0.91515096 | J40: 0 | K40: 0 | L40: 0 | M40: Министерство образования Республики Таджикистан | N40: Сектор образования | O40: =IF(B40=$B$23,1,0) -> #REF! | P40: 1 | S40: =I40+H40 -> 14.3089 | U40: =IF(H40='Sectors (Taj)'!#REF!,1,wrong) -> #REF!
A41: 2 | B41: TAD_0091 | C41: Строительство средних школ, фаза 3 | D41: Исламский Банк Развития | E41: 11.34 | F41: Исламский динар | G41: 17.080308 | H41: 0 | I41: =G41-J41-K41-L41 -> 2.191308 | J41: 0.273 | K41: 6.733 | L41: 7.883 | M41: Министерство образования Республики Таджикистан | N41: Сектор образования | O41: =IF(B41=$B$23,1,0) -> #REF! | P41: 1 | S41: =L41+K41+J41+I41 -> 17.080308 | U41: =IF(H41='Sectors (Taj)'!H50,1,wrong) -> #NAME?
A42: 3 | B42: 5/481 | C42: Строительство и оборудование 5 средних школ (фаза 2) | D42: Саудовский Фонд Развития | E42: 45 | F42: Саудовский риал | G42: 11.980489 | H42: 0.82481938 | I42: 5.71 | J42: 4.843 | K42: 0.6 | L42: 0 | M42: Министерство образования Республики Таджикистан | N42: Сектор образования | O42: =IF(B42=$B$23,1,0) -> #REF! | P42: 1 | U42: =IF(H42='Sectors (Taj)'!#REF!,1,wrong) -> #REF!
O43: =IF(B43=$B$23,1,0) -> #REF! | U43: =IF(H43='Sectors (Taj)'!H56,1,wrong) -> 1
A44: =#REF! -> #REF! | G44: =SUM(G40:G43) -> 43.369697 | H44: =SUM(H40:H43) -> 14.218568 | I44: =SUM(I40:I43) -> 8.816459 | J44: =SUM(J40:J43) -> 5.116 | K44: =SUM(K40:K43) -> 7.333 | L44: =SUM(L40:L43) -> 7.883 | O44: =IF(B44=$B$23,1,0) -> #REF! | U44: =IF(H44='Sectors (Taj)'!H57,1,wrong) -> #NAME?
A45: =#REF! -> #REF! | O45: =IF(B45=$B$23,1,0) -> #REF! | U45: =IF(H45='Sectors (Taj)'!H58,1,wrong) -> 1
O46: =IF(B46=$B$23,1,0) -> #REF! | U46: =IF(H46='Sectors (Taj)'!H63,1,wrong) -> 1
A47: =#REF! -> #REF! | G47: =SUM(G46:G46) -> 0 | H47: =SUM(H46:H46) -> 0 | I47: =SUM(I46:I46) -> 0 | J47: =SUM(J46:J46) -> 0 | K47: =SUM(K46:K46) -> 0 | L47: =SUM(L46:L46) -> 0 | O47: =IF(B47=$B$23,1,0) -> #REF! | U47: =IF(H47='Sectors (Taj)'!H64,1,wrong) -> 1
B48: =#REF! -> #REF! | C48: =A38 -> Сектор образования | G48: =G47+G44 -> 43.369697 | H48: =H47+H44 -> 14.218568 | I48: =I47+I44 -> 8.816459 | J48: =J47+J44 -> 5.116 | K48: =K47+K44 -> 7.333 | L48: =L47+L44 -> 7.883 | O48: =IF(B48=$B$23,1,0) -> #REF! | U48: =IF(H48='Sectors (Taj)'!H65,1,wrong) -> #NAME?
O49: =IF(B49=$B$23,1,0) -> #REF! | U49: =IF(H49='Sectors (Taj)'!H66,1,wrong) -> 1
A50: Энергетический и промышленный сектор | G50: =G74 -> #REF! | H50: =H74 -> 94.897556 | I50: =I74 -> #REF! | J50: =J74 -> 38.428 | K50: =K74 -> 31.12 | L50: =L74 -> 32.69 | O50: =IF(B50=$B$23,1,0) -> #REF! | U50: =IF(H50='Sectors (Taj)'!H67,1,wrong) -> #NAME?
A51: =#REF! -> #REF! | O51: =IF(B51=$B$23,1,0) -> #REF! | U51: =IF(H51='Sectors (Taj)'!H68,1,wrong) -> 1
A52: 1 | B52: 36820 | C52: Проект энергетического сектора Памир ГЭС | D52: Всемирный Банк | E52: 7.9 | F52: СПЗ | G52: =E52*VLOOKUP(F52,#REF!,4,FALSE) -> #REF! | H52: 11.102055 | I52: =G52-H52 -> #REF! | J52: 0 | K52: 0 | L52: 0 | M52: Министерство энергетики и промышленности Республики Таджикистан | N52: Энергетический и промышленный сектор | O52: =IF(B52=$B$23,1,0) -> #REF! | P52: 1 | U52: =IF(H52='Sectors (Taj)'!#REF!,1,wrong) -> #REF!
A53: 2 | B53: 1428H | C53: Региональный проект по строительству линий электропередач (Таджикистан -Афганистан) | D53: Исламский Банк Развития | E53: =9550000/1000000 -> 9.55 | F53: Исламский динар | G53: =E53*VLOOKUP(F53,#REF!,4,FALSE) -> #REF! | H53: 5.8011331 | I53: =G53-H53 -> #REF! | J53: 0 | K53: 0 | L53: 0 | M53: Министерство энергетики и промышленности Республики Таджикистан | N53: Энергетический и промышленный сектор | O53: =IF(B53=$B$23,1,0) -> #REF! | P53: 1 | U53: =IF(H53='Sectors (Taj)'!#REF!,1,wrong) -> #REF!
A54: 3 | B54: 1428H (Доп.сумма) | C54: Региональный проект по строительству линий электропередач (Таджикистан -Афганистан) | D54: Исламский Банк Развития | E54: =1280000/1000000 -> 1.28 | F54: Исламский динар | G54: =E54*VLOOKUP(F54,#REF!,4,FALSE) -> #REF! | H54: 0.963968 | I54: =1927936/1000000/2 -> 0.963968 | J54: 0 | K54: 0 | L54: 0 | M54: Министерство энергетики и промышленности Республики Таджикистан | N54: Энергетический и промышленный сектор | O54: =IF(B54=$B$23,1,0) -> #REF! | P54: 1 | U54: =IF(H54='Sectors (Taj)'!#REF!,1,wrong) -> #REF!
A55: 4 | B55: 1141P | C55: Региональный проект по строительству линий электропередач (Таджикистан -Афганистан) | D55: Фонд ОПЕК | E55: 8.5 | F55: Долар США | G55: 8.5 | H55: 5.850172 | I55: 2.6498282 | J55: 0 | K55: 0 | L55: 0 | M55: Министерство энергетики и промышленности Республики Таджикистан | N55: Энергетический и промышленный сектор | O55: =IF(B55=$B$23,1,0) -> #REF! | P55: 1 | U55: =IF(H55='Sectors (Taj)'!#REF!,1,wrong) -> #REF!
A56: 5 | B56: 41538 | C56: Снижение потерь электрической энергии в Сугдской Области | D56: ЕБРР | E56: 10.15 | F56: Долар США | G56: =E56*VLOOKUP(F56,#REF!,4,FALSE) -> #REF! | H56: 0 | I56: 0 | J56: 3 | K56: 4 | L56: 3.15 | M56: Министерство энергетики и промышленности Республики Таджикистан | N56: Энергетический и промышленный сектор | O56: =IF(B56=$B$23,1,0) -> #REF! | P56: 1 | U56: =IF(H56='Sectors (Taj)'!H69,1,wrong) -> #NAME?
A57: 6 | B57: 2010(024)TOTAL№ (131) | C57: Строительство ЛЭП 220 кВ "Худжанд-Айни" | D57: Эксимбанк Китая | E57: =35055000/1000000 -> 35.055 | F57: Долар США | G57: =E57*VLOOKUP(F57,#REF!,4,FALSE) -> #REF! | H57: 33.209999 | I57: 1.848 | J57: 0 | K57: 0 | L57: 0 | M57: Министерство энергетики и промышленности Республики Таджикистан | N57: Энергетический и промышленный сектор | O57: =IF(B57=$B$23,1,0) -> #REF! | P57: 1 | U57: =IF(H57='Sectors (Taj)'!#REF!,1,wrong) -> #REF!
A58: 7 | B58: 2011(19)Total№ (170) | C58: Создание единой электросистемы севера РТ | D58: Эксимбанк Китая | E58: =26463789/1000000 -> 26.463789 | F58: Долар США | G58: =E58*VLOOKUP(F58,#REF!,4,FALSE) -> #REF! | H58: 25.070958 | I58: 1.392831 | J58: 0 | K58: 0 | L58: 0 | M58: Министерство энергетики и промышленности Республики Таджикистан | N58: Энергетический и промышленный сектор | O58: =IF(B58=$B$23,1,0) -> #REF! | P58: 1 | U58: =IF(H58='Sectors (Taj)'!#REF!,1,wrong) -> #REF!
A59: 8 | B59: 00.1 | C59: Замена распределительного устройства 220 кВт на Нурекской ГЭС | D59: Германия Немецкий Банк KFW | E59: 18 | F59: Евро | G59: 22.1796 | H59: 12.899271 | I59: 5.73 | J59: 3.548 | K59: 0 | L59: 0 | M59: Министерство энергетики и промышленности Республики Таджикистан | N59: Энергетический и промышленный сектор | O59: =IF(B59=$B$23,1,0) -> #REF! | P59: 1 | S59: =J59+I59+H59 -> 22.177271 | U59: =IF(H59='Sectors (Taj)'!#REF!,1,wrong) -> #REF!
A60: 9 | B60: 0675. | C60: Снижение потерь электрической энергии в Сугдской Области | D60: Европейский Инвестиционный Банк | E60: 10.1416 | F60: Долар США | G60: 10.1416 | H60: 0 | I60: 0 | J60: 3 | K60: 4 | L60: 3.14 | M60: Министерство энергетики и промышленности Республики Таджикистан | N60: Энергетический и промышленный сектор | O60: =IF(B60=$B$23,1,0) -> #REF! | P60: 1 | U60: =IF(H60='Sectors (Taj)'!H70,1,wrong) -> #NAME?
O61: =IF(B61=$B$23,1,0) -> #REF! | U61: =IF(H61='Sectors (Taj)'!H87,1,wrong) -> 1
A62: =#REF! -> #REF! | G62: =SUM(G52:G61) -> #REF! | H62: =SUM(H52:H61) -> 94.897556 | I62: =SUM(I52:I61) -> #REF! | J62: =SUM(J52:J61) -> 9.548 | K62: =SUM(K52:K61) -> 8 | L62: =SUM(L52:L61) -> 6.29 | O62: =IF(B62=$B$23,1,0) -> #REF! | U62: =IF(H62='Sectors (Taj)'!H88,1,wrong) -> #NAME?
A63: =#REF! -> #REF! | O63: =IF(B63=$B$23,1,0) -> #REF! | U63: =IF(H63='Sectors (Taj)'!H89,1,wrong) -> 1
A64: 2 | C64: Линия электропередач 500 кВ "Север-Юг" (Худжанд-Датка) | D64: Исламский Банк Развития | F64: Исламский динар | G64: 10 | H64: 0 | I64: 0 | J64: 0 | K64: 1 | L64: 5 | M64: Министерство энергетики и промышленности Республики Таджикистан | N64: Энергетический и промышленный сектор | O64: =IF(B64=$B$23,1,0) -> #REF! | Q64: 1 | U64: =IF(H64='Sectors (Taj)'!#REF!,1,wrong) -> #REF!
